BEGIN:VCALENDAR
VERSION:2.0
PRODID:-//Sons of Italy Waltham - ECPv6.15.11//NONSGML v1.0//EN
CALSCALE:GREGORIAN
METHOD:PUBLISH
X-WR-CALNAME:Sons of Italy Waltham
X-ORIGINAL-URL:https://walthamsonsofitaly.com
X-WR-CALDESC:Events for Sons of Italy Waltham
REFRESH-INTERVAL;VALUE=DURATION:PT1H
X-Robots-Tag:noindex
X-PUBLISHED-TTL:PT1H
BEGIN:VTIMEZONE
TZID:America/New_York
BEGIN:DAYLIGHT
TZOFFSETFROM:-0500
TZOFFSETTO:-0400
TZNAME:EDT
DTSTART:20220313T070000
END:DAYLIGHT
BEGIN:STANDARD
TZOFFSETFROM:-0400
TZOFFSETTO:-0500
TZNAME:EST
DTSTART:20221106T060000
END:STANDARD
BEGIN:DAYLIGHT
TZOFFSETFROM:-0500
TZOFFSETTO:-0400
TZNAME:EDT
DTSTART:20230312T070000
END:DAYLIGHT
BEGIN:STANDARD
TZOFFSETFROM:-0400
TZOFFSETTO:-0500
TZNAME:EST
DTSTART:20231105T060000
END:STANDARD
BEGIN:DAYLIGHT
TZOFFSETFROM:-0500
TZOFFSETTO:-0400
TZNAME:EDT
DTSTART:20240310T070000
END:DAYLIGHT
BEGIN:STANDARD
TZOFFSETFROM:-0400
TZOFFSETTO:-0500
TZNAME:EST
DTSTART:20241103T060000
END:STANDARD
END:VTIMEZONE
BEGIN:VEVENT
DTSTART;TZID=America/New_York:20231104T170000
DTEND;TZID=America/New_York:20231104T210000
DTSTAMP:20260424T223811
CREATED:20231004T174525Z
LAST-MODIFIED:20231004T174525Z
UID:10001226-1699117200-1699131600@walthamsonsofitaly.com
SUMMARY:Babyshower
DESCRIPTION:150 guests\, 5pm to 9pm\, regular set up
URL:https://walthamsonsofitaly.com/event/babyshower-16/
CATEGORIES:Upstairs
END:VEVENT
BEGIN:VEVENT
DTSTART;TZID=America/New_York:20231111T190000
DTEND;TZID=America/New_York:20231111T230000
DTSTAMP:20260424T223811
CREATED:20230517T153420Z
LAST-MODIFIED:20230517T153420Z
UID:10001189-1699729200-1699743600@walthamsonsofitaly.com
SUMMARY:1st Bday
DESCRIPTION:100 guests\, 7-11pm\, possibility of extra hour
URL:https://walthamsonsofitaly.com/event/1st-bday-10/
CATEGORIES:Upstairs
END:VEVENT
BEGIN:VEVENT
DTSTART;TZID=America/New_York:20231111T190000
DTEND;TZID=America/New_York:20231111T230000
DTSTAMP:20260424T223811
CREATED:20230715T144204Z
LAST-MODIFIED:20230715T144204Z
UID:10001196-1699729200-1699743600@walthamsonsofitaly.com
SUMMARY:1st Bday
DESCRIPTION:100 guests\, 7-11pm\, possibility of extra hour
URL:https://walthamsonsofitaly.com/event/1st-bday-11/
CATEGORIES:Upstairs
END:VEVENT
BEGIN:VEVENT
DTSTART;TZID=America/New_York:20231111T190000
DTEND;TZID=America/New_York:20231111T230000
DTSTAMP:20260424T223811
CREATED:20231004T174737Z
LAST-MODIFIED:20231004T174737Z
UID:10001227-1699729200-1699743600@walthamsonsofitaly.com
SUMMARY:1st Bday
DESCRIPTION:100 guests\, 7pm to 11pm\, possibility of extra hour
URL:https://walthamsonsofitaly.com/event/1st-bday-16/
CATEGORIES:Upstairs
END:VEVENT
BEGIN:VEVENT
DTSTART;TZID=America/New_York:20231112T150000
DTEND;TZID=America/New_York:20231112T190000
DTSTAMP:20260424T223811
CREATED:20230517T153749Z
LAST-MODIFIED:20230517T153749Z
UID:10001190-1699801200-1699815600@walthamsonsofitaly.com
SUMMARY:Bday
DESCRIPTION:80 guests\, possible inflatable
URL:https://walthamsonsofitaly.com/event/bday-6/
CATEGORIES:Upstairs
END:VEVENT
BEGIN:VEVENT
DTSTART;TZID=America/New_York:20231118T180000
DTEND;TZID=America/New_York:20231118T220000
DTSTAMP:20260424T223811
CREATED:20231004T174945Z
LAST-MODIFIED:20231004T174945Z
UID:10001228-1700330400-1700344800@walthamsonsofitaly.com
SUMMARY:Babyshower
DESCRIPTION:150 guests (possibly 200 standing)\, 6pm to 10 pm\, possibility of extra hour
URL:https://walthamsonsofitaly.com/event/babyshower-17/
CATEGORIES:Upstairs
END:VEVENT
BEGIN:VEVENT
DTSTART;TZID=America/New_York:20231119T080000
DTEND;TZID=America/New_York:20231119T170000
DTSTAMP:20260424T223811
CREATED:20231004T175210Z
LAST-MODIFIED:20231004T175210Z
UID:10001229-1700380800-1700413200@walthamsonsofitaly.com
SUMMARY:Celebration of destination wedding
DESCRIPTION:150 guests\, regular set up
URL:https://walthamsonsofitaly.com/event/celebration-of-destination-wedding/
CATEGORIES:Upstairs
END:VEVENT
BEGIN:VEVENT
DTSTART;TZID=America/New_York:20231125T180000
DTEND;TZID=America/New_York:20231125T220000
DTSTAMP:20260424T223811
CREATED:20231004T180846Z
LAST-MODIFIED:20231004T180846Z
UID:10001237-1700935200-1700949600@walthamsonsofitaly.com
SUMMARY:30th Bday
DESCRIPTION:150 guests\, 6pm to 10pm\, possibility of extra hour
URL:https://walthamsonsofitaly.com/event/30th-bday-2/
CATEGORIES:Upstairs
END:VEVENT
END:VCALENDAR