BEGIN:VCALENDAR
VERSION:2.0
PRODID:-//Sons of Italy Waltham - ECPv6.15.11//NONSGML v1.0//EN
CALSCALE:GREGORIAN
METHOD:PUBLISH
X-ORIGINAL-URL:https://walthamsonsofitaly.com
X-WR-CALDESC:Events for Sons of Italy Waltham
REFRESH-INTERVAL;VALUE=DURATION:PT1H
X-Robots-Tag:noindex
X-PUBLISHED-TTL:PT1H
BEGIN:VTIMEZONE
TZID:America/New_York
BEGIN:DAYLIGHT
TZOFFSETFROM:-0500
TZOFFSETTO:-0400
TZNAME:EDT
DTSTART:20230312T070000
END:DAYLIGHT
BEGIN:STANDARD
TZOFFSETFROM:-0400
TZOFFSETTO:-0500
TZNAME:EST
DTSTART:20231105T060000
END:STANDARD
BEGIN:DAYLIGHT
TZOFFSETFROM:-0500
TZOFFSETTO:-0400
TZNAME:EDT
DTSTART:20240310T070000
END:DAYLIGHT
BEGIN:STANDARD
TZOFFSETFROM:-0400
TZOFFSETTO:-0500
TZNAME:EST
DTSTART:20241103T060000
END:STANDARD
BEGIN:DAYLIGHT
TZOFFSETFROM:-0500
TZOFFSETTO:-0400
TZNAME:EDT
DTSTART:20250309T070000
END:DAYLIGHT
BEGIN:STANDARD
TZOFFSETFROM:-0400
TZOFFSETTO:-0500
TZNAME:EST
DTSTART:20251102T060000
END:STANDARD
END:VTIMEZONE
BEGIN:VEVENT
DTSTART;VALUE=DATE:20241207
DTEND;VALUE=DATE:20241208
DTSTAMP:20260423T214800
CREATED:20240712T131925Z
LAST-MODIFIED:20240712T131925Z
UID:10001297-1733529600-1733615999@walthamsonsofitaly.com
SUMMARY:Surprise 50th B-day
DESCRIPTION:150 guests\, 8pm to 1pm
URL:https://walthamsonsofitaly.com/event/surprise-50th-b-day/
CATEGORIES:Upstairs
END:VEVENT
BEGIN:VEVENT
DTSTART;VALUE=DATE:20241214
DTEND;VALUE=DATE:20241215
DTSTAMP:20260423T214800
CREATED:20240712T132201Z
LAST-MODIFIED:20240712T132201Z
UID:10001299-1734134400-1734220799@walthamsonsofitaly.com
SUMMARY:1st Bday
DESCRIPTION:150 guests\, no time yet
URL:https://walthamsonsofitaly.com/event/1st-bday-24/
CATEGORIES:Upstairs
END:VEVENT
BEGIN:VEVENT
DTSTART;VALUE=DATE:20241220
DTEND;VALUE=DATE:20241221
DTSTAMP:20260423T214800
CREATED:20240925T134519Z
LAST-MODIFIED:20240925T134519Z
UID:10001332-1734652800-1734739199@walthamsonsofitaly.com
SUMMARY:Church
DESCRIPTION:About 150 guests\, regular set up\, no time yet
URL:https://walthamsonsofitaly.com/event/church-2/
CATEGORIES:Upstairs
END:VEVENT
BEGIN:VEVENT
DTSTART;TZID=America/New_York:20241221T170000
DTEND;TZID=America/New_York:20241221T210000
DTSTAMP:20260423T214800
CREATED:20240925T134746Z
LAST-MODIFIED:20240925T134746Z
UID:10001333-1734800400-1734814800@walthamsonsofitaly.com
SUMMARY:15th Bday
DESCRIPTION:100 guests\, 5pm-9pm with possibility of extra hour
URL:https://walthamsonsofitaly.com/event/15th-bday-11/
CATEGORIES:Upstairs
END:VEVENT
BEGIN:VEVENT
DTSTART;VALUE=DATE:20241228
DTEND;VALUE=DATE:20241229
DTSTAMP:20260423T214800
CREATED:20240925T135006Z
LAST-MODIFIED:20240925T135006Z
UID:10001334-1735344000-1735430399@walthamsonsofitaly.com
SUMMARY:Musical gathering
DESCRIPTION:150 guests\, no tables\, some chairs\, no time yet possibility of extra hour
URL:https://walthamsonsofitaly.com/event/musical-gathering-2/
CATEGORIES:Upstairs
END:VEVENT
BEGIN:VEVENT
DTSTART;VALUE=DATE:20241231
DTEND;VALUE=DATE:20250101
DTSTAMP:20260423T214800
CREATED:20240712T132550Z
LAST-MODIFIED:20240712T132550Z
UID:10001302-1735603200-1735689599@walthamsonsofitaly.com
SUMMARY:Church Celebration
DESCRIPTION:
URL:https://walthamsonsofitaly.com/event/church-celebration/
CATEGORIES:Upstairs
END:VEVENT
END:VCALENDAR