BEGIN:VCALENDAR
VERSION:2.0
PRODID:-//Sons of Italy Waltham - ECPv6.15.11//NONSGML v1.0//EN
CALSCALE:GREGORIAN
METHOD:PUBLISH
X-WR-CALNAME:Sons of Italy Waltham
X-ORIGINAL-URL:https://walthamsonsofitaly.com
X-WR-CALDESC:Events for Sons of Italy Waltham
REFRESH-INTERVAL;VALUE=DURATION:PT1H
X-Robots-Tag:noindex
X-PUBLISHED-TTL:PT1H
BEGIN:VTIMEZONE
TZID:America/New_York
BEGIN:DAYLIGHT
TZOFFSETFROM:-0500
TZOFFSETTO:-0400
TZNAME:EDT
DTSTART:20230312T070000
END:DAYLIGHT
BEGIN:STANDARD
TZOFFSETFROM:-0400
TZOFFSETTO:-0500
TZNAME:EST
DTSTART:20231105T060000
END:STANDARD
BEGIN:DAYLIGHT
TZOFFSETFROM:-0500
TZOFFSETTO:-0400
TZNAME:EDT
DTSTART:20240310T070000
END:DAYLIGHT
BEGIN:STANDARD
TZOFFSETFROM:-0400
TZOFFSETTO:-0500
TZNAME:EST
DTSTART:20241103T060000
END:STANDARD
BEGIN:DAYLIGHT
TZOFFSETFROM:-0500
TZOFFSETTO:-0400
TZNAME:EDT
DTSTART:20250309T070000
END:DAYLIGHT
BEGIN:STANDARD
TZOFFSETFROM:-0400
TZOFFSETTO:-0500
TZNAME:EST
DTSTART:20251102T060000
END:STANDARD
END:VTIMEZONE
BEGIN:VEVENT
DTSTART;TZID=America/New_York:20240906T190000
DTEND;TZID=America/New_York:20240906T230000
DTSTAMP:20260424T042752
CREATED:20240712T131330Z
LAST-MODIFIED:20240821T181304Z
UID:10001294-1725649200-1725663600@walthamsonsofitaly.com
SUMMARY:Wedding
DESCRIPTION:150 guests\, 7pm to 11pm
URL:https://walthamsonsofitaly.com/event/wedding-9/
CATEGORIES:Upstairs
END:VEVENT
BEGIN:VEVENT
DTSTART;TZID=America/New_York:20240906T190000
DTEND;TZID=America/New_York:20240906T230000
DTSTAMP:20260424T042752
CREATED:20240821T174923Z
LAST-MODIFIED:20240821T174923Z
UID:10001311-1725649200-1725663600@walthamsonsofitaly.com
SUMMARY:Wedding
DESCRIPTION:About 150 guests\, regular set up. 7pm to 11pm. Possibility of extra hour.
URL:https://walthamsonsofitaly.com/event/wedding-12/
CATEGORIES:Upstairs
END:VEVENT
END:VCALENDAR