BEGIN:VCALENDAR
VERSION:2.0
PRODID:-//Sons of Italy Waltham - ECPv6.15.11//NONSGML v1.0//EN
CALSCALE:GREGORIAN
METHOD:PUBLISH
X-WR-CALNAME:Sons of Italy Waltham
X-ORIGINAL-URL:https://walthamsonsofitaly.com
X-WR-CALDESC:Events for Sons of Italy Waltham
REFRESH-INTERVAL;VALUE=DURATION:PT1H
X-Robots-Tag:noindex
X-PUBLISHED-TTL:PT1H
BEGIN:VTIMEZONE
TZID:America/New_York
BEGIN:DAYLIGHT
TZOFFSETFROM:-0500
TZOFFSETTO:-0400
TZNAME:EDT
DTSTART:20240310T070000
END:DAYLIGHT
BEGIN:STANDARD
TZOFFSETFROM:-0400
TZOFFSETTO:-0500
TZNAME:EST
DTSTART:20241103T060000
END:STANDARD
BEGIN:DAYLIGHT
TZOFFSETFROM:-0500
TZOFFSETTO:-0400
TZNAME:EDT
DTSTART:20250309T070000
END:DAYLIGHT
BEGIN:STANDARD
TZOFFSETFROM:-0400
TZOFFSETTO:-0500
TZNAME:EST
DTSTART:20251102T060000
END:STANDARD
BEGIN:DAYLIGHT
TZOFFSETFROM:-0500
TZOFFSETTO:-0400
TZNAME:EDT
DTSTART:20260308T070000
END:DAYLIGHT
BEGIN:STANDARD
TZOFFSETFROM:-0400
TZOFFSETTO:-0500
TZNAME:EST
DTSTART:20261101T060000
END:STANDARD
END:VTIMEZONE
BEGIN:VEVENT
DTSTART;VALUE=DATE:20250516
DTEND;VALUE=DATE:20250517
DTSTAMP:20260423T152026
CREATED:20240712T133636Z
LAST-MODIFIED:20240712T133636Z
UID:10001305-1747353600-1747439999@walthamsonsofitaly.com
SUMMARY:Graduation
DESCRIPTION:150 guests\, possibly from 7pm to 11pm
URL:https://walthamsonsofitaly.com/event/graduation-12/
CATEGORIES:Upstairs
END:VEVENT
BEGIN:VEVENT
DTSTART;TZID=America/New_York:20250516T190000
DTEND;TZID=America/New_York:20250516T230000
DTSTAMP:20260423T152026
CREATED:20250122T195404Z
LAST-MODIFIED:20250122T195404Z
UID:10001362-1747422000-1747436400@walthamsonsofitaly.com
SUMMARY:Graduation
DESCRIPTION:150 Guests Regular Setup
URL:https://walthamsonsofitaly.com/event/graduation-14/
CATEGORIES:Upstairs
END:VEVENT
BEGIN:VEVENT
DTSTART;TZID=America/New_York:20250516T190000
DTEND;TZID=America/New_York:20250516T230000
DTSTAMP:20260423T152026
CREATED:20250501T221300Z
LAST-MODIFIED:20250501T221300Z
UID:10001377-1747422000-1747436400@walthamsonsofitaly.com
SUMMARY:Graduation
DESCRIPTION:
URL:https://walthamsonsofitaly.com/event/graduation-17/
CATEGORIES:Upstairs
END:VEVENT
END:VCALENDAR