BEGIN:VCALENDAR
VERSION:2.0
PRODID:-//Sons of Italy Waltham - ECPv6.15.11//NONSGML v1.0//EN
CALSCALE:GREGORIAN
METHOD:PUBLISH
X-WR-CALNAME:Sons of Italy Waltham
X-ORIGINAL-URL:https://walthamsonsofitaly.com
X-WR-CALDESC:Events for Sons of Italy Waltham
REFRESH-INTERVAL;VALUE=DURATION:PT1H
X-Robots-Tag:noindex
X-PUBLISHED-TTL:PT1H
BEGIN:VTIMEZONE
TZID:America/New_York
BEGIN:DAYLIGHT
TZOFFSETFROM:-0500
TZOFFSETTO:-0400
TZNAME:EDT
DTSTART:20210314T070000
END:DAYLIGHT
BEGIN:STANDARD
TZOFFSETFROM:-0400
TZOFFSETTO:-0500
TZNAME:EST
DTSTART:20211107T060000
END:STANDARD
BEGIN:DAYLIGHT
TZOFFSETFROM:-0500
TZOFFSETTO:-0400
TZNAME:EDT
DTSTART:20220313T070000
END:DAYLIGHT
BEGIN:STANDARD
TZOFFSETFROM:-0400
TZOFFSETTO:-0500
TZNAME:EST
DTSTART:20221106T060000
END:STANDARD
BEGIN:DAYLIGHT
TZOFFSETFROM:-0500
TZOFFSETTO:-0400
TZNAME:EDT
DTSTART:20230312T070000
END:DAYLIGHT
BEGIN:STANDARD
TZOFFSETFROM:-0400
TZOFFSETTO:-0500
TZNAME:EST
DTSTART:20231105T060000
END:STANDARD
BEGIN:DAYLIGHT
TZOFFSETFROM:-0500
TZOFFSETTO:-0400
TZNAME:EDT
DTSTART:20240310T070000
END:DAYLIGHT
BEGIN:STANDARD
TZOFFSETFROM:-0400
TZOFFSETTO:-0500
TZNAME:EST
DTSTART:20241103T060000
END:STANDARD
END:VTIMEZONE
BEGIN:VTIMEZONE
TZID:UTC
BEGIN:STANDARD
TZOFFSETFROM:+0000
TZOFFSETTO:+0000
TZNAME:UTC
DTSTART:20210101T000000
END:STANDARD
END:VTIMEZONE
BEGIN:VTIMEZONE
TZID:Asia/Dubai
BEGIN:STANDARD
TZOFFSETFROM:+0400
TZOFFSETTO:+0400
TZNAME:+04
DTSTART:20210101T000000
END:STANDARD
END:VTIMEZONE
BEGIN:VEVENT
DTSTART;TZID=America/New_York:20230318T190000
DTEND;TZID=America/New_York:20230318T230000
DTSTAMP:20260424T015056
CREATED:20230203T005522Z
LAST-MODIFIED:20230203T005522Z
UID:10001141-1679166000-1679180400@walthamsonsofitaly.com
SUMMARY:1st Bday
DESCRIPTION:120 guests\, 7-11pm\, 12 tables with 10 chairs
URL:https://walthamsonsofitaly.com/event/1st-bday-5/
CATEGORIES:Upstairs
END:VEVENT
BEGIN:VEVENT
DTSTART;TZID=America/New_York:20230311T200000
DTEND;TZID=America/New_York:20230311T233000
DTSTAMP:20260424T015056
CREATED:20230127T003918Z
LAST-MODIFIED:20230210T004819Z
UID:10001139-1678564800-1678577400@walthamsonsofitaly.com
SUMMARY:Fundraiser
DESCRIPTION:150 Guests\, 8:00pm- 11:30pm
URL:https://walthamsonsofitaly.com/event/15th-bday-4/
CATEGORIES:Upstairs
END:VEVENT
BEGIN:VEVENT
DTSTART;TZID=America/New_York:20230304T183000
DTEND;TZID=America/New_York:20230304T223000
DTSTAMP:20260424T015056
CREATED:20230210T002748Z
LAST-MODIFIED:20230210T002748Z
UID:10001145-1677954600-1677969000@walthamsonsofitaly.com
SUMMARY:15th Bday
DESCRIPTION:100 guests\, 6:30-10:30pm
URL:https://walthamsonsofitaly.com/event/15th-bday-5/
CATEGORIES:Upstairs
END:VEVENT
BEGIN:VEVENT
DTSTART;VALUE=DATE:20230226
DTEND;VALUE=DATE:20230227
DTSTAMP:20260424T015056
CREATED:20230124T181349Z
LAST-MODIFIED:20230124T181349Z
UID:10001134-1677369600-1677455999@walthamsonsofitaly.com
SUMMARY:Grande Lodge
DESCRIPTION:
URL:https://walthamsonsofitaly.com/event/grande-lodge/
CATEGORIES:Upstairs
END:VEVENT
BEGIN:VEVENT
DTSTART;TZID=America/New_York:20230218T180000
DTEND;TZID=America/New_York:20230218T220000
DTSTAMP:20260424T015056
CREATED:20221104T164823Z
LAST-MODIFIED:20221104T165442Z
UID:10001100-1676743200-1676757600@walthamsonsofitaly.com
SUMMARY:40th Surprise Birthday
DESCRIPTION:100 people\, 10 tables\, 2 food tables\, 1 dessert. possibly utilizing projector.
URL:https://walthamsonsofitaly.com/event/4th-surprise-birthday/
CATEGORIES:Upstairs
END:VEVENT
BEGIN:VEVENT
DTSTART;TZID=America/New_York:20230211T190000
DTEND;TZID=America/New_York:20230211T230000
DTSTAMP:20260424T015056
CREATED:20230106T194057Z
LAST-MODIFIED:20230106T194057Z
UID:10001107-1676142000-1676156400@walthamsonsofitaly.com
SUMMARY:Party
DESCRIPTION:100 people\,  10 tables 10 chairs each\, 7-11pm
URL:https://walthamsonsofitaly.com/event/party-2/
CATEGORIES:Upstairs
END:VEVENT
BEGIN:VEVENT
DTSTART;TZID=UTC:20230211T190000
DTEND;TZID=UTC:20230211T230000
DTSTAMP:20260424T015056
CREATED:20221015T051732Z
LAST-MODIFIED:20221015T051732Z
UID:10001078-1676142000-1676156400@walthamsonsofitaly.com
SUMMARY:function
DESCRIPTION:
URL:https://walthamsonsofitaly.com/event/function-151/
CATEGORIES:Upstairs
END:VEVENT
BEGIN:VEVENT
DTSTART;TZID=UTC:20230204T180000
DTEND;TZID=UTC:20230204T230000
DTSTAMP:20260424T015056
CREATED:20221015T051644Z
LAST-MODIFIED:20221015T051644Z
UID:10001077-1675533600-1675551600@walthamsonsofitaly.com
SUMMARY:function
DESCRIPTION:
URL:https://walthamsonsofitaly.com/event/function-150/
CATEGORIES:Upstairs
END:VEVENT
BEGIN:VEVENT
DTSTART;TZID=America/New_York:20230114T190000
DTEND;TZID=America/New_York:20230114T230000
DTSTAMP:20260424T015056
CREATED:20230106T192600Z
LAST-MODIFIED:20230106T192600Z
UID:10001102-1673722800-1673737200@walthamsonsofitaly.com
SUMMARY:Bday
DESCRIPTION:150 people\,  15 tables with 10 chairs each\, 7-11pm
URL:https://walthamsonsofitaly.com/event/bday/
CATEGORIES:Upstairs
END:VEVENT
BEGIN:VEVENT
DTSTART;TZID=America/New_York:20230114T190000
DTEND;TZID=America/New_York:20230114T230000
DTSTAMP:20260424T015056
CREATED:20221104T164421Z
LAST-MODIFIED:20221104T164421Z
UID:10001099-1673722800-1673737200@walthamsonsofitaly.com
SUMMARY:Birthday
DESCRIPTION:150 people\, 15 tables\, 2\, food tables\, 1 dessert. 7pm-11pm with possibility of extra hour bartenders call. 2 hour set up time\, 1 hour for cleaning.
URL:https://walthamsonsofitaly.com/event/birthday-2/
CATEGORIES:Upstairs
END:VEVENT
BEGIN:VEVENT
DTSTART;TZID=UTC:20230108T170000
DTEND;TZID=UTC:20230108T210000
DTSTAMP:20260424T015056
CREATED:20221015T051445Z
LAST-MODIFIED:20221015T051445Z
UID:10001075-1673197200-1673211600@walthamsonsofitaly.com
SUMMARY:function
DESCRIPTION:
URL:https://walthamsonsofitaly.com/event/function-148/
CATEGORIES:Upstairs
END:VEVENT
BEGIN:VEVENT
DTSTART;TZID=UTC:20230107T180000
DTEND;TZID=UTC:20230107T220000
DTSTAMP:20260424T015056
CREATED:20221015T051349Z
LAST-MODIFIED:20221015T051349Z
UID:10001074-1673114400-1673128800@walthamsonsofitaly.com
SUMMARY:function
DESCRIPTION:
URL:https://walthamsonsofitaly.com/event/function-147/
CATEGORIES:Upstairs
END:VEVENT
BEGIN:VEVENT
DTSTART;TZID=UTC:20221218T150000
DTEND;TZID=UTC:20221218T190000
DTSTAMP:20260424T015056
CREATED:20221015T051252Z
LAST-MODIFIED:20221015T051252Z
UID:10001073-1671375600-1671390000@walthamsonsofitaly.com
SUMMARY:function
DESCRIPTION:
URL:https://walthamsonsofitaly.com/event/function-146/
CATEGORIES:Upstairs
END:VEVENT
BEGIN:VEVENT
DTSTART;TZID=UTC:20221217T190000
DTEND;TZID=UTC:20221217T230000
DTSTAMP:20260424T015056
CREATED:20220424T210320Z
LAST-MODIFIED:20220424T210320Z
UID:10001003-1671303600-1671318000@walthamsonsofitaly.com
SUMMARY:Function
DESCRIPTION:
URL:https://walthamsonsofitaly.com/event/function-90/
CATEGORIES:Upstairs
END:VEVENT
BEGIN:VEVENT
DTSTART;TZID=America/New_York:20221216T180000
DTEND;TZID=America/New_York:20221216T220000
DTSTAMP:20260424T015056
CREATED:20221104T163421Z
LAST-MODIFIED:20221104T163421Z
UID:10001098-1671213600-1671228000@walthamsonsofitaly.com
SUMMARY:Family gathering
DESCRIPTION:Small family gathering/ baby shower and thanksgiving get together. 60 people\, 6 tables\, 2 food\, 1 dessert. No Alcohol event.
URL:https://walthamsonsofitaly.com/event/family-gathering/
CATEGORIES:Upstairs
END:VEVENT
BEGIN:VEVENT
DTSTART;TZID=UTC:20221204T170000
DTEND;TZID=UTC:20221204T210000
DTSTAMP:20260424T015056
CREATED:20221015T051049Z
LAST-MODIFIED:20221015T051049Z
UID:10001071-1670173200-1670187600@walthamsonsofitaly.com
SUMMARY:function
DESCRIPTION:
URL:https://walthamsonsofitaly.com/event/function-144/
CATEGORIES:Upstairs
END:VEVENT
BEGIN:VEVENT
DTSTART;TZID=UTC:20221203T190000
DTEND;TZID=UTC:20221203T230000
DTSTAMP:20260424T015056
CREATED:20220819T171605Z
LAST-MODIFIED:20220819T171605Z
UID:10001055-1670094000-1670108400@walthamsonsofitaly.com
SUMMARY:Function
DESCRIPTION:
URL:https://walthamsonsofitaly.com/event/function-131/
CATEGORIES:Upstairs
END:VEVENT
BEGIN:VEVENT
DTSTART;TZID=UTC:20221127T110000
DTEND;TZID=UTC:20221127T150000
DTSTAMP:20260424T015056
CREATED:20220722T153451Z
LAST-MODIFIED:20220722T153451Z
UID:10001032-1669546800-1669561200@walthamsonsofitaly.com
SUMMARY:function
DESCRIPTION:
URL:https://walthamsonsofitaly.com/event/function-116/
CATEGORIES:Upstairs
END:VEVENT
BEGIN:VEVENT
DTSTART;TZID=UTC:20221125T180000
DTEND;TZID=UTC:20221125T220000
DTSTAMP:20260424T015056
CREATED:20220803T215938Z
LAST-MODIFIED:20220803T215938Z
UID:10001045-1669399200-1669413600@walthamsonsofitaly.com
SUMMARY:High School Re
DESCRIPTION:
URL:https://walthamsonsofitaly.com/event/high-school-re/
CATEGORIES:Upstairs
END:VEVENT
BEGIN:VEVENT
DTSTART;TZID=UTC:20221120T160000
DTEND;TZID=UTC:20221120T200000
DTSTAMP:20260424T015056
CREATED:20221016T002629Z
LAST-MODIFIED:20221016T002629Z
UID:10001085-1668960000-1668974400@walthamsonsofitaly.com
SUMMARY:function
DESCRIPTION:
URL:https://walthamsonsofitaly.com/event/function-156/
CATEGORIES:Upstairs
END:VEVENT
BEGIN:VEVENT
DTSTART;TZID=UTC:20221119T190000
DTEND;TZID=UTC:20221119T230000
DTSTAMP:20260424T015056
CREATED:20220608T222551Z
LAST-MODIFIED:20220608T222551Z
UID:10001028-1668884400-1668898800@walthamsonsofitaly.com
SUMMARY:Fuction
DESCRIPTION:
URL:https://walthamsonsofitaly.com/event/fuction-5/
CATEGORIES:Upstairs
END:VEVENT
BEGIN:VEVENT
DTSTART;TZID=UTC:20221114T180000
DTEND;TZID=UTC:20221114T220000
DTSTAMP:20260424T015056
CREATED:20221015T050801Z
LAST-MODIFIED:20221015T050801Z
UID:10001068-1668448800-1668463200@walthamsonsofitaly.com
SUMMARY:soccer
DESCRIPTION:
URL:https://walthamsonsofitaly.com/event/soccer/
CATEGORIES:Upstairs
END:VEVENT
BEGIN:VEVENT
DTSTART;TZID=America/New_York:20221113T160000
DTEND;TZID=America/New_York:20221113T200000
DTSTAMP:20260424T015057
CREATED:20221104T163043Z
LAST-MODIFIED:20221104T163043Z
UID:10001097-1668355200-1668369600@walthamsonsofitaly.com
SUMMARY:Function-Baby Shower
DESCRIPTION:Event for 150 people. 15 round tables\, 10 chairs each\, 2 food tables\, 1 dessert. 2 hours given for set up and 1 for cleaning. Possibility of extra hour bartender’s call.
URL:https://walthamsonsofitaly.com/event/function-baby-shower/
CATEGORIES:Upstairs
END:VEVENT
BEGIN:VEVENT
DTSTART;TZID=UTC:20221112T163000
DTEND;TZID=UTC:20221112T203000
DTSTAMP:20260424T015057
CREATED:20220417T173652Z
LAST-MODIFIED:20220417T173652Z
UID:10000999-1668270600-1668285000@walthamsonsofitaly.com
SUMMARY:Function
DESCRIPTION:
URL:https://walthamsonsofitaly.com/event/function-86/
CATEGORIES:Upstairs
END:VEVENT
BEGIN:VEVENT
DTSTART;TZID=UTC:20221105T180000
DTEND;TZID=UTC:20221105T220000
DTSTAMP:20260424T015057
CREATED:20220527T010614Z
LAST-MODIFIED:20220527T010614Z
UID:10001023-1667671200-1667685600@walthamsonsofitaly.com
SUMMARY:Function
DESCRIPTION:
URL:https://walthamsonsofitaly.com/event/function-111/
CATEGORIES:Upstairs
END:VEVENT
BEGIN:VEVENT
DTSTART;TZID=UTC:20221030T180000
DTEND;TZID=UTC:20221030T220000
DTSTAMP:20260424T015057
CREATED:20220809T170606Z
LAST-MODIFIED:20220809T170606Z
UID:10001049-1667152800-1667167200@walthamsonsofitaly.com
SUMMARY:Function
DESCRIPTION:
URL:https://walthamsonsofitaly.com/event/function-126/
CATEGORIES:Upstairs
END:VEVENT
BEGIN:VEVENT
DTSTART;TZID=Asia/Dubai:20221026T230000
DTEND;TZID=Asia/Dubai:20221026T233000
DTSTAMP:20260424T015057
CREATED:20221026T001956Z
LAST-MODIFIED:20221026T001956Z
UID:10001094-1666825200-1666827000@walthamsonsofitaly.com
SUMMARY:Upstairs new event test
DESCRIPTION:Donnie test
URL:https://walthamsonsofitaly.com/event/upstairs-new-event-test/
CATEGORIES:Upstairs
END:VEVENT
BEGIN:VEVENT
DTSTART;TZID=Asia/Dubai:20221026T103000
DTEND;TZID=Asia/Dubai:20221026T113000
DTSTAMP:20260424T015057
CREATED:20221025T233316Z
LAST-MODIFIED:20221025T233316Z
UID:10001092-1666780200-1666783800@walthamsonsofitaly.com
SUMMARY:Upstairs- Aucoin Event
DESCRIPTION:this is the text editor message box \n  \n  \n  \n  \n  \n  \n  \n  \n  \n  \nEnd of the box here
URL:https://walthamsonsofitaly.com/event/upstairs-aucoin-event/
CATEGORIES:Upstairs
END:VEVENT
BEGIN:VEVENT
DTSTART;TZID=Asia/Dubai:20221026T080000
DTEND;TZID=Asia/Dubai:20221026T170000
DTSTAMP:20260424T015057
CREATED:20221024T224008Z
LAST-MODIFIED:20221024T224008Z
UID:10001090-1666771200-1666803600@walthamsonsofitaly.com
SUMMARY:Donnie Test
DESCRIPTION:
URL:https://walthamsonsofitaly.com/event/donnie-test-4/
CATEGORIES:Upstairs
END:VEVENT
BEGIN:VEVENT
DTSTART;TZID=UTC:20221023T180000
DTEND;TZID=UTC:20221023T220000
DTSTAMP:20260424T015057
CREATED:20220803T215816Z
LAST-MODIFIED:20220803T215816Z
UID:10001044-1666548000-1666562400@walthamsonsofitaly.com
SUMMARY:Function
DESCRIPTION:
URL:https://walthamsonsofitaly.com/event/function-125/
CATEGORIES:Upstairs
END:VEVENT
END:VCALENDAR