BEGIN:VCALENDAR
VERSION:2.0
PRODID:-//Sons of Italy Waltham - ECPv6.15.11//NONSGML v1.0//EN
CALSCALE:GREGORIAN
METHOD:PUBLISH
X-ORIGINAL-URL:https://walthamsonsofitaly.com
X-WR-CALDESC:Events for Sons of Italy Waltham
REFRESH-INTERVAL;VALUE=DURATION:PT1H
X-Robots-Tag:noindex
X-PUBLISHED-TTL:PT1H
BEGIN:VTIMEZONE
TZID:America/New_York
BEGIN:DAYLIGHT
TZOFFSETFROM:-0500
TZOFFSETTO:-0400
TZNAME:EDT
DTSTART:20240310T070000
END:DAYLIGHT
BEGIN:STANDARD
TZOFFSETFROM:-0400
TZOFFSETTO:-0500
TZNAME:EST
DTSTART:20241103T060000
END:STANDARD
BEGIN:DAYLIGHT
TZOFFSETFROM:-0500
TZOFFSETTO:-0400
TZNAME:EDT
DTSTART:20250309T070000
END:DAYLIGHT
BEGIN:STANDARD
TZOFFSETFROM:-0400
TZOFFSETTO:-0500
TZNAME:EST
DTSTART:20251102T060000
END:STANDARD
BEGIN:DAYLIGHT
TZOFFSETFROM:-0500
TZOFFSETTO:-0400
TZNAME:EDT
DTSTART:20260308T070000
END:DAYLIGHT
BEGIN:STANDARD
TZOFFSETFROM:-0400
TZOFFSETTO:-0500
TZNAME:EST
DTSTART:20261101T060000
END:STANDARD
BEGIN:DAYLIGHT
TZOFFSETFROM:-0500
TZOFFSETTO:-0400
TZNAME:EDT
DTSTART:20270314T070000
END:DAYLIGHT
BEGIN:STANDARD
TZOFFSETFROM:-0400
TZOFFSETTO:-0500
TZNAME:EST
DTSTART:20271107T060000
END:STANDARD
END:VTIMEZONE
BEGIN:VEVENT
DTSTART;TZID=America/New_York:20260207T180000
DTEND;TZID=America/New_York:20260207T220000
DTSTAMP:20260422T210854
CREATED:20260206T023856Z
LAST-MODIFIED:20260206T023856Z
UID:10001446-1770487200-1770501600@walthamsonsofitaly.com
SUMMARY:Fundraiser
DESCRIPTION:
URL:https://walthamsonsofitaly.com/event/fundraiser-3/
CATEGORIES:Upstairs
END:VEVENT
BEGIN:VEVENT
DTSTART;TZID=America/New_York:20260207T180000
DTEND;TZID=America/New_York:20260207T220000
DTSTAMP:20260422T210854
CREATED:20251104T025855Z
LAST-MODIFIED:20251104T030030Z
UID:10001431-1770487200-1770501600@walthamsonsofitaly.com
SUMMARY:Members Party
DESCRIPTION:
URL:https://walthamsonsofitaly.com/event/grad-party/
CATEGORIES:Upstairs
END:VEVENT
BEGIN:VEVENT
DTSTART;VALUE=DATE:20260205
DTEND;VALUE=DATE:20260206
DTSTAMP:20260422T210854
CREATED:20260206T024009Z
LAST-MODIFIED:20260206T024009Z
UID:10001448-1770249600-1770335999@walthamsonsofitaly.com
SUMMARY:Baby Shower
DESCRIPTION:
URL:https://walthamsonsofitaly.com/event/baby-shower-12/
CATEGORIES:Upstairs
END:VEVENT
BEGIN:VEVENT
DTSTART;TZID=America/New_York:20260117T180000
DTEND;TZID=America/New_York:20260117T220000
DTSTAMP:20260422T210854
CREATED:20251104T023439Z
LAST-MODIFIED:20251104T023439Z
UID:10001429-1768672800-1768687200@walthamsonsofitaly.com
SUMMARY:Party
DESCRIPTION:
URL:https://walthamsonsofitaly.com/event/party-5/
CATEGORIES:Upstairs
END:VEVENT
BEGIN:VEVENT
DTSTART;TZID=America/New_York:20260110T180000
DTEND;TZID=America/New_York:20260110T220000
DTSTAMP:20260422T210854
CREATED:20251104T023322Z
LAST-MODIFIED:20251104T023322Z
UID:10001428-1768068000-1768082400@walthamsonsofitaly.com
SUMMARY:Birthday
DESCRIPTION:
URL:https://walthamsonsofitaly.com/event/birthday-12/
CATEGORIES:Upstairs
END:VEVENT
BEGIN:VEVENT
DTSTART;TZID=America/New_York:20251213T180000
DTEND;TZID=America/New_York:20251213T220000
DTSTAMP:20260422T210854
CREATED:20250908T191944Z
LAST-MODIFIED:20250908T191944Z
UID:10001412-1765648800-1765663200@walthamsonsofitaly.com
SUMMARY:Birthday
DESCRIPTION:
URL:https://walthamsonsofitaly.com/event/birthday-10/
CATEGORIES:Upstairs
END:VEVENT
BEGIN:VEVENT
DTSTART;VALUE=DATE:20251206
DTEND;VALUE=DATE:20251207
DTSTAMP:20260422T210854
CREATED:20250908T191733Z
LAST-MODIFIED:20250908T191733Z
UID:10001410-1764979200-1765065599@walthamsonsofitaly.com
SUMMARY:Christmas Party
DESCRIPTION:
URL:https://walthamsonsofitaly.com/event/christmas-party-14/
CATEGORIES:Upstairs
END:VEVENT
BEGIN:VEVENT
DTSTART;TZID=America/New_York:20251122T180000
DTEND;TZID=America/New_York:20251122T220000
DTSTAMP:20260422T210854
CREATED:20250908T191544Z
LAST-MODIFIED:20250908T191544Z
UID:10001408-1763834400-1763848800@walthamsonsofitaly.com
SUMMARY:50th Birthday
DESCRIPTION:
URL:https://walthamsonsofitaly.com/event/50th-birthday-2/
CATEGORIES:Upstairs
END:VEVENT
BEGIN:VEVENT
DTSTART;TZID=America/New_York:20251122T180000
DTEND;TZID=America/New_York:20251122T220000
DTSTAMP:20260422T210854
CREATED:20250501T223738Z
LAST-MODIFIED:20250501T223738Z
UID:10001391-1763834400-1763848800@walthamsonsofitaly.com
SUMMARY:50th Birthday
DESCRIPTION:
URL:https://walthamsonsofitaly.com/event/50th-birthday/
CATEGORIES:Upstairs
END:VEVENT
BEGIN:VEVENT
DTSTART;TZID=America/New_York:20251108T160000
DTEND;TZID=America/New_York:20251108T200000
DTSTAMP:20260422T210854
CREATED:20250908T191311Z
LAST-MODIFIED:20250908T191311Z
UID:10001405-1762617600-1762632000@walthamsonsofitaly.com
SUMMARY:Wedding
DESCRIPTION:
URL:https://walthamsonsofitaly.com/event/wedding-20/
CATEGORIES:Upstairs
END:VEVENT
BEGIN:VEVENT
DTSTART;VALUE=DATE:20251025
DTEND;VALUE=DATE:20251026
DTSTAMP:20260422T210854
CREATED:20250908T191029Z
LAST-MODIFIED:20250908T191029Z
UID:10001401-1761350400-1761436799@walthamsonsofitaly.com
SUMMARY:Function
DESCRIPTION:
URL:https://walthamsonsofitaly.com/event/function-163/
CATEGORIES:Upstairs
END:VEVENT
BEGIN:VEVENT
DTSTART;TZID=America/New_York:20251017T180000
DTEND;TZID=America/New_York:20251017T220000
DTSTAMP:20260422T210854
CREATED:20250908T190949Z
LAST-MODIFIED:20250908T190949Z
UID:10001400-1760724000-1760738400@walthamsonsofitaly.com
SUMMARY:Class Reunion
DESCRIPTION:
URL:https://walthamsonsofitaly.com/event/class-reunion/
CATEGORIES:Upstairs
END:VEVENT
BEGIN:VEVENT
DTSTART;TZID=America/New_York:20251011T160000
DTEND;TZID=America/New_York:20251011T220000
DTSTAMP:20260422T210854
CREATED:20250908T190859Z
LAST-MODIFIED:20250908T190859Z
UID:10001399-1760198400-1760220000@walthamsonsofitaly.com
SUMMARY:Quiciñera
DESCRIPTION:No Alcohol\, Bar closed please\, Soda only
URL:https://walthamsonsofitaly.com/event/quicinera/
CATEGORIES:Upstairs
END:VEVENT
BEGIN:VEVENT
DTSTART;VALUE=DATE:20251004
DTEND;VALUE=DATE:20251005
DTSTAMP:20260422T210854
CREATED:20250908T190632Z
LAST-MODIFIED:20250908T190632Z
UID:10001397-1759536000-1759622399@walthamsonsofitaly.com
SUMMARY:Baby Shower
DESCRIPTION:
URL:https://walthamsonsofitaly.com/event/baby-shower-4/
CATEGORIES:Upstairs
END:VEVENT
BEGIN:VEVENT
DTSTART;TZID=America/New_York:20250927T180000
DTEND;TZID=America/New_York:20250927T220000
DTSTAMP:20260422T210854
CREATED:20250908T190447Z
LAST-MODIFIED:20250908T190447Z
UID:10001395-1758996000-1759010400@walthamsonsofitaly.com
SUMMARY:Birthday
DESCRIPTION:
URL:https://walthamsonsofitaly.com/event/birthday-8/
CATEGORIES:Upstairs
END:VEVENT
BEGIN:VEVENT
DTSTART;TZID=America/New_York:20250920T190000
DTEND;TZID=America/New_York:20250920T230000
DTSTAMP:20260422T210854
CREATED:20250908T190242Z
LAST-MODIFIED:20250908T190242Z
UID:10001393-1758394800-1758409200@walthamsonsofitaly.com
SUMMARY:70th Birthday
DESCRIPTION:
URL:https://walthamsonsofitaly.com/event/70th-birthday/
CATEGORIES:Upstairs
END:VEVENT
BEGIN:VEVENT
DTSTART;VALUE=DATE:20250907
DTEND;VALUE=DATE:20250908
DTSTAMP:20260422T210854
CREATED:20250122T203633Z
LAST-MODIFIED:20250122T203633Z
UID:10001371-1757203200-1757289599@walthamsonsofitaly.com
SUMMARY:Quincianera
DESCRIPTION:150 Guests regular setup
URL:https://walthamsonsofitaly.com/event/quincianera-8/
CATEGORIES:Upstairs
END:VEVENT
BEGIN:VEVENT
DTSTART;TZID=America/New_York:20250906T190000
DTEND;TZID=America/New_York:20250906T230000
DTSTAMP:20260422T210854
CREATED:20250501T223637Z
LAST-MODIFIED:20250501T223637Z
UID:10001390-1757185200-1757199600@walthamsonsofitaly.com
SUMMARY:18th Birthday Party
DESCRIPTION:
URL:https://walthamsonsofitaly.com/event/18th-birthday-party/
CATEGORIES:Upstairs
END:VEVENT
BEGIN:VEVENT
DTSTART;VALUE=DATE:20250823
DTEND;VALUE=DATE:20250824
DTSTAMP:20260422T210854
CREATED:20250501T223528Z
LAST-MODIFIED:20250501T223528Z
UID:10001389-1755907200-1755993599@walthamsonsofitaly.com
SUMMARY:Birthday
DESCRIPTION:
URL:https://walthamsonsofitaly.com/event/birthday-5/
CATEGORIES:Upstairs
END:VEVENT
BEGIN:VEVENT
DTSTART;VALUE=DATE:20250823
DTEND;VALUE=DATE:20250824
DTSTAMP:20260422T210854
CREATED:20250122T203448Z
LAST-MODIFIED:20250122T203448Z
UID:10001370-1755907200-1755993599@walthamsonsofitaly.com
SUMMARY:Sweet 16
DESCRIPTION:
URL:https://walthamsonsofitaly.com/event/sweet-16-3/
CATEGORIES:Upstairs
END:VEVENT
BEGIN:VEVENT
DTSTART;TZID=America/New_York:20250726T160000
DTEND;TZID=America/New_York:20250726T210000
DTSTAMP:20260422T210854
CREATED:20250501T223446Z
LAST-MODIFIED:20250501T223446Z
UID:10001388-1753545600-1753563600@walthamsonsofitaly.com
SUMMARY:Wedding
DESCRIPTION:
URL:https://walthamsonsofitaly.com/event/wedding-19/
CATEGORIES:Upstairs
END:VEVENT
BEGIN:VEVENT
DTSTART;TZID=America/New_York:20250726T160000
DTEND;TZID=America/New_York:20250726T210000
DTSTAMP:20260422T210854
CREATED:20250122T201533Z
LAST-MODIFIED:20250122T201533Z
UID:10001369-1753545600-1753563600@walthamsonsofitaly.com
SUMMARY:Wedding
DESCRIPTION:85-90 Guests regular setup
URL:https://walthamsonsofitaly.com/event/wedding-16/
CATEGORIES:Upstairs
END:VEVENT
BEGIN:VEVENT
DTSTART;VALUE=DATE:20250719
DTEND;VALUE=DATE:20250720
DTSTAMP:20260422T210854
CREATED:20250501T223316Z
LAST-MODIFIED:20250501T223316Z
UID:10001387-1752883200-1752969599@walthamsonsofitaly.com
SUMMARY:Family Party
DESCRIPTION:
URL:https://walthamsonsofitaly.com/event/family-party-2/
CATEGORIES:Upstairs
END:VEVENT
BEGIN:VEVENT
DTSTART;VALUE=DATE:20250712
DTEND;VALUE=DATE:20250713
DTSTAMP:20260422T210854
CREATED:20250501T223243Z
LAST-MODIFIED:20250501T223243Z
UID:10001386-1752278400-1752364799@walthamsonsofitaly.com
SUMMARY:Quincinera
DESCRIPTION:
URL:https://walthamsonsofitaly.com/event/quincinera/
CATEGORIES:Upstairs
END:VEVENT
BEGIN:VEVENT
DTSTART;TZID=America/New_York:20250628T080000
DTEND;TZID=America/New_York:20250628T170000
DTSTAMP:20260422T210854
CREATED:20250122T201338Z
LAST-MODIFIED:20250122T201338Z
UID:10001368-1751097600-1751130000@walthamsonsofitaly.com
SUMMARY:Quincianera
DESCRIPTION:150  Guests regular setup
URL:https://walthamsonsofitaly.com/event/quincianera-7/
CATEGORIES:Upstairs
END:VEVENT
BEGIN:VEVENT
DTSTART;VALUE=DATE:20250628
DTEND;VALUE=DATE:20250629
DTSTAMP:20260422T210854
CREATED:20240712T134000Z
LAST-MODIFIED:20240712T134000Z
UID:10001307-1751068800-1751155199@walthamsonsofitaly.com
SUMMARY:Quincianera
DESCRIPTION:150 guests\, 5pm to 10pm\, extra hour to be approved by bartender.  Possibly open bar and special non alcohol drink for kids (Shirley temple)
URL:https://walthamsonsofitaly.com/event/quincianera-3/
CATEGORIES:Upstairs
END:VEVENT
BEGIN:VEVENT
DTSTART;TZID=America/New_York:20250614T190000
DTEND;TZID=America/New_York:20250614T230000
DTSTAMP:20260422T210854
CREATED:20250122T200144Z
LAST-MODIFIED:20250122T200144Z
UID:10001366-1749927600-1749942000@walthamsonsofitaly.com
SUMMARY:Quincianera
DESCRIPTION:150 Guests regular setup
URL:https://walthamsonsofitaly.com/event/quincianera-6/
CATEGORIES:Upstairs
END:VEVENT
BEGIN:VEVENT
DTSTART;VALUE=DATE:20250607
DTEND;VALUE=DATE:20250608
DTSTAMP:20260422T210854
CREATED:20250122T195930Z
LAST-MODIFIED:20250122T195930Z
UID:10001365-1749254400-1749340799@walthamsonsofitaly.com
SUMMARY:NA
DESCRIPTION:
URL:https://walthamsonsofitaly.com/event/na/
CATEGORIES:Upstairs
END:VEVENT
BEGIN:VEVENT
DTSTART;VALUE=DATE:20250607
DTEND;VALUE=DATE:20250608
DTSTAMP:20260422T210854
CREATED:20240712T133736Z
LAST-MODIFIED:20240712T133736Z
UID:10001306-1749254400-1749340799@walthamsonsofitaly.com
SUMMARY:Event Espindola
DESCRIPTION:
URL:https://walthamsonsofitaly.com/event/event-espindola/
CATEGORIES:Upstairs
END:VEVENT
BEGIN:VEVENT
DTSTART;TZID=America/New_York:20250606T190000
DTEND;TZID=America/New_York:20250606T230000
DTSTAMP:20260422T210854
CREATED:20250501T222030Z
LAST-MODIFIED:20250501T222030Z
UID:10001380-1749236400-1749250800@walthamsonsofitaly.com
SUMMARY:Graduation
DESCRIPTION:
URL:https://walthamsonsofitaly.com/event/graduation-18/
CATEGORIES:Upstairs
END:VEVENT
END:VCALENDAR