BEGIN:VCALENDAR
VERSION:2.0
PRODID:-//Sons of Italy Waltham - ECPv6.15.11//NONSGML v1.0//EN
CALSCALE:GREGORIAN
METHOD:PUBLISH
X-ORIGINAL-URL:https://walthamsonsofitaly.com
X-WR-CALDESC:Events for Sons of Italy Waltham
REFRESH-INTERVAL;VALUE=DURATION:PT1H
X-Robots-Tag:noindex
X-PUBLISHED-TTL:PT1H
BEGIN:VTIMEZONE
TZID:UTC
BEGIN:STANDARD
TZOFFSETFROM:+0000
TZOFFSETTO:+0000
TZNAME:UTC
DTSTART:20210101T000000
END:STANDARD
END:VTIMEZONE
BEGIN:VTIMEZONE
TZID:America/New_York
BEGIN:DAYLIGHT
TZOFFSETFROM:-0500
TZOFFSETTO:-0400
TZNAME:EDT
DTSTART:20210314T070000
END:DAYLIGHT
BEGIN:STANDARD
TZOFFSETFROM:-0400
TZOFFSETTO:-0500
TZNAME:EST
DTSTART:20211107T060000
END:STANDARD
BEGIN:DAYLIGHT
TZOFFSETFROM:-0500
TZOFFSETTO:-0400
TZNAME:EDT
DTSTART:20220313T070000
END:DAYLIGHT
BEGIN:STANDARD
TZOFFSETFROM:-0400
TZOFFSETTO:-0500
TZNAME:EST
DTSTART:20221106T060000
END:STANDARD
BEGIN:DAYLIGHT
TZOFFSETFROM:-0500
TZOFFSETTO:-0400
TZNAME:EDT
DTSTART:20230312T070000
END:DAYLIGHT
BEGIN:STANDARD
TZOFFSETFROM:-0400
TZOFFSETTO:-0500
TZNAME:EST
DTSTART:20231105T060000
END:STANDARD
END:VTIMEZONE
BEGIN:VTIMEZONE
TZID:Asia/Dubai
BEGIN:STANDARD
TZOFFSETFROM:+0400
TZOFFSETTO:+0400
TZNAME:+04
DTSTART:20210101T000000
END:STANDARD
END:VTIMEZONE
BEGIN:VEVENT
DTSTART;TZID=UTC:20221119T190000
DTEND;TZID=UTC:20221119T230000
DTSTAMP:20260424T050805
CREATED:20220608T222551Z
LAST-MODIFIED:20220608T222551Z
UID:10001028-1668884400-1668898800@walthamsonsofitaly.com
SUMMARY:Fuction
DESCRIPTION:
URL:https://walthamsonsofitaly.com/event/fuction-5/
CATEGORIES:Upstairs
END:VEVENT
BEGIN:VEVENT
DTSTART;TZID=UTC:20221114T180000
DTEND;TZID=UTC:20221114T220000
DTSTAMP:20260424T050805
CREATED:20221015T050801Z
LAST-MODIFIED:20221015T050801Z
UID:10001068-1668448800-1668463200@walthamsonsofitaly.com
SUMMARY:soccer
DESCRIPTION:
URL:https://walthamsonsofitaly.com/event/soccer/
CATEGORIES:Upstairs
END:VEVENT
BEGIN:VEVENT
DTSTART;TZID=America/New_York:20221113T160000
DTEND;TZID=America/New_York:20221113T200000
DTSTAMP:20260424T050805
CREATED:20221104T163043Z
LAST-MODIFIED:20221104T163043Z
UID:10001097-1668355200-1668369600@walthamsonsofitaly.com
SUMMARY:Function-Baby Shower
DESCRIPTION:Event for 150 people. 15 round tables\, 10 chairs each\, 2 food tables\, 1 dessert. 2 hours given for set up and 1 for cleaning. Possibility of extra hour bartender’s call.
URL:https://walthamsonsofitaly.com/event/function-baby-shower/
CATEGORIES:Upstairs
END:VEVENT
BEGIN:VEVENT
DTSTART;TZID=UTC:20221112T163000
DTEND;TZID=UTC:20221112T203000
DTSTAMP:20260424T050805
CREATED:20220417T173652Z
LAST-MODIFIED:20220417T173652Z
UID:10000999-1668270600-1668285000@walthamsonsofitaly.com
SUMMARY:Function
DESCRIPTION:
URL:https://walthamsonsofitaly.com/event/function-86/
CATEGORIES:Upstairs
END:VEVENT
BEGIN:VEVENT
DTSTART;TZID=UTC:20221105T180000
DTEND;TZID=UTC:20221105T220000
DTSTAMP:20260424T050805
CREATED:20220527T010614Z
LAST-MODIFIED:20220527T010614Z
UID:10001023-1667671200-1667685600@walthamsonsofitaly.com
SUMMARY:Function
DESCRIPTION:
URL:https://walthamsonsofitaly.com/event/function-111/
CATEGORIES:Upstairs
END:VEVENT
BEGIN:VEVENT
DTSTART;TZID=UTC:20221030T180000
DTEND;TZID=UTC:20221030T220000
DTSTAMP:20260424T050805
CREATED:20220809T170606Z
LAST-MODIFIED:20220809T170606Z
UID:10001049-1667152800-1667167200@walthamsonsofitaly.com
SUMMARY:Function
DESCRIPTION:
URL:https://walthamsonsofitaly.com/event/function-126/
CATEGORIES:Upstairs
END:VEVENT
BEGIN:VEVENT
DTSTART;TZID=Asia/Dubai:20221026T230000
DTEND;TZID=Asia/Dubai:20221026T233000
DTSTAMP:20260424T050805
CREATED:20221026T001956Z
LAST-MODIFIED:20221026T001956Z
UID:10001094-1666825200-1666827000@walthamsonsofitaly.com
SUMMARY:Upstairs new event test
DESCRIPTION:Donnie test
URL:https://walthamsonsofitaly.com/event/upstairs-new-event-test/
CATEGORIES:Upstairs
END:VEVENT
BEGIN:VEVENT
DTSTART;TZID=Asia/Dubai:20221026T103000
DTEND;TZID=Asia/Dubai:20221026T113000
DTSTAMP:20260424T050805
CREATED:20221025T233316Z
LAST-MODIFIED:20221025T233316Z
UID:10001092-1666780200-1666783800@walthamsonsofitaly.com
SUMMARY:Upstairs- Aucoin Event
DESCRIPTION:this is the text editor message box \n  \n  \n  \n  \n  \n  \n  \n  \n  \n  \nEnd of the box here
URL:https://walthamsonsofitaly.com/event/upstairs-aucoin-event/
CATEGORIES:Upstairs
END:VEVENT
BEGIN:VEVENT
DTSTART;TZID=Asia/Dubai:20221026T080000
DTEND;TZID=Asia/Dubai:20221026T170000
DTSTAMP:20260424T050805
CREATED:20221024T224008Z
LAST-MODIFIED:20221024T224008Z
UID:10001090-1666771200-1666803600@walthamsonsofitaly.com
SUMMARY:Donnie Test
DESCRIPTION:
URL:https://walthamsonsofitaly.com/event/donnie-test-4/
CATEGORIES:Upstairs
END:VEVENT
BEGIN:VEVENT
DTSTART;TZID=UTC:20221023T180000
DTEND;TZID=UTC:20221023T220000
DTSTAMP:20260424T050805
CREATED:20220803T215816Z
LAST-MODIFIED:20220803T215816Z
UID:10001044-1666548000-1666562400@walthamsonsofitaly.com
SUMMARY:Function
DESCRIPTION:
URL:https://walthamsonsofitaly.com/event/function-125/
CATEGORIES:Upstairs
END:VEVENT
BEGIN:VEVENT
DTSTART;TZID=UTC:20221022T190000
DTEND;TZID=UTC:20221022T230000
DTSTAMP:20260424T050805
CREATED:20220615T233428Z
LAST-MODIFIED:20220615T233428Z
UID:10001029-1666465200-1666479600@walthamsonsofitaly.com
SUMMARY:Function
DESCRIPTION:
URL:https://walthamsonsofitaly.com/event/function-113/
CATEGORIES:Upstairs
END:VEVENT
BEGIN:VEVENT
DTSTART;TZID=UTC:20221021T180000
DTEND;TZID=UTC:20221021T220000
DTSTAMP:20260424T050805
CREATED:20220803T215712Z
LAST-MODIFIED:20220803T215712Z
UID:10001043-1666375200-1666389600@walthamsonsofitaly.com
SUMMARY:softball
DESCRIPTION:
URL:https://walthamsonsofitaly.com/event/softball/
CATEGORIES:Upstairs
END:VEVENT
BEGIN:VEVENT
DTSTART;TZID=UTC:20221008T180000
DTEND;TZID=UTC:20221008T220000
DTSTAMP:20260424T050805
CREATED:20220511T032618Z
LAST-MODIFIED:20220511T032618Z
UID:10001015-1665252000-1665266400@walthamsonsofitaly.com
SUMMARY:Function
DESCRIPTION:
URL:https://walthamsonsofitaly.com/event/function-102/
CATEGORIES:Upstairs
END:VEVENT
BEGIN:VEVENT
DTSTART;TZID=UTC:20221002T110000
DTEND;TZID=UTC:20221002T150000
DTSTAMP:20260424T050805
CREATED:20220511T032411Z
LAST-MODIFIED:20220511T032411Z
UID:10001014-1664708400-1664722800@walthamsonsofitaly.com
SUMMARY:Function
DESCRIPTION:
URL:https://walthamsonsofitaly.com/event/function-101/
CATEGORIES:Upstairs
END:VEVENT
BEGIN:VEVENT
DTSTART;TZID=UTC:20221001T170000
DTEND;TZID=UTC:20221001T210000
DTSTAMP:20260424T050805
CREATED:20220803T215457Z
LAST-MODIFIED:20220803T215457Z
UID:10001042-1664643600-1664658000@walthamsonsofitaly.com
SUMMARY:Function
DESCRIPTION:
URL:https://walthamsonsofitaly.com/event/function-123/
CATEGORIES:Upstairs
END:VEVENT
BEGIN:VEVENT
DTSTART;TZID=UTC:20220925T130000
DTEND;TZID=UTC:20220925T170000
DTSTAMP:20260424T050805
CREATED:20220910T172542Z
LAST-MODIFIED:20220910T172542Z
UID:10001060-1664110800-1664125200@walthamsonsofitaly.com
SUMMARY:Function
DESCRIPTION:
URL:https://walthamsonsofitaly.com/event/function-136/
CATEGORIES:Upstairs
END:VEVENT
BEGIN:VEVENT
DTSTART;TZID=UTC:20220924T170000
DTEND;TZID=UTC:20220924T210000
DTSTAMP:20260424T050805
CREATED:20220722T153613Z
LAST-MODIFIED:20220722T153613Z
UID:10001033-1664038800-1664053200@walthamsonsofitaly.com
SUMMARY:Function
DESCRIPTION:
URL:https://walthamsonsofitaly.com/event/function-117/
CATEGORIES:Upstairs
END:VEVENT
BEGIN:VEVENT
DTSTART;TZID=UTC:20220917T180000
DTEND;TZID=UTC:20220917T220000
DTSTAMP:20260424T050805
CREATED:20220411T024129Z
LAST-MODIFIED:20220411T024129Z
UID:10000997-1663437600-1663452000@walthamsonsofitaly.com
SUMMARY:Function
DESCRIPTION:
URL:https://walthamsonsofitaly.com/event/function-84/
CATEGORIES:Upstairs
END:VEVENT
BEGIN:VEVENT
DTSTART;TZID=UTC:20220910T173000
DTEND;TZID=UTC:20220910T223000
DTSTAMP:20260424T050805
CREATED:20220803T215337Z
LAST-MODIFIED:20220803T215337Z
UID:10001041-1662831000-1662849000@walthamsonsofitaly.com
SUMMARY:Function
DESCRIPTION:
URL:https://walthamsonsofitaly.com/event/function-122/
CATEGORIES:Upstairs
END:VEVENT
BEGIN:VEVENT
DTSTART;TZID=UTC:20220827T190000
DTEND;TZID=UTC:20220827T230000
DTSTAMP:20260424T050805
CREATED:20220502T172548Z
LAST-MODIFIED:20220502T172548Z
UID:10001013-1661626800-1661641200@walthamsonsofitaly.com
SUMMARY:Functin
DESCRIPTION:
URL:https://walthamsonsofitaly.com/event/functin/
CATEGORIES:Upstairs
END:VEVENT
BEGIN:VEVENT
DTSTART;TZID=UTC:20220824T080000
DTEND;TZID=UTC:20220824T150000
DTSTAMP:20260424T050805
CREATED:20220803T215048Z
LAST-MODIFIED:20220803T215048Z
UID:10001038-1661328000-1661353200@walthamsonsofitaly.com
SUMMARY:bus company
DESCRIPTION:
URL:https://walthamsonsofitaly.com/event/bus-company-2/
CATEGORIES:Upstairs
END:VEVENT
BEGIN:VEVENT
DTSTART;TZID=UTC:20220823T080000
DTEND;TZID=UTC:20220823T150000
DTSTAMP:20260424T050805
CREATED:20220803T215002Z
LAST-MODIFIED:20220803T215002Z
UID:10001037-1661241600-1661266800@walthamsonsofitaly.com
SUMMARY:bus company
DESCRIPTION:
URL:https://walthamsonsofitaly.com/event/bus-company/
CATEGORIES:Upstairs
END:VEVENT
BEGIN:VEVENT
DTSTART;TZID=UTC:20220820T190000
DTEND;TZID=UTC:20220820T230000
DTSTAMP:20260424T050805
CREATED:20220130T194157Z
LAST-MODIFIED:20220130T194157Z
UID:10000961-1661022000-1661036400@walthamsonsofitaly.com
SUMMARY:Function
DESCRIPTION:
URL:https://walthamsonsofitaly.com/event/function-57/
CATEGORIES:Upstairs
END:VEVENT
BEGIN:VEVENT
DTSTART;TZID=UTC:20220814T130000
DTEND;TZID=UTC:20220814T170000
DTSTAMP:20260424T050805
CREATED:20220527T010506Z
LAST-MODIFIED:20220527T010506Z
UID:10001022-1660482000-1660496400@walthamsonsofitaly.com
SUMMARY:Function
DESCRIPTION:
URL:https://walthamsonsofitaly.com/event/function-110/
CATEGORIES:Upstairs
END:VEVENT
BEGIN:VEVENT
DTSTART;TZID=UTC:20220813T180000
DTEND;TZID=UTC:20220813T220000
DTSTAMP:20260424T050805
CREATED:20220803T214855Z
LAST-MODIFIED:20220803T214855Z
UID:10001036-1660413600-1660428000@walthamsonsofitaly.com
SUMMARY:Function
DESCRIPTION:
URL:https://walthamsonsofitaly.com/event/function-120/
CATEGORIES:Upstairs
END:VEVENT
BEGIN:VEVENT
DTSTART;TZID=UTC:20220806T190000
DTEND;TZID=UTC:20220806T230000
DTSTAMP:20260424T050805
CREATED:20220315T035443Z
LAST-MODIFIED:20220315T035443Z
UID:10000984-1659812400-1659826800@walthamsonsofitaly.com
SUMMARY:Function
DESCRIPTION:
URL:https://walthamsonsofitaly.com/event/function-72/
CATEGORIES:Upstairs
END:VEVENT
BEGIN:VEVENT
DTSTART;TZID=UTC:20220805T190000
DTEND;TZID=UTC:20220805T230000
DTSTAMP:20260424T050805
CREATED:20220615T233532Z
LAST-MODIFIED:20220615T233532Z
UID:10001030-1659726000-1659740400@walthamsonsofitaly.com
SUMMARY:Function
DESCRIPTION:
URL:https://walthamsonsofitaly.com/event/function-114/
CATEGORIES:Upstairs
END:VEVENT
BEGIN:VEVENT
DTSTART;TZID=UTC:20220730T180000
DTEND;TZID=UTC:20220730T220000
DTSTAMP:20260424T050805
CREATED:20220511T032722Z
LAST-MODIFIED:20220511T032722Z
UID:10001016-1659204000-1659218400@walthamsonsofitaly.com
SUMMARY:Function
DESCRIPTION:
URL:https://walthamsonsofitaly.com/event/function-103/
CATEGORIES:Upstairs
END:VEVENT
BEGIN:VEVENT
DTSTART;TZID=UTC:20220723T190000
DTEND;TZID=UTC:20220723T230000
DTSTAMP:20260424T050805
CREATED:20220315T035644Z
LAST-MODIFIED:20220315T035644Z
UID:10000985-1658602800-1658617200@walthamsonsofitaly.com
SUMMARY:Function
DESCRIPTION:
URL:https://walthamsonsofitaly.com/event/function-73/
CATEGORIES:Upstairs
END:VEVENT
BEGIN:VEVENT
DTSTART;TZID=UTC:20220722T080000
DTEND;TZID=UTC:20220722T170000
DTSTAMP:20260424T050805
CREATED:20220608T222440Z
LAST-MODIFIED:20220608T222440Z
UID:10001027-1658476800-1658509200@walthamsonsofitaly.com
SUMMARY:Function
DESCRIPTION:
URL:https://walthamsonsofitaly.com/event/function-112/
CATEGORIES:Upstairs
END:VEVENT
END:VCALENDAR