BEGIN:VCALENDAR
VERSION:2.0
PRODID:-//Sons of Italy Waltham - ECPv6.15.11//NONSGML v1.0//EN
CALSCALE:GREGORIAN
METHOD:PUBLISH
X-ORIGINAL-URL:https://walthamsonsofitaly.com
X-WR-CALDESC:Events for Sons of Italy Waltham
REFRESH-INTERVAL;VALUE=DURATION:PT1H
X-Robots-Tag:noindex
X-PUBLISHED-TTL:PT1H
BEGIN:VTIMEZONE
TZID:UTC
BEGIN:STANDARD
TZOFFSETFROM:+0000
TZOFFSETTO:+0000
TZNAME:UTC
DTSTART:20210101T000000
END:STANDARD
END:VTIMEZONE
BEGIN:VEVENT
DTSTART;TZID=UTC:20220710T160000
DTEND;TZID=UTC:20220710T200000
DTSTAMP:20260424T095409
CREATED:20220608T222340Z
LAST-MODIFIED:20220608T222340Z
UID:10001026-1657468800-1657483200@walthamsonsofitaly.com
SUMMARY:Function
DESCRIPTION:
URL:https://walthamsonsofitaly.com/event/function-109/
CATEGORIES:Upstairs
END:VEVENT
BEGIN:VEVENT
DTSTART;TZID=UTC:20220709T180000
DTEND;TZID=UTC:20220709T220000
DTSTAMP:20260424T095409
CREATED:20220204T191123Z
LAST-MODIFIED:20220204T191123Z
UID:10000965-1657389600-1657404000@walthamsonsofitaly.com
SUMMARY:function
DESCRIPTION:
URL:https://walthamsonsofitaly.com/event/function-59/
CATEGORIES:Upstairs
END:VEVENT
BEGIN:VEVENT
DTSTART;TZID=UTC:20220626T180000
DTEND;TZID=UTC:20220626T220000
DTSTAMP:20260424T095409
CREATED:20220429T234410Z
LAST-MODIFIED:20220429T234410Z
UID:10001007-1656266400-1656280800@walthamsonsofitaly.com
SUMMARY:Function
DESCRIPTION:
URL:https://walthamsonsofitaly.com/event/function-94/
CATEGORIES:Upstairs
END:VEVENT
BEGIN:VEVENT
DTSTART;TZID=UTC:20220625T060000
DTEND;TZID=UTC:20220625T220000
DTSTAMP:20260424T095409
CREATED:20220315T040430Z
LAST-MODIFIED:20220315T040430Z
UID:10000986-1656136800-1656194400@walthamsonsofitaly.com
SUMMARY:Function
DESCRIPTION:
URL:https://walthamsonsofitaly.com/event/function-75/
CATEGORIES:Upstairs
END:VEVENT
BEGIN:VEVENT
DTSTART;TZID=UTC:20220624T190000
DTEND;TZID=UTC:20220624T230000
DTSTAMP:20260424T095409
CREATED:20220430T003029Z
LAST-MODIFIED:20220430T003029Z
UID:10001012-1656097200-1656111600@walthamsonsofitaly.com
SUMMARY:Function
DESCRIPTION:
URL:https://walthamsonsofitaly.com/event/function-99/
CATEGORIES:Upstairs
END:VEVENT
BEGIN:VEVENT
DTSTART;TZID=UTC:20220618T183000
DTEND;TZID=UTC:20220618T223000
DTSTAMP:20260424T095409
CREATED:20220411T023717Z
LAST-MODIFIED:20220411T023717Z
UID:10000994-1655577000-1655591400@walthamsonsofitaly.com
SUMMARY:Function
DESCRIPTION:
URL:https://walthamsonsofitaly.com/event/function-81/
CATEGORIES:Upstairs
END:VEVENT
BEGIN:VEVENT
DTSTART;TZID=UTC:20220617T180000
DTEND;TZID=UTC:20220617T220000
DTSTAMP:20260424T095409
CREATED:20220527T010036Z
LAST-MODIFIED:20220527T010036Z
UID:10001021-1655488800-1655503200@walthamsonsofitaly.com
SUMMARY:Function
DESCRIPTION:
URL:https://walthamsonsofitaly.com/event/function-107/
CATEGORIES:Downstairs,Upstairs
END:VEVENT
BEGIN:VEVENT
DTSTART;TZID=UTC:20220611T190000
DTEND;TZID=UTC:20220611T230000
DTSTAMP:20260424T095409
CREATED:20220405T025000Z
LAST-MODIFIED:20220405T025000Z
UID:10000993-1654974000-1654988400@walthamsonsofitaly.com
SUMMARY:Function
DESCRIPTION:
URL:https://walthamsonsofitaly.com/event/function-80/
CATEGORIES:Upstairs
END:VEVENT
BEGIN:VEVENT
DTSTART;TZID=UTC:20220610T190000
DTEND;TZID=UTC:20220610T230000
DTSTAMP:20260424T095409
CREATED:20220429T234523Z
LAST-MODIFIED:20220429T234523Z
UID:10001008-1654887600-1654902000@walthamsonsofitaly.com
SUMMARY:Function
DESCRIPTION:
URL:https://walthamsonsofitaly.com/event/function-95/
CATEGORIES:Upstairs
END:VEVENT
BEGIN:VEVENT
DTSTART;TZID=UTC:20220605T190000
DTEND;TZID=UTC:20220605T230000
DTSTAMP:20260424T095409
CREATED:20220326T174430Z
LAST-MODIFIED:20220326T174430Z
UID:10000990-1654455600-1654470000@walthamsonsofitaly.com
SUMMARY:Function
DESCRIPTION:
URL:https://walthamsonsofitaly.com/event/function-78/
CATEGORIES:Upstairs
END:VEVENT
BEGIN:VEVENT
DTSTART;TZID=UTC:20220604T190000
DTEND;TZID=UTC:20220604T230000
DTSTAMP:20260424T095409
CREATED:20220429T235115Z
LAST-MODIFIED:20220429T235115Z
UID:10001010-1654369200-1654383600@walthamsonsofitaly.com
SUMMARY:Function
DESCRIPTION:
URL:https://walthamsonsofitaly.com/event/function-97/
CATEGORIES:Upstairs
END:VEVENT
BEGIN:VEVENT
DTSTART;TZID=UTC:20220528T180000
DTEND;TZID=UTC:20220528T220000
DTSTAMP:20260424T095409
CREATED:20220212T221325Z
LAST-MODIFIED:20220212T221325Z
UID:10000972-1653760800-1653775200@walthamsonsofitaly.com
SUMMARY:Function
DESCRIPTION:
URL:https://walthamsonsofitaly.com/event/function-62/
CATEGORIES:Upstairs
END:VEVENT
BEGIN:VEVENT
DTSTART;TZID=UTC:20220521T190000
DTEND;TZID=UTC:20220521T230000
DTSTAMP:20260424T095409
CREATED:20220204T190911Z
LAST-MODIFIED:20220204T190911Z
UID:10000964-1653159600-1653174000@walthamsonsofitaly.com
SUMMARY:Function
DESCRIPTION:
URL:https://walthamsonsofitaly.com/event/function-53/
CATEGORIES:Upstairs
END:VEVENT
BEGIN:VEVENT
DTSTART;TZID=UTC:20220515T153000
DTEND;TZID=UTC:20220515T193000
DTSTAMP:20260424T095409
CREATED:20220429T235305Z
LAST-MODIFIED:20220429T235305Z
UID:10001011-1652628600-1652643000@walthamsonsofitaly.com
SUMMARY:Function
DESCRIPTION:
URL:https://walthamsonsofitaly.com/event/function-98/
CATEGORIES:Upstairs
END:VEVENT
BEGIN:VEVENT
DTSTART;TZID=UTC:20220514T130000
DTEND;TZID=UTC:20220514T170000
DTSTAMP:20260424T095409
CREATED:20211112T201732Z
LAST-MODIFIED:20211112T201732Z
UID:10000930-1652533200-1652547600@walthamsonsofitaly.com
SUMMARY:function
DESCRIPTION:
URL:https://walthamsonsofitaly.com/event/function-30/
CATEGORIES:Upstairs
END:VEVENT
BEGIN:VEVENT
DTSTART;TZID=UTC:20220507T180000
DTEND;TZID=UTC:20220507T220000
DTSTAMP:20260424T095409
CREATED:20220211T170702Z
LAST-MODIFIED:20220211T170702Z
UID:10000969-1651946400-1651960800@walthamsonsofitaly.com
SUMMARY:Function
DESCRIPTION:
URL:https://walthamsonsofitaly.com/event/function-52/
CATEGORIES:Upstairs
END:VEVENT
BEGIN:VEVENT
DTSTART;TZID=UTC:20220506T190000
DTEND;TZID=UTC:20220506T230000
DTSTAMP:20260424T095409
CREATED:20220222T194038Z
LAST-MODIFIED:20220222T194038Z
UID:10000977-1651863600-1651878000@walthamsonsofitaly.com
SUMMARY:Function
DESCRIPTION:
URL:https://walthamsonsofitaly.com/event/function-64/
CATEGORIES:Upstairs
END:VEVENT
BEGIN:VEVENT
DTSTART;TZID=UTC:20220430T190000
DTEND;TZID=UTC:20220430T230000
DTSTAMP:20260424T095409
CREATED:20220130T194702Z
LAST-MODIFIED:20220130T194702Z
UID:10000962-1651345200-1651359600@walthamsonsofitaly.com
SUMMARY:Function
DESCRIPTION:
URL:https://walthamsonsofitaly.com/event/function-58/
CATEGORIES:Upstairs
END:VEVENT
BEGIN:VEVENT
DTSTART;TZID=UTC:20220423T190000
DTEND;TZID=UTC:20220423T230000
DTSTAMP:20260424T095409
CREATED:20220306T032050Z
LAST-MODIFIED:20220306T032050Z
UID:10000983-1650740400-1650754800@walthamsonsofitaly.com
SUMMARY:Function
DESCRIPTION:
URL:https://walthamsonsofitaly.com/event/function-71/
CATEGORIES:Upstairs
END:VEVENT
BEGIN:VEVENT
DTSTART;TZID=UTC:20220417T140000
DTEND;TZID=UTC:20220417T180000
DTSTAMP:20260424T095409
CREATED:20220405T024724Z
LAST-MODIFIED:20220405T024724Z
UID:10000991-1650204000-1650218400@walthamsonsofitaly.com
SUMMARY:Function
DESCRIPTION:
URL:https://walthamsonsofitaly.com/event/function-74/
CATEGORIES:Upstairs
END:VEVENT
BEGIN:VEVENT
DTSTART;TZID=UTC:20220409T180000
DTEND;TZID=UTC:20220409T220000
DTSTAMP:20260424T095409
CREATED:20211229T005751Z
LAST-MODIFIED:20211229T005751Z
UID:10000947-1649527200-1649541600@walthamsonsofitaly.com
SUMMARY:Function
DESCRIPTION:
URL:https://walthamsonsofitaly.com/event/function-41/
CATEGORIES:Upstairs
END:VEVENT
BEGIN:VEVENT
DTSTART;TZID=UTC:20220402T190000
DTEND;TZID=UTC:20220402T230000
DTSTAMP:20260424T095409
CREATED:20220216T035014Z
LAST-MODIFIED:20220216T035014Z
UID:10000973-1648926000-1648940400@walthamsonsofitaly.com
SUMMARY:Function
DESCRIPTION:
URL:https://walthamsonsofitaly.com/event/function-23/
CATEGORIES:Upstairs
END:VEVENT
BEGIN:VEVENT
DTSTART;TZID=UTC:20220326T180000
DTEND;TZID=UTC:20220326T220000
DTSTAMP:20260424T095409
CREATED:20220216T035136Z
LAST-MODIFIED:20220216T035136Z
UID:10000974-1648317600-1648332000@walthamsonsofitaly.com
SUMMARY:Function
DESCRIPTION:
URL:https://walthamsonsofitaly.com/event/function-54/
CATEGORIES:Upstairs
END:VEVENT
BEGIN:VEVENT
DTSTART;TZID=UTC:20220319T190000
DTEND;TZID=UTC:20220319T230000
DTSTAMP:20260424T095409
CREATED:20220212T220544Z
LAST-MODIFIED:20220212T220544Z
UID:10000970-1647716400-1647730800@walthamsonsofitaly.com
SUMMARY:Function
DESCRIPTION:
URL:https://walthamsonsofitaly.com/event/function-60/
CATEGORIES:Upstairs
END:VEVENT
BEGIN:VEVENT
DTSTART;TZID=UTC:20220312T190000
DTEND;TZID=UTC:20220312T230000
DTSTAMP:20260424T095409
CREATED:20220306T031912Z
LAST-MODIFIED:20220306T031912Z
UID:10000982-1647111600-1647126000@walthamsonsofitaly.com
SUMMARY:Function
DESCRIPTION:
URL:https://walthamsonsofitaly.com/event/function-70/
CATEGORIES:Upstairs
END:VEVENT
BEGIN:VEVENT
DTSTART;TZID=UTC:20220306T180000
DTEND;TZID=UTC:20220306T220000
DTSTAMP:20260424T095409
CREATED:20220204T192535Z
LAST-MODIFIED:20220204T192535Z
UID:10000967-1646589600-1646604000@walthamsonsofitaly.com
SUMMARY:Function
DESCRIPTION:
URL:https://walthamsonsofitaly.com/event/function-51/
CATEGORIES:Upstairs
END:VEVENT
BEGIN:VEVENT
DTSTART;TZID=UTC:20220213T120000
DTEND;TZID=UTC:20220213T160000
DTSTAMP:20260424T095409
CREATED:20220204T192144Z
LAST-MODIFIED:20220204T192144Z
UID:10000966-1644753600-1644768000@walthamsonsofitaly.com
SUMMARY:Function
DESCRIPTION:
URL:https://walthamsonsofitaly.com/event/function-39/
CATEGORIES:Upstairs
END:VEVENT
BEGIN:VEVENT
DTSTART;TZID=UTC:20220212T180000
DTEND;TZID=UTC:20220212T220000
DTSTAMP:20260424T095409
CREATED:20211229T005641Z
LAST-MODIFIED:20211229T005641Z
UID:10000946-1644688800-1644703200@walthamsonsofitaly.com
SUMMARY:Function
DESCRIPTION:
URL:https://walthamsonsofitaly.com/event/function-40/
CATEGORIES:Upstairs
END:VEVENT
BEGIN:VEVENT
DTSTART;TZID=UTC:20220129T190000
DTEND;TZID=UTC:20220129T230000
DTSTAMP:20260424T095409
CREATED:20211229T005428Z
LAST-MODIFIED:20211229T005428Z
UID:10000945-1643482800-1643497200@walthamsonsofitaly.com
SUMMARY:Function
DESCRIPTION:
URL:https://walthamsonsofitaly.com/event/function-38/
CATEGORIES:Upstairs
END:VEVENT
BEGIN:VEVENT
DTSTART;TZID=UTC:20220122T120000
DTEND;TZID=UTC:20220122T160000
DTSTAMP:20260424T095409
CREATED:20211229T005305Z
LAST-MODIFIED:20211229T005305Z
UID:10000944-1642852800-1642867200@walthamsonsofitaly.com
SUMMARY:Fuction
DESCRIPTION:
URL:https://walthamsonsofitaly.com/event/fuction-3/
CATEGORIES:Upstairs
END:VEVENT
END:VCALENDAR