BEGIN:VCALENDAR
VERSION:2.0
PRODID:-//Sons of Italy Waltham - ECPv6.15.11//NONSGML v1.0//EN
CALSCALE:GREGORIAN
METHOD:PUBLISH
X-WR-CALNAME:Sons of Italy Waltham
X-ORIGINAL-URL:https://walthamsonsofitaly.com
X-WR-CALDESC:Events for Sons of Italy Waltham
REFRESH-INTERVAL;VALUE=DURATION:PT1H
X-Robots-Tag:noindex
X-PUBLISHED-TTL:PT1H
BEGIN:VTIMEZONE
TZID:UTC
BEGIN:STANDARD
TZOFFSETFROM:+0000
TZOFFSETTO:+0000
TZNAME:UTC
DTSTART:20200101T000000
END:STANDARD
END:VTIMEZONE
BEGIN:VTIMEZONE
TZID:Asia/Dubai
BEGIN:STANDARD
TZOFFSETFROM:+0400
TZOFFSETTO:+0400
TZNAME:+04
DTSTART:20200101T000000
END:STANDARD
END:VTIMEZONE
BEGIN:VEVENT
DTSTART;TZID=UTC:20220116T180000
DTEND;TZID=UTC:20220116T220000
DTSTAMP:20260424T204754
CREATED:20220103T180442Z
LAST-MODIFIED:20220103T180442Z
UID:10000955-1642356000-1642370400@walthamsonsofitaly.com
SUMMARY:function
DESCRIPTION:
URL:https://walthamsonsofitaly.com/event/function-50/
CATEGORIES:Upstairs
END:VEVENT
BEGIN:VEVENT
DTSTART;TZID=UTC:20220115T190000
DTEND;TZID=UTC:20220115T230000
DTSTAMP:20260424T204754
CREATED:20220109T205337Z
LAST-MODIFIED:20220109T205337Z
UID:10000957-1642273200-1642287600@walthamsonsofitaly.com
SUMMARY:canceled
DESCRIPTION:
URL:https://walthamsonsofitaly.com/event/canceled-2/
CATEGORIES:Upstairs
END:VEVENT
BEGIN:VEVENT
DTSTART;TZID=UTC:20220115T190000
DTEND;TZID=UTC:20220115T230000
DTSTAMP:20260424T204754
CREATED:20211112T201952Z
LAST-MODIFIED:20211112T201952Z
UID:10000932-1642273200-1642287600@walthamsonsofitaly.com
SUMMARY:function
DESCRIPTION:
URL:https://walthamsonsofitaly.com/event/function-32/
CATEGORIES:Upstairs
END:VEVENT
BEGIN:VEVENT
DTSTART;TZID=UTC:20220108T180000
DTEND;TZID=UTC:20220108T220000
DTSTAMP:20260424T204754
CREATED:20211112T201843Z
LAST-MODIFIED:20211112T201843Z
UID:10000931-1641664800-1641679200@walthamsonsofitaly.com
SUMMARY:function
DESCRIPTION:
URL:https://walthamsonsofitaly.com/event/function-31/
CATEGORIES:Upstairs
END:VEVENT
BEGIN:VEVENT
DTSTART;TZID=UTC:20220107T190000
DTEND;TZID=UTC:20220107T230000
DTSTAMP:20260424T204754
CREATED:20211229T004939Z
LAST-MODIFIED:20211229T004939Z
UID:10000943-1641582000-1641596400@walthamsonsofitaly.com
SUMMARY:Function
DESCRIPTION:
URL:https://walthamsonsofitaly.com/event/function-37/
CATEGORIES:Upstairs
END:VEVENT
BEGIN:VEVENT
DTSTART;TZID=UTC:20211231T200000
DTEND;TZID=UTC:20211231T233000
DTSTAMP:20260424T204754
CREATED:20211112T202556Z
LAST-MODIFIED:20211112T202556Z
UID:10000934-1640980800-1640993400@walthamsonsofitaly.com
SUMMARY:new years party
DESCRIPTION:
URL:https://walthamsonsofitaly.com/event/new-years-party/
CATEGORIES:Upstairs
END:VEVENT
BEGIN:VEVENT
DTSTART;TZID=UTC:20211225T080000
DTEND;TZID=UTC:20211225T233000
DTSTAMP:20260424T204754
CREATED:20210922T035834Z
LAST-MODIFIED:20210922T035834Z
UID:10000917-1640419200-1640475000@walthamsonsofitaly.com
SUMMARY:holiday
DESCRIPTION:
URL:https://walthamsonsofitaly.com/event/holiday/
CATEGORIES:Downstairs,Upstairs
END:VEVENT
BEGIN:VEVENT
DTSTART;TZID=UTC:20211224T080000
DTEND;TZID=UTC:20211224T233000
DTSTAMP:20260424T204754
CREATED:20210922T035932Z
LAST-MODIFIED:20210922T035932Z
UID:10000918-1640332800-1640388600@walthamsonsofitaly.com
SUMMARY:holiday
DESCRIPTION:
URL:https://walthamsonsofitaly.com/event/holiday-2/
CATEGORIES:Downstairs,Upstairs
END:VEVENT
BEGIN:VEVENT
DTSTART;TZID=UTC:20211218T170000
DTEND;TZID=UTC:20211218T210000
DTSTAMP:20260424T204754
CREATED:20211218T052332Z
LAST-MODIFIED:20210922T042605Z
UID:10000920-1639846800-1639861200@walthamsonsofitaly.com
SUMMARY:Function
DESCRIPTION:
URL:https://walthamsonsofitaly.com/event/function-21/
CATEGORIES:Upstairs
END:VEVENT
BEGIN:VEVENT
DTSTART;TZID=UTC:20211218T170000
DTEND;TZID=UTC:20211218T210000
DTSTAMP:20260424T204754
CREATED:20210922T171239Z
LAST-MODIFIED:20210922T171239Z
UID:10000922-1639846800-1639861200@walthamsonsofitaly.com
SUMMARY:Function
DESCRIPTION:
URL:https://walthamsonsofitaly.com/event/function-22/
CATEGORIES:Upstairs
END:VEVENT
BEGIN:VEVENT
DTSTART;TZID=UTC:20211218T120000
DTEND;TZID=UTC:20211218T200000
DTSTAMP:20260424T204754
CREATED:20210922T035239Z
LAST-MODIFIED:20210922T035239Z
UID:10000915-1639828800-1639857600@walthamsonsofitaly.com
SUMMARY:Function
DESCRIPTION:
URL:https://walthamsonsofitaly.com/event/function-19/
CATEGORIES:Upstairs
END:VEVENT
BEGIN:VEVENT
DTSTART;TZID=UTC:20211211T170000
DTEND;TZID=UTC:20211211T210000
DTSTAMP:20260424T204754
CREATED:20210922T035151Z
LAST-MODIFIED:20210922T035151Z
UID:10000913-1639242000-1639256400@walthamsonsofitaly.com
SUMMARY:Function
DESCRIPTION:
URL:https://walthamsonsofitaly.com/event/function-17/
CATEGORIES:Upstairs
END:VEVENT
BEGIN:VEVENT
DTSTART;TZID=UTC:20211204T190000
DTEND;TZID=UTC:20211204T230000
DTSTAMP:20260424T204754
CREATED:20210922T043310Z
LAST-MODIFIED:20210922T043310Z
UID:10000921-1638644400-1638658800@walthamsonsofitaly.com
SUMMARY:Fuction
DESCRIPTION:
URL:https://walthamsonsofitaly.com/event/fuction/
CATEGORIES:Upstairs
END:VEVENT
BEGIN:VEVENT
DTSTART;TZID=UTC:20211127T190000
DTEND;TZID=UTC:20211127T230000
DTSTAMP:20260424T204754
CREATED:20210922T033702Z
LAST-MODIFIED:20210922T033702Z
UID:10000903-1638039600-1638054000@walthamsonsofitaly.com
SUMMARY:Function
DESCRIPTION:
URL:https://walthamsonsofitaly.com/event/function-7/
CATEGORIES:Upstairs
END:VEVENT
BEGIN:VEVENT
DTSTART;TZID=UTC:20211125T080000
DTEND;TZID=UTC:20211125T233000
DTSTAMP:20260424T204754
CREATED:20210922T040356Z
LAST-MODIFIED:20210922T040356Z
UID:10000919-1637827200-1637883000@walthamsonsofitaly.com
SUMMARY:Holiday
DESCRIPTION:
URL:https://walthamsonsofitaly.com/event/holiday-3/
CATEGORIES:Downstairs,Upstairs
END:VEVENT
BEGIN:VEVENT
DTSTART;TZID=UTC:20211121T153000
DTEND;TZID=UTC:20211121T193000
DTSTAMP:20260424T204754
CREATED:20211112T203203Z
LAST-MODIFIED:20211112T203203Z
UID:10000937-1637508600-1637523000@walthamsonsofitaly.com
SUMMARY:fun fair
DESCRIPTION:
URL:https://walthamsonsofitaly.com/event/fun-fair/
CATEGORIES:Upstairs
END:VEVENT
BEGIN:VEVENT
DTSTART;TZID=UTC:20211120T190000
DTEND;TZID=UTC:20211120T230000
DTSTAMP:20260424T204754
CREATED:20210922T033553Z
LAST-MODIFIED:20210922T033553Z
UID:10000902-1637434800-1637449200@walthamsonsofitaly.com
SUMMARY:Function
DESCRIPTION:
URL:https://walthamsonsofitaly.com/event/function-6/
CATEGORIES:Upstairs
END:VEVENT
BEGIN:VEVENT
DTSTART;TZID=UTC:20211106T190000
DTEND;TZID=UTC:20211106T230000
DTSTAMP:20260424T204754
CREATED:20210922T033428Z
LAST-MODIFIED:20210922T033428Z
UID:10000901-1636225200-1636239600@walthamsonsofitaly.com
SUMMARY:Function
DESCRIPTION:
URL:https://walthamsonsofitaly.com/event/function-4/
CATEGORIES:Upstairs
END:VEVENT
BEGIN:VEVENT
DTSTART;TZID=UTC:20211104T190000
DTEND;TZID=UTC:20211104T230000
DTSTAMP:20260424T204754
CREATED:20210922T034934Z
LAST-MODIFIED:20210922T034934Z
UID:10000911-1636052400-1636066800@walthamsonsofitaly.com
SUMMARY:Function
DESCRIPTION:
URL:https://walthamsonsofitaly.com/event/function-15/
CATEGORIES:Upstairs
END:VEVENT
BEGIN:VEVENT
DTSTART;TZID=UTC:20211030T190000
DTEND;TZID=UTC:20211030T230000
DTSTAMP:20260424T204754
CREATED:20210922T032948Z
LAST-MODIFIED:20210922T032948Z
UID:10000900-1635620400-1635634800@walthamsonsofitaly.com
SUMMARY:Function
DESCRIPTION:
URL:https://walthamsonsofitaly.com/event/function-3/
CATEGORIES:Upstairs
END:VEVENT
BEGIN:VEVENT
DTSTART;TZID=UTC:20211024T160000
DTEND;TZID=UTC:20211024T200000
DTSTAMP:20260424T204754
CREATED:20211004T233920Z
LAST-MODIFIED:20211004T233920Z
UID:10000925-1635091200-1635105600@walthamsonsofitaly.com
SUMMARY:function
DESCRIPTION:
URL:https://walthamsonsofitaly.com/event/function-26/
CATEGORIES:Upstairs
END:VEVENT
BEGIN:VEVENT
DTSTART;TZID=UTC:20211022T190000
DTEND;TZID=UTC:20211022T230000
DTSTAMP:20260424T204754
CREATED:20211004T233732Z
LAST-MODIFIED:20211004T233732Z
UID:10000924-1634929200-1634943600@walthamsonsofitaly.com
SUMMARY:function
DESCRIPTION:
URL:https://walthamsonsofitaly.com/event/function-25/
CATEGORIES:Upstairs
END:VEVENT
BEGIN:VEVENT
DTSTART;TZID=UTC:20211016T193000
DTEND;TZID=UTC:20211016T233000
DTSTAMP:20260424T204754
CREATED:20210922T032827Z
LAST-MODIFIED:20210922T032827Z
UID:10000899-1634412600-1634427000@walthamsonsofitaly.com
SUMMARY:Function
DESCRIPTION:
URL:https://walthamsonsofitaly.com/event/function-2/
CATEGORIES:Upstairs
END:VEVENT
BEGIN:VEVENT
DTSTART;TZID=UTC:20211010T190000
DTEND;TZID=UTC:20211010T230000
DTSTAMP:20260424T204754
CREATED:20211004T233625Z
LAST-MODIFIED:20211004T233625Z
UID:10000923-1633892400-1633906800@walthamsonsofitaly.com
SUMMARY:function
DESCRIPTION:
URL:https://walthamsonsofitaly.com/event/function-24/
CATEGORIES:Upstairs
END:VEVENT
BEGIN:VEVENT
DTSTART;TZID=UTC:20211009T183000
DTEND;TZID=UTC:20211009T223000
DTSTAMP:20260424T204754
CREATED:20210922T032650Z
LAST-MODIFIED:20210922T032650Z
UID:10000898-1633804200-1633818600@walthamsonsofitaly.com
SUMMARY:Function
DESCRIPTION:
URL:https://walthamsonsofitaly.com/event/function/
CATEGORIES:Upstairs
END:VEVENT
BEGIN:VEVENT
DTSTART;TZID=UTC:20210926T130000
DTEND;TZID=UTC:20210926T170000
DTSTAMP:20260424T204754
CREATED:20210922T023401Z
LAST-MODIFIED:20210922T023401Z
UID:10000894-1632661200-1632675600@walthamsonsofitaly.com
SUMMARY:Enter an Event Title to appear on Calendar
DESCRIPTION:
URL:https://walthamsonsofitaly.com/event/enter-an-event-title-to-appear-on-calendar-3/
CATEGORIES:Upstairs
END:VEVENT
BEGIN:VEVENT
DTSTART;TZID=UTC:20210925T190000
DTEND;TZID=UTC:20210925T230000
DTSTAMP:20260424T204754
CREATED:20210922T031406Z
LAST-MODIFIED:20210922T031545Z
UID:10000895-1632596400-1632610800@walthamsonsofitaly.com
SUMMARY:party
DESCRIPTION:
URL:https://walthamsonsofitaly.com/event/party/
CATEGORIES:Upstairs
END:VEVENT
BEGIN:VEVENT
DTSTART;TZID=Asia/Dubai:20210901T010000
DTEND;TZID=Asia/Dubai:20210901T020000
DTSTAMP:20260424T204754
CREATED:20210820T201801Z
LAST-MODIFIED:20210820T201801Z
UID:10000889-1630458000-1630461600@walthamsonsofitaly.com
SUMMARY:new month
DESCRIPTION:month of Sept
URL:https://walthamsonsofitaly.com/event/new-month/
CATEGORIES:Upstairs
END:VEVENT
BEGIN:VEVENT
DTSTART;TZID=UTC:20210901T010000
DTEND;TZID=UTC:20210901T020000
DTSTAMP:20260424T204754
CREATED:20210820T200401Z
LAST-MODIFIED:20210820T200401Z
UID:10000888-1630458000-1630461600@walthamsonsofitaly.com
SUMMARY:September
DESCRIPTION:
URL:https://walthamsonsofitaly.com/event/september/
CATEGORIES:Upstairs
END:VEVENT
BEGIN:VEVENT
DTSTART;TZID=Asia/Dubai:20210801T010000
DTEND;TZID=Asia/Dubai:20210801T013000
DTSTAMP:20260424T204754
CREATED:20210820T200154Z
LAST-MODIFIED:20210820T200154Z
UID:10000887-1627779600-1627781400@walthamsonsofitaly.com
SUMMARY:August
DESCRIPTION:
URL:https://walthamsonsofitaly.com/event/august/
CATEGORIES:Upstairs
END:VEVENT
END:VCALENDAR