BEGIN:VCALENDAR
VERSION:2.0
PRODID:-//Sons of Italy Waltham - ECPv6.15.11//NONSGML v1.0//EN
CALSCALE:GREGORIAN
METHOD:PUBLISH
X-WR-CALNAME:Sons of Italy Waltham
X-ORIGINAL-URL:https://walthamsonsofitaly.com
X-WR-CALDESC:Events for Sons of Italy Waltham
REFRESH-INTERVAL;VALUE=DURATION:PT1H
X-Robots-Tag:noindex
X-PUBLISHED-TTL:PT1H
BEGIN:VTIMEZONE
TZID:America/New_York
BEGIN:DAYLIGHT
TZOFFSETFROM:-0500
TZOFFSETTO:-0400
TZNAME:EDT
DTSTART:20230312T070000
END:DAYLIGHT
BEGIN:STANDARD
TZOFFSETFROM:-0400
TZOFFSETTO:-0500
TZNAME:EST
DTSTART:20231105T060000
END:STANDARD
BEGIN:DAYLIGHT
TZOFFSETFROM:-0500
TZOFFSETTO:-0400
TZNAME:EDT
DTSTART:20240310T070000
END:DAYLIGHT
BEGIN:STANDARD
TZOFFSETFROM:-0400
TZOFFSETTO:-0500
TZNAME:EST
DTSTART:20241103T060000
END:STANDARD
BEGIN:DAYLIGHT
TZOFFSETFROM:-0500
TZOFFSETTO:-0400
TZNAME:EDT
DTSTART:20250309T070000
END:DAYLIGHT
BEGIN:STANDARD
TZOFFSETFROM:-0400
TZOFFSETTO:-0500
TZNAME:EST
DTSTART:20251102T060000
END:STANDARD
BEGIN:DAYLIGHT
TZOFFSETFROM:-0500
TZOFFSETTO:-0400
TZNAME:EDT
DTSTART:20260308T070000
END:DAYLIGHT
BEGIN:STANDARD
TZOFFSETFROM:-0400
TZOFFSETTO:-0500
TZNAME:EST
DTSTART:20261101T060000
END:STANDARD
END:VTIMEZONE
BEGIN:VEVENT
DTSTART;TZID=America/New_York:20250524T190000
DTEND;TZID=America/New_York:20250524T230000
DTSTAMP:20260423T030350
CREATED:20250501T221533Z
LAST-MODIFIED:20250501T221533Z
UID:10001379-1748113200-1748127600@walthamsonsofitaly.com
SUMMARY:Baby Shower
DESCRIPTION:
URL:https://walthamsonsofitaly.com/event/baby-shower-2/
CATEGORIES:Upstairs
END:VEVENT
BEGIN:VEVENT
DTSTART;VALUE=DATE:20250524
DTEND;VALUE=DATE:20250525
DTSTAMP:20260423T030350
CREATED:20250122T195808Z
LAST-MODIFIED:20250122T195808Z
UID:10001364-1748044800-1748131199@walthamsonsofitaly.com
SUMMARY:Graduation
DESCRIPTION:150 Guests regular stup
URL:https://walthamsonsofitaly.com/event/graduation-15/
CATEGORIES:Upstairs
END:VEVENT
BEGIN:VEVENT
DTSTART;TZID=America/New_York:20250523T173000
DTEND;TZID=America/New_York:20250523T213000
DTSTAMP:20260423T030350
CREATED:20250501T221440Z
LAST-MODIFIED:20250501T221440Z
UID:10001378-1748021400-1748035800@walthamsonsofitaly.com
SUMMARY:Wedding
DESCRIPTION:
URL:https://walthamsonsofitaly.com/event/wedding-18/
CATEGORIES:Upstairs
END:VEVENT
BEGIN:VEVENT
DTSTART;TZID=America/New_York:20250517T190000
DTEND;TZID=America/New_York:20250517T230000
DTSTAMP:20260423T030350
CREATED:20250122T195643Z
LAST-MODIFIED:20250122T195643Z
UID:10001363-1747508400-1747522800@walthamsonsofitaly.com
SUMMARY:50th Bday
DESCRIPTION:150 Guests regular setup
URL:https://walthamsonsofitaly.com/event/50th-bday-7/
CATEGORIES:Upstairs
END:VEVENT
BEGIN:VEVENT
DTSTART;TZID=America/New_York:20250516T190000
DTEND;TZID=America/New_York:20250516T230000
DTSTAMP:20260423T030350
CREATED:20250501T221300Z
LAST-MODIFIED:20250501T221300Z
UID:10001377-1747422000-1747436400@walthamsonsofitaly.com
SUMMARY:Graduation
DESCRIPTION:
URL:https://walthamsonsofitaly.com/event/graduation-17/
CATEGORIES:Upstairs
END:VEVENT
BEGIN:VEVENT
DTSTART;TZID=America/New_York:20250516T190000
DTEND;TZID=America/New_York:20250516T230000
DTSTAMP:20260423T030350
CREATED:20250122T195404Z
LAST-MODIFIED:20250122T195404Z
UID:10001362-1747422000-1747436400@walthamsonsofitaly.com
SUMMARY:Graduation
DESCRIPTION:150 Guests Regular Setup
URL:https://walthamsonsofitaly.com/event/graduation-14/
CATEGORIES:Upstairs
END:VEVENT
BEGIN:VEVENT
DTSTART;VALUE=DATE:20250516
DTEND;VALUE=DATE:20250517
DTSTAMP:20260423T030350
CREATED:20240712T133636Z
LAST-MODIFIED:20240712T133636Z
UID:10001305-1747353600-1747439999@walthamsonsofitaly.com
SUMMARY:Graduation
DESCRIPTION:150 guests\, possibly from 7pm to 11pm
URL:https://walthamsonsofitaly.com/event/graduation-12/
CATEGORIES:Upstairs
END:VEVENT
BEGIN:VEVENT
DTSTART;TZID=America/New_York:20250504T180000
DTEND;TZID=America/New_York:20250504T220000
DTSTAMP:20260423T030350
CREATED:20250501T220907Z
LAST-MODIFIED:20250501T220907Z
UID:10001375-1746381600-1746396000@walthamsonsofitaly.com
SUMMARY:Christening
DESCRIPTION:
URL:https://walthamsonsofitaly.com/event/christening/
CATEGORIES:Upstairs
END:VEVENT
BEGIN:VEVENT
DTSTART;TZID=America/New_York:20250503T190000
DTEND;TZID=America/New_York:20250503T230000
DTSTAMP:20260423T030350
CREATED:20250501T220657Z
LAST-MODIFIED:20250501T220657Z
UID:10001374-1746298800-1746313200@walthamsonsofitaly.com
SUMMARY:Graduation
DESCRIPTION:
URL:https://walthamsonsofitaly.com/event/graduation-16/
CATEGORIES:Upstairs
END:VEVENT
BEGIN:VEVENT
DTSTART;VALUE=DATE:20250503
DTEND;VALUE=DATE:20250504
DTSTAMP:20260423T030350
CREATED:20250122T194607Z
LAST-MODIFIED:20250122T194607Z
UID:10001360-1746230400-1746316799@walthamsonsofitaly.com
SUMMARY:Graduation
DESCRIPTION:
URL:https://walthamsonsofitaly.com/event/graduation-13/
CATEGORIES:Upstairs
END:VEVENT
BEGIN:VEVENT
DTSTART;VALUE=DATE:20250502
DTEND;VALUE=DATE:20250503
DTSTAMP:20260423T030350
CREATED:20250122T194447Z
LAST-MODIFIED:20250122T194447Z
UID:10001359-1746144000-1746230399@walthamsonsofitaly.com
SUMMARY:Wedding
DESCRIPTION:
URL:https://walthamsonsofitaly.com/event/wedding-15/
CATEGORIES:Upstairs
END:VEVENT
BEGIN:VEVENT
DTSTART;VALUE=DATE:20250502
DTEND;VALUE=DATE:20250503
DTSTAMP:20260423T030350
CREATED:20240712T133432Z
LAST-MODIFIED:20240712T133432Z
UID:10001304-1746144000-1746230399@walthamsonsofitaly.com
SUMMARY:Wedding
DESCRIPTION:Will be renting lower hall for mass for 3 hours before reception. No exact time yet.
URL:https://walthamsonsofitaly.com/event/wedding-11/
CATEGORIES:Downstairs,Upstairs
END:VEVENT
BEGIN:VEVENT
DTSTART;TZID=America/New_York:20250501T120000
DTEND;TZID=America/New_York:20250510T160000
DTSTAMP:20260423T030350
CREATED:20250501T221037Z
LAST-MODIFIED:20250501T221037Z
UID:10001376-1746100800-1746892800@walthamsonsofitaly.com
SUMMARY:Church Event
DESCRIPTION:
URL:https://walthamsonsofitaly.com/event/church-event/
CATEGORIES:Upstairs
END:VEVENT
BEGIN:VEVENT
DTSTART;VALUE=DATE:20250405
DTEND;VALUE=DATE:20250406
DTSTAMP:20260423T030350
CREATED:20250122T194343Z
LAST-MODIFIED:20250122T194343Z
UID:10001358-1743811200-1743897599@walthamsonsofitaly.com
SUMMARY:Baby Shower
DESCRIPTION:90 Gussts regular setup
URL:https://walthamsonsofitaly.com/event/baby-shower/
CATEGORIES:Upstairs
END:VEVENT
BEGIN:VEVENT
DTSTART;TZID=America/New_York:20250322T190000
DTEND;TZID=America/New_York:20250322T230000
DTSTAMP:20260423T030350
CREATED:20250122T193046Z
LAST-MODIFIED:20250122T193046Z
UID:10001356-1742670000-1742684400@walthamsonsofitaly.com
SUMMARY:30th Bday
DESCRIPTION:150 Guests regular set up
URL:https://walthamsonsofitaly.com/event/30th-bday-3/
CATEGORIES:Upstairs
END:VEVENT
BEGIN:VEVENT
DTSTART;VALUE=DATE:20250301
DTEND;VALUE=DATE:20250302
DTSTAMP:20260423T030350
CREATED:20250122T192535Z
LAST-MODIFIED:20250122T192535Z
UID:10001354-1740787200-1740873599@walthamsonsofitaly.com
SUMMARY:1st Bday
DESCRIPTION:*
URL:https://walthamsonsofitaly.com/event/1st-bday-29/
CATEGORIES:Upstairs
END:VEVENT
BEGIN:VEVENT
DTSTART;VALUE=DATE:20250223
DTEND;VALUE=DATE:20250224
DTSTAMP:20260423T030350
CREATED:20250122T191446Z
LAST-MODIFIED:20250122T191446Z
UID:10001352-1740268800-1740355199@walthamsonsofitaly.com
SUMMARY:DJ GATO Dance
DESCRIPTION:TBA
URL:https://walthamsonsofitaly.com/event/dj-gato-dance/
CATEGORIES:Upstairs
END:VEVENT
BEGIN:VEVENT
DTSTART;VALUE=DATE:20250216
DTEND;VALUE=DATE:20250217
DTSTAMP:20260423T030350
CREATED:20250122T021651Z
LAST-MODIFIED:20250122T021651Z
UID:10001351-1739664000-1739750399@walthamsonsofitaly.com
SUMMARY:50th Bday
DESCRIPTION:150 guests regular set up
URL:https://walthamsonsofitaly.com/event/50th-bday-6/
CATEGORIES:Upstairs
END:VEVENT
BEGIN:VEVENT
DTSTART;TZID=America/New_York:20250215T190000
DTEND;TZID=America/New_York:20250215T230000
DTSTAMP:20260423T030350
CREATED:20250116T005828Z
LAST-MODIFIED:20250116T005828Z
UID:10001349-1739646000-1739660400@walthamsonsofitaly.com
SUMMARY:Singles dance
DESCRIPTION:150 guests\, regular set up
URL:https://walthamsonsofitaly.com/event/singles-dance/
CATEGORIES:Upstairs
END:VEVENT
BEGIN:VEVENT
DTSTART;TZID=America/New_York:20250214T190000
DTEND;TZID=America/New_York:20250214T230000
DTSTAMP:20260423T030350
CREATED:20250116T005559Z
LAST-MODIFIED:20250116T005559Z
UID:10001348-1739559600-1739574000@walthamsonsofitaly.com
SUMMARY:Quincianera
DESCRIPTION:90 guests\, 7pm to 11pm \n 
URL:https://walthamsonsofitaly.com/event/quincianera-5/
CATEGORIES:Upstairs
END:VEVENT
BEGIN:VEVENT
DTSTART;TZID=America/New_York:20250214T190000
DTEND;TZID=America/New_York:20250214T230000
DTSTAMP:20260423T030350
CREATED:20250116T005404Z
LAST-MODIFIED:20250116T005404Z
UID:10001347-1739559600-1739574000@walthamsonsofitaly.com
SUMMARY:Singles Dance Night
DESCRIPTION:
URL:https://walthamsonsofitaly.com/event/singles-dance-night/
CATEGORIES:Upstairs
END:VEVENT
BEGIN:VEVENT
DTSTART;TZID=America/New_York:20250208T190000
DTEND;TZID=America/New_York:20250208T230000
DTSTAMP:20260423T030350
CREATED:20250116T004832Z
LAST-MODIFIED:20250116T004832Z
UID:10001344-1739041200-1739055600@walthamsonsofitaly.com
SUMMARY:Bday
DESCRIPTION:150 guests\, 7pm to 11pm\, regular set up\, possibility of extra hour
URL:https://walthamsonsofitaly.com/event/bday-14/
CATEGORIES:Upstairs
END:VEVENT
BEGIN:VEVENT
DTSTART;VALUE=DATE:20250201
DTEND;VALUE=DATE:20250202
DTSTAMP:20260423T030350
CREATED:20250116T004654Z
LAST-MODIFIED:20250116T004654Z
UID:10001343-1738368000-1738454399@walthamsonsofitaly.com
SUMMARY:Waltham Basketball Fundraiser
DESCRIPTION:150 guests\, regular set up
URL:https://walthamsonsofitaly.com/event/waltham-basketball-fundraiser/
CATEGORIES:Upstairs
END:VEVENT
BEGIN:VEVENT
DTSTART;TZID=America/New_York:20250131T190000
DTEND;TZID=America/New_York:20250131T230000
DTSTAMP:20260423T030350
CREATED:20250122T020853Z
LAST-MODIFIED:20250122T020853Z
UID:10001350-1738350000-1738364400@walthamsonsofitaly.com
SUMMARY:70th Bday
DESCRIPTION:130 guests\, 12 tables 8 chira each. 7pm to 11pm
URL:https://walthamsonsofitaly.com/event/70th-bday-3/
CATEGORIES:Upstairs
END:VEVENT
BEGIN:VEVENT
DTSTART;TZID=America/New_York:20250131T190000
DTEND;TZID=America/New_York:20250131T230000
DTSTAMP:20260423T030350
CREATED:20250116T004311Z
LAST-MODIFIED:20250116T004311Z
UID:10001341-1738350000-1738364400@walthamsonsofitaly.com
SUMMARY:70th Bday
DESCRIPTION:130 guests\, 7pm to 11pm\,regular set up \n  \n  \n  \n 
URL:https://walthamsonsofitaly.com/event/70th-bday-2/
CATEGORIES:Upstairs
END:VEVENT
BEGIN:VEVENT
DTSTART;TZID=America/New_York:20250126T190000
DTEND;TZID=America/New_York:20250126T230000
DTSTAMP:20260423T030350
CREATED:20250116T003955Z
LAST-MODIFIED:20250116T003955Z
UID:10001339-1737918000-1737932400@walthamsonsofitaly.com
SUMMARY:Babyshower
DESCRIPTION:130 guests\, 2pm to 6pm\, regular set up
URL:https://walthamsonsofitaly.com/event/babyshower-28/
CATEGORIES:Upstairs
END:VEVENT
BEGIN:VEVENT
DTSTART;TZID=America/New_York:20250125T190000
DTEND;TZID=America/New_York:20250125T230000
DTSTAMP:20260423T030350
CREATED:20250116T003751Z
LAST-MODIFIED:20250116T003751Z
UID:10001338-1737831600-1737846000@walthamsonsofitaly.com
SUMMARY:50th bday
DESCRIPTION:150 guests\, regular set up\, possibility of extra hour\, 7pm to 11pm
URL:https://walthamsonsofitaly.com/event/50th-bday-5/
CATEGORIES:Upstairs
END:VEVENT
BEGIN:VEVENT
DTSTART;VALUE=DATE:20241231
DTEND;VALUE=DATE:20250101
DTSTAMP:20260423T030350
CREATED:20240712T132550Z
LAST-MODIFIED:20240712T132550Z
UID:10001302-1735603200-1735689599@walthamsonsofitaly.com
SUMMARY:Church Celebration
DESCRIPTION:
URL:https://walthamsonsofitaly.com/event/church-celebration/
CATEGORIES:Upstairs
END:VEVENT
BEGIN:VEVENT
DTSTART;VALUE=DATE:20241228
DTEND;VALUE=DATE:20241229
DTSTAMP:20260423T030350
CREATED:20240925T135006Z
LAST-MODIFIED:20240925T135006Z
UID:10001334-1735344000-1735430399@walthamsonsofitaly.com
SUMMARY:Musical gathering
DESCRIPTION:150 guests\, no tables\, some chairs\, no time yet possibility of extra hour
URL:https://walthamsonsofitaly.com/event/musical-gathering-2/
CATEGORIES:Upstairs
END:VEVENT
BEGIN:VEVENT
DTSTART;TZID=America/New_York:20241221T170000
DTEND;TZID=America/New_York:20241221T210000
DTSTAMP:20260423T030350
CREATED:20240925T134746Z
LAST-MODIFIED:20240925T134746Z
UID:10001333-1734800400-1734814800@walthamsonsofitaly.com
SUMMARY:15th Bday
DESCRIPTION:100 guests\, 5pm-9pm with possibility of extra hour
URL:https://walthamsonsofitaly.com/event/15th-bday-11/
CATEGORIES:Upstairs
END:VEVENT
END:VCALENDAR