BEGIN:VCALENDAR
VERSION:2.0
PRODID:-//Sons of Italy Waltham - ECPv6.15.11//NONSGML v1.0//EN
CALSCALE:GREGORIAN
METHOD:PUBLISH
X-ORIGINAL-URL:https://walthamsonsofitaly.com
X-WR-CALDESC:Events for Sons of Italy Waltham
REFRESH-INTERVAL;VALUE=DURATION:PT1H
X-Robots-Tag:noindex
X-PUBLISHED-TTL:PT1H
BEGIN:VTIMEZONE
TZID:America/New_York
BEGIN:DAYLIGHT
TZOFFSETFROM:-0500
TZOFFSETTO:-0400
TZNAME:EDT
DTSTART:20230312T070000
END:DAYLIGHT
BEGIN:STANDARD
TZOFFSETFROM:-0400
TZOFFSETTO:-0500
TZNAME:EST
DTSTART:20231105T060000
END:STANDARD
BEGIN:DAYLIGHT
TZOFFSETFROM:-0500
TZOFFSETTO:-0400
TZNAME:EDT
DTSTART:20240310T070000
END:DAYLIGHT
BEGIN:STANDARD
TZOFFSETFROM:-0400
TZOFFSETTO:-0500
TZNAME:EST
DTSTART:20241103T060000
END:STANDARD
BEGIN:DAYLIGHT
TZOFFSETFROM:-0500
TZOFFSETTO:-0400
TZNAME:EDT
DTSTART:20250309T070000
END:DAYLIGHT
BEGIN:STANDARD
TZOFFSETFROM:-0400
TZOFFSETTO:-0500
TZNAME:EST
DTSTART:20251102T060000
END:STANDARD
END:VTIMEZONE
BEGIN:VEVENT
DTSTART;VALUE=DATE:20241220
DTEND;VALUE=DATE:20241221
DTSTAMP:20260423T083214
CREATED:20240925T134519Z
LAST-MODIFIED:20240925T134519Z
UID:10001332-1734652800-1734739199@walthamsonsofitaly.com
SUMMARY:Church
DESCRIPTION:About 150 guests\, regular set up\, no time yet
URL:https://walthamsonsofitaly.com/event/church-2/
CATEGORIES:Upstairs
END:VEVENT
BEGIN:VEVENT
DTSTART;VALUE=DATE:20241214
DTEND;VALUE=DATE:20241215
DTSTAMP:20260423T083214
CREATED:20240712T132201Z
LAST-MODIFIED:20240712T132201Z
UID:10001299-1734134400-1734220799@walthamsonsofitaly.com
SUMMARY:1st Bday
DESCRIPTION:150 guests\, no time yet
URL:https://walthamsonsofitaly.com/event/1st-bday-24/
CATEGORIES:Upstairs
END:VEVENT
BEGIN:VEVENT
DTSTART;VALUE=DATE:20241207
DTEND;VALUE=DATE:20241208
DTSTAMP:20260423T083214
CREATED:20240712T131925Z
LAST-MODIFIED:20240712T131925Z
UID:10001297-1733529600-1733615999@walthamsonsofitaly.com
SUMMARY:Surprise 50th B-day
DESCRIPTION:150 guests\, 8pm to 1pm
URL:https://walthamsonsofitaly.com/event/surprise-50th-b-day/
CATEGORIES:Upstairs
END:VEVENT
BEGIN:VEVENT
DTSTART;VALUE=DATE:20241130
DTEND;VALUE=DATE:20241201
DTSTAMP:20260423T083214
CREATED:20240712T131539Z
LAST-MODIFIED:20240712T131539Z
UID:10001295-1732924800-1733011199@walthamsonsofitaly.com
SUMMARY:Ricci's family xmas party
DESCRIPTION:100 guests\, no exact time yet\, member of hall.
URL:https://walthamsonsofitaly.com/event/riccis-family-xmas-party/
CATEGORIES:Upstairs
END:VEVENT
BEGIN:VEVENT
DTSTART;VALUE=DATE:20241130
DTEND;VALUE=DATE:20241201
DTSTAMP:20260423T083214
CREATED:20240113T151042Z
LAST-MODIFIED:20240113T151042Z
UID:10001255-1732924800-1733011199@walthamsonsofitaly.com
SUMMARY:Christmas Party
DESCRIPTION:Member party
URL:https://walthamsonsofitaly.com/event/christmas-party-9/
CATEGORIES:Upstairs
END:VEVENT
BEGIN:VEVENT
DTSTART;VALUE=DATE:20241123
DTEND;VALUE=DATE:20241124
DTSTAMP:20260423T083214
CREATED:20240925T134253Z
LAST-MODIFIED:20240925T134253Z
UID:10001331-1732320000-1732406399@walthamsonsofitaly.com
SUMMARY:Function
DESCRIPTION:No info yet
URL:https://walthamsonsofitaly.com/event/function-162/
CATEGORIES:Upstairs
END:VEVENT
BEGIN:VEVENT
DTSTART;VALUE=DATE:20241116
DTEND;VALUE=DATE:20241117
DTSTAMP:20260423T083214
CREATED:20240712T131138Z
LAST-MODIFIED:20240712T131138Z
UID:10001293-1731715200-1731801599@walthamsonsofitaly.com
SUMMARY:40th Bday
DESCRIPTION:150 guests\, 7pm to 11pm\, possibility of extra hour
URL:https://walthamsonsofitaly.com/event/40th-bday-2/
CATEGORIES:Upstairs
END:VEVENT
BEGIN:VEVENT
DTSTART;TZID=America/New_York:20241109T190000
DTEND;TZID=America/New_York:20241109T230000
DTSTAMP:20260423T083214
CREATED:20240712T130755Z
LAST-MODIFIED:20240712T130755Z
UID:10001291-1731178800-1731193200@walthamsonsofitaly.com
SUMMARY:Quincianera
DESCRIPTION:150 guests\, 7pm to 11pm\, possibility of extra hour
URL:https://walthamsonsofitaly.com/event/quincianera-2/
CATEGORIES:Upstairs
END:VEVENT
BEGIN:VEVENT
DTSTART;VALUE=DATE:20241103
DTEND;VALUE=DATE:20241104
DTSTAMP:20260423T083214
CREATED:20240925T134131Z
LAST-MODIFIED:20240925T134131Z
UID:10001330-1730592000-1730678399@walthamsonsofitaly.com
SUMMARY:Church
DESCRIPTION:
URL:https://walthamsonsofitaly.com/event/church/
CATEGORIES:Upstairs
END:VEVENT
BEGIN:VEVENT
DTSTART;TZID=America/New_York:20241102T190000
DTEND;TZID=America/New_York:20241102T230000
DTSTAMP:20260423T083214
CREATED:20240712T130525Z
LAST-MODIFIED:20240712T130525Z
UID:10001290-1730574000-1730588400@walthamsonsofitaly.com
SUMMARY:Wedding
DESCRIPTION:120 guests\, only adult wedding few kids\, 7pm to 11pm\, possibility of extra hour
URL:https://walthamsonsofitaly.com/event/wedding-8/
CATEGORIES:Upstairs
END:VEVENT
BEGIN:VEVENT
DTSTART;TZID=America/New_York:20241027T190000
DTEND;TZID=America/New_York:20241027T230000
DTSTAMP:20260423T083214
CREATED:20240925T133957Z
LAST-MODIFIED:20240925T133957Z
UID:10001329-1730055600-1730070000@walthamsonsofitaly.com
SUMMARY:Musical gathering
DESCRIPTION:About 150 guests\, no tables\, some chairs\, 7pm-11pm with possibility of extra hour
URL:https://walthamsonsofitaly.com/event/musical-gathering/
CATEGORIES:Upstairs
END:VEVENT
BEGIN:VEVENT
DTSTART;TZID=America/New_York:20241026T180000
DTEND;TZID=America/New_York:20241026T220000
DTSTAMP:20260423T083214
CREATED:20240821T180849Z
LAST-MODIFIED:20240821T180849Z
UID:10001318-1729965600-1729980000@walthamsonsofitaly.com
SUMMARY:1st Bday
DESCRIPTION:About 120 guest’s\, only round tables. 6pm to 10pm\, possibility of extra hour.  Soda pitchers per table.
URL:https://walthamsonsofitaly.com/event/1st-bday-25/
CATEGORIES:Upstairs
END:VEVENT
BEGIN:VEVENT
DTSTART;TZID=America/New_York:20241020T160000
DTEND;TZID=America/New_York:20241020T200000
DTSTAMP:20260423T083214
CREATED:20240925T133651Z
LAST-MODIFIED:20240925T133651Z
UID:10001328-1729440000-1729454400@walthamsonsofitaly.com
SUMMARY:1st Bday
DESCRIPTION:About 90 guests\, regular set up\, 4pm-8pm
URL:https://walthamsonsofitaly.com/event/1st-bday-27/
CATEGORIES:Upstairs
END:VEVENT
BEGIN:VEVENT
DTSTART;TZID=America/New_York:20241019T120000
DTEND;TZID=America/New_York:20241019T160000
DTSTAMP:20260423T083214
CREATED:20240821T180612Z
LAST-MODIFIED:20240821T180612Z
UID:10001317-1729339200-1729353600@walthamsonsofitaly.com
SUMMARY:Babyshower
DESCRIPTION:About 150 guest’s\, regular set up. 12pm to 4pm. Non-alcohol event.
URL:https://walthamsonsofitaly.com/event/babyshower-27/
CATEGORIES:Upstairs
END:VEVENT
BEGIN:VEVENT
DTSTART;TZID=America/New_York:20241013T160000
DTEND;TZID=America/New_York:20241013T200000
DTSTAMP:20260423T083214
CREATED:20240712T130231Z
LAST-MODIFIED:20240712T130231Z
UID:10001289-1728835200-1728849600@walthamsonsofitaly.com
SUMMARY:Quincianera
DESCRIPTION:No Bartender! 100 guests\, 4pm to 8pm
URL:https://walthamsonsofitaly.com/event/quincianera/
CATEGORIES:Upstairs
END:VEVENT
BEGIN:VEVENT
DTSTART;TZID=America/New_York:20241012T190000
DTEND;TZID=America/New_York:20241012T230000
DTSTAMP:20260423T083214
CREATED:20240821T180318Z
LAST-MODIFIED:20240821T180318Z
UID:10001316-1728759600-1728774000@walthamsonsofitaly.com
SUMMARY:Quincianera
DESCRIPTION:140 guests\, 7pm to 11pm\,  possibility of extra hour.
URL:https://walthamsonsofitaly.com/event/quincianera-4/
CATEGORIES:Upstairs
END:VEVENT
BEGIN:VEVENT
DTSTART;VALUE=DATE:20240907
DTEND;VALUE=DATE:20240908
DTSTAMP:20260423T083214
CREATED:20240821T175056Z
LAST-MODIFIED:20240821T175056Z
UID:10001312-1725667200-1725753599@walthamsonsofitaly.com
SUMMARY:Function
DESCRIPTION:About 150 guests\, regular set up. Possibility of extra hour.
URL:https://walthamsonsofitaly.com/event/function-149/
CATEGORIES:Upstairs
END:VEVENT
BEGIN:VEVENT
DTSTART;TZID=America/New_York:20240906T190000
DTEND;TZID=America/New_York:20240906T230000
DTSTAMP:20260423T083214
CREATED:20240821T174923Z
LAST-MODIFIED:20240821T174923Z
UID:10001311-1725649200-1725663600@walthamsonsofitaly.com
SUMMARY:Wedding
DESCRIPTION:About 150 guests\, regular set up. 7pm to 11pm. Possibility of extra hour.
URL:https://walthamsonsofitaly.com/event/wedding-12/
CATEGORIES:Upstairs
END:VEVENT
BEGIN:VEVENT
DTSTART;TZID=America/New_York:20240906T190000
DTEND;TZID=America/New_York:20240906T230000
DTSTAMP:20260423T083214
CREATED:20240712T131330Z
LAST-MODIFIED:20240821T181304Z
UID:10001294-1725649200-1725663600@walthamsonsofitaly.com
SUMMARY:Wedding
DESCRIPTION:150 guests\, 7pm to 11pm
URL:https://walthamsonsofitaly.com/event/wedding-9/
CATEGORIES:Upstairs
END:VEVENT
BEGIN:VEVENT
DTSTART;TZID=America/New_York:20240901T160000
DTEND;TZID=America/New_York:20240901T200000
DTSTAMP:20260423T083214
CREATED:20240712T125624Z
LAST-MODIFIED:20240712T125624Z
UID:10001286-1725206400-1725220800@walthamsonsofitaly.com
SUMMARY:17th Bday
DESCRIPTION:About 90 guests\, 9 tables\, 4pm to 8pm\, possibility of extra hour.
URL:https://walthamsonsofitaly.com/event/17th-bday/
CATEGORIES:Upstairs
END:VEVENT
BEGIN:VEVENT
DTSTART;TZID=America/New_York:20240831T180000
DTEND;TZID=America/New_York:20240831T220000
DTSTAMP:20260423T083215
CREATED:20240712T125256Z
LAST-MODIFIED:20240712T125256Z
UID:10001285-1725127200-1725141600@walthamsonsofitaly.com
SUMMARY:Wedding
DESCRIPTION:100 guests\,  6pm to 10pm with possibility of 2 extra hours. To be approved day of by bartender.
URL:https://walthamsonsofitaly.com/event/wedding-7/
CATEGORIES:Upstairs
END:VEVENT
BEGIN:VEVENT
DTSTART;TZID=America/New_York:20240824T190000
DTEND;TZID=America/New_York:20240824T230000
DTSTAMP:20260423T083215
CREATED:20240712T124854Z
LAST-MODIFIED:20240712T124854Z
UID:10001283-1724526000-1724540400@walthamsonsofitaly.com
SUMMARY:2nd B-day
DESCRIPTION:150 guests\, 7pm to 11pm\, 12 tables only
URL:https://walthamsonsofitaly.com/event/2nd-b-day/
CATEGORIES:Upstairs
END:VEVENT
BEGIN:VEVENT
DTSTART;TZID=America/New_York:20240804T190000
DTEND;TZID=America/New_York:20240804T230000
DTSTAMP:20260423T083215
CREATED:20240712T124407Z
LAST-MODIFIED:20240712T124407Z
UID:10001281-1722798000-1722812400@walthamsonsofitaly.com
SUMMARY:Celebrando Liga de Futbol
DESCRIPTION:150 guests\, 10 tables only\, 7pm to 11pm
URL:https://walthamsonsofitaly.com/event/celebrando-liga-de-futbol/
CATEGORIES:Upstairs
END:VEVENT
BEGIN:VEVENT
DTSTART;TZID=America/New_York:20240803T180000
DTEND;TZID=America/New_York:20240803T220000
DTSTAMP:20260423T083215
CREATED:20240712T124130Z
LAST-MODIFIED:20240712T124130Z
UID:10001280-1722708000-1722722400@walthamsonsofitaly.com
SUMMARY:Babyshower
DESCRIPTION:150 guests\, possibility of extra hour
URL:https://walthamsonsofitaly.com/event/babyshower-24/
CATEGORIES:Upstairs
END:VEVENT
BEGIN:VEVENT
DTSTART;TZID=America/New_York:20240727T180000
DTEND;TZID=America/New_York:20240727T220000
DTSTAMP:20260423T083215
CREATED:20240712T123815Z
LAST-MODIFIED:20240712T123815Z
UID:10001279-1722103200-1722117600@walthamsonsofitaly.com
SUMMARY:50th B-day
DESCRIPTION:100 guests\, 13 tables\, no chairs\, 6pm to 10pm
URL:https://walthamsonsofitaly.com/event/50th-b-day/
CATEGORIES:Upstairs
END:VEVENT
BEGIN:VEVENT
DTSTART;TZID=America/New_York:20240720T190000
DTEND;TZID=America/New_York:20240720T230000
DTSTAMP:20260423T083215
CREATED:20240712T123509Z
LAST-MODIFIED:20240712T123509Z
UID:10001278-1721502000-1721516400@walthamsonsofitaly.com
SUMMARY:60th Surprise B-day
DESCRIPTION:About 150 guests\, 7pm to 11pm\, possibility of extra hour
URL:https://walthamsonsofitaly.com/event/60th-surprise-b-day/
CATEGORIES:Upstairs
END:VEVENT
BEGIN:VEVENT
DTSTART;TZID=America/New_York:20240525T180000
DTEND;TZID=America/New_York:20240525T220000
DTSTAMP:20260423T083215
CREATED:20240113T153051Z
LAST-MODIFIED:20240113T153051Z
UID:10001261-1716660000-1716674400@walthamsonsofitaly.com
SUMMARY:Graduation
DESCRIPTION:100 guests\, 6pm to 10pm
URL:https://walthamsonsofitaly.com/event/graduation-10/
CATEGORIES:Upstairs
END:VEVENT
BEGIN:VEVENT
DTSTART;TZID=America/New_York:20240518T180000
DTEND;TZID=America/New_York:20240518T220000
DTSTAMP:20260423T083215
CREATED:20231004T180601Z
LAST-MODIFIED:20231004T180601Z
UID:10001236-1716055200-1716069600@walthamsonsofitaly.com
SUMMARY:Graduation
DESCRIPTION:High School graduation\, police detail
URL:https://walthamsonsofitaly.com/event/graduation-8/
CATEGORIES:Upstairs
END:VEVENT
BEGIN:VEVENT
DTSTART;TZID=America/New_York:20240518T080000
DTEND;TZID=America/New_York:20240518T170000
DTSTAMP:20260423T083215
CREATED:20240113T150421Z
LAST-MODIFIED:20240113T150421Z
UID:10001254-1716019200-1716051600@walthamsonsofitaly.com
SUMMARY:High School Grad
DESCRIPTION:100 guests plus\, police detail required
URL:https://walthamsonsofitaly.com/event/high-school-grad/
CATEGORIES:Upstairs
END:VEVENT
BEGIN:VEVENT
DTSTART;TZID=America/New_York:20240511T190000
DTEND;TZID=America/New_York:20240511T230000
DTSTAMP:20260423T083215
CREATED:20240113T150229Z
LAST-MODIFIED:20240113T150229Z
UID:10001253-1715454000-1715468400@walthamsonsofitaly.com
SUMMARY:Graduation
DESCRIPTION:7pm to 11pm\, 100 guests\,  police detail required
URL:https://walthamsonsofitaly.com/event/graduation-9/
CATEGORIES:Upstairs
END:VEVENT
END:VCALENDAR