BEGIN:VCALENDAR
VERSION:2.0
PRODID:-//Sons of Italy Waltham - ECPv6.15.11//NONSGML v1.0//EN
CALSCALE:GREGORIAN
METHOD:PUBLISH
X-WR-CALNAME:Sons of Italy Waltham
X-ORIGINAL-URL:https://walthamsonsofitaly.com
X-WR-CALDESC:Events for Sons of Italy Waltham
REFRESH-INTERVAL;VALUE=DURATION:PT1H
X-Robots-Tag:noindex
X-PUBLISHED-TTL:PT1H
BEGIN:VTIMEZONE
TZID:America/New_York
BEGIN:DAYLIGHT
TZOFFSETFROM:-0500
TZOFFSETTO:-0400
TZNAME:EDT
DTSTART:20250309T070000
END:DAYLIGHT
BEGIN:STANDARD
TZOFFSETFROM:-0400
TZOFFSETTO:-0500
TZNAME:EST
DTSTART:20251102T060000
END:STANDARD
BEGIN:DAYLIGHT
TZOFFSETFROM:-0500
TZOFFSETTO:-0400
TZNAME:EDT
DTSTART:20260308T070000
END:DAYLIGHT
BEGIN:STANDARD
TZOFFSETFROM:-0400
TZOFFSETTO:-0500
TZNAME:EST
DTSTART:20261101T060000
END:STANDARD
BEGIN:DAYLIGHT
TZOFFSETFROM:-0500
TZOFFSETTO:-0400
TZNAME:EDT
DTSTART:20270314T070000
END:DAYLIGHT
BEGIN:STANDARD
TZOFFSETFROM:-0400
TZOFFSETTO:-0500
TZNAME:EST
DTSTART:20271107T060000
END:STANDARD
END:VTIMEZONE
BEGIN:VEVENT
DTSTART;TZID=America/New_York:20260425T180000
DTEND;TZID=America/New_York:20260425T220000
DTSTAMP:20260422T190429
CREATED:20260313T010824Z
LAST-MODIFIED:20260313T010824Z
UID:10001465-1777140000-1777154400@walthamsonsofitaly.com
SUMMARY:Communion
DESCRIPTION:
URL:https://walthamsonsofitaly.com/event/communion/
CATEGORIES:Downstairs
END:VEVENT
BEGIN:VEVENT
DTSTART;TZID=America/New_York:20260418T190000
DTEND;TZID=America/New_York:20260418T230000
DTSTAMP:20260422T190429
CREATED:20260206T024335Z
LAST-MODIFIED:20260206T024335Z
UID:10001453-1776538800-1776553200@walthamsonsofitaly.com
SUMMARY:50th Birthday
DESCRIPTION:
URL:https://walthamsonsofitaly.com/event/50th-birthday-4/
CATEGORIES:Upstairs
END:VEVENT
BEGIN:VEVENT
DTSTART;TZID=America/New_York:20260418T190000
DTEND;TZID=America/New_York:20260418T230000
DTSTAMP:20260422T190429
CREATED:20260206T024259Z
LAST-MODIFIED:20260206T024259Z
UID:10001452-1776538800-1776553200@walthamsonsofitaly.com
SUMMARY:50th Birthday
DESCRIPTION:
URL:https://walthamsonsofitaly.com/event/50th-birthday-3/
CATEGORIES:Upstairs
END:VEVENT
BEGIN:VEVENT
DTSTART;TZID=America/New_York:20260418T170000
DTEND;TZID=America/New_York:20260418T210000
DTSTAMP:20260422T190429
CREATED:20260313T010644Z
LAST-MODIFIED:20260313T010644Z
UID:10001463-1776531600-1776546000@walthamsonsofitaly.com
SUMMARY:Birthday
DESCRIPTION:
URL:https://walthamsonsofitaly.com/event/birthday-18/
CATEGORIES:Downstairs
END:VEVENT
BEGIN:VEVENT
DTSTART;VALUE=DATE:20260412
DTEND;VALUE=DATE:20260413
DTSTAMP:20260422T190429
CREATED:20260313T011140Z
LAST-MODIFIED:20260313T011140Z
UID:10001469-1775952000-1776038399@walthamsonsofitaly.com
SUMMARY:Function
DESCRIPTION:
URL:https://walthamsonsofitaly.com/event/function-171/
CATEGORIES:Downstairs
END:VEVENT
BEGIN:VEVENT
DTSTART;TZID=America/New_York:20260411T190000
DTEND;TZID=America/New_York:20260411T230000
DTSTAMP:20260422T190429
CREATED:20260206T024757Z
LAST-MODIFIED:20260206T024757Z
UID:10001459-1775934000-1775948400@walthamsonsofitaly.com
SUMMARY:Function
DESCRIPTION:
URL:https://walthamsonsofitaly.com/event/function-169/
CATEGORIES:Upstairs
END:VEVENT
BEGIN:VEVENT
DTSTART;TZID=America/New_York:20260411T170000
DTEND;TZID=America/New_York:20260411T210000
DTSTAMP:20260422T190429
CREATED:20260313T010521Z
LAST-MODIFIED:20260313T010521Z
UID:10001462-1775926800-1775941200@walthamsonsofitaly.com
SUMMARY:Birthday
DESCRIPTION:
URL:https://walthamsonsofitaly.com/event/birthday-17/
CATEGORIES:Downstairs
END:VEVENT
BEGIN:VEVENT
DTSTART;TZID=America/New_York:20260405T170000
DTEND;TZID=America/New_York:20260405T210000
DTSTAMP:20260422T190429
CREATED:20260313T010437Z
LAST-MODIFIED:20260313T010437Z
UID:10001461-1775408400-1775422800@walthamsonsofitaly.com
SUMMARY:Birthday
DESCRIPTION:
URL:https://walthamsonsofitaly.com/event/birthday-16/
CATEGORIES:Downstairs
END:VEVENT
BEGIN:VEVENT
DTSTART;TZID=America/New_York:20260404T190000
DTEND;TZID=America/New_York:20260404T230000
DTSTAMP:20260422T190429
CREATED:20260313T011026Z
LAST-MODIFIED:20260313T011026Z
UID:10001467-1775329200-1775343600@walthamsonsofitaly.com
SUMMARY:BIrthday
DESCRIPTION:
URL:https://walthamsonsofitaly.com/event/birthday-19/
CATEGORIES:Upstairs
END:VEVENT
BEGIN:VEVENT
DTSTART;TZID=America/New_York:20260404T190000
DTEND;TZID=America/New_York:20260404T230000
DTSTAMP:20260422T190429
CREATED:20260206T024215Z
LAST-MODIFIED:20260206T024215Z
UID:10001451-1775329200-1775343600@walthamsonsofitaly.com
SUMMARY:15th Birthday
DESCRIPTION:
URL:https://walthamsonsofitaly.com/event/15th-birthday-4/
CATEGORIES:Upstairs
END:VEVENT
BEGIN:VEVENT
DTSTART;TZID=America/New_York:20260328T180000
DTEND;TZID=America/New_York:20260328T220000
DTSTAMP:20260422T190429
CREATED:20260206T024126Z
LAST-MODIFIED:20260206T024126Z
UID:10001450-1774720800-1774735200@walthamsonsofitaly.com
SUMMARY:15th Birthday
DESCRIPTION:
URL:https://walthamsonsofitaly.com/event/15th-birthday-3/
CATEGORIES:Upstairs
END:VEVENT
BEGIN:VEVENT
DTSTART;VALUE=DATE:20260328
DTEND;VALUE=DATE:20260329
DTSTAMP:20260422T190429
CREATED:20260206T024701Z
LAST-MODIFIED:20260206T024701Z
UID:10001458-1774656000-1774742399@walthamsonsofitaly.com
SUMMARY:Birthday
DESCRIPTION:
URL:https://walthamsonsofitaly.com/event/birthday-15/
CATEGORIES:Downstairs
END:VEVENT
BEGIN:VEVENT
DTSTART;VALUE=DATE:20260328
DTEND;VALUE=DATE:20260329
DTSTAMP:20260422T190429
CREATED:20260115T213737Z
LAST-MODIFIED:20260115T213737Z
UID:10001440-1774656000-1774742399@walthamsonsofitaly.com
SUMMARY:Birthday
DESCRIPTION:
URL:https://walthamsonsofitaly.com/event/birthday-14/
CATEGORIES:Downstairs
END:VEVENT
BEGIN:VEVENT
DTSTART;TZID=America/New_York:20260322T130000
DTEND;TZID=America/New_York:20260322T170000
DTSTAMP:20260422T190429
CREATED:20260313T011104Z
LAST-MODIFIED:20260313T011104Z
UID:10001468-1774184400-1774198800@walthamsonsofitaly.com
SUMMARY:Birthday
DESCRIPTION:
URL:https://walthamsonsofitaly.com/event/birthday-20/
CATEGORIES:Downstairs
END:VEVENT
BEGIN:VEVENT
DTSTART;TZID=America/New_York:20260321T110000
DTEND;TZID=America/New_York:20260321T150000
DTSTAMP:20260422T190429
CREATED:20260115T213651Z
LAST-MODIFIED:20260115T213651Z
UID:10001439-1774090800-1774105200@walthamsonsofitaly.com
SUMMARY:Baby Shower
DESCRIPTION:
URL:https://walthamsonsofitaly.com/event/baby-shower-11/
CATEGORIES:Downstairs
END:VEVENT
BEGIN:VEVENT
DTSTART;TZID=America/New_York:20260321T110000
DTEND;TZID=America/New_York:20260321T150000
DTSTAMP:20260422T190429
CREATED:20260115T213245Z
LAST-MODIFIED:20260115T213317Z
UID:10001435-1774090800-1774105200@walthamsonsofitaly.com
SUMMARY:Event
DESCRIPTION:
URL:https://walthamsonsofitaly.com/event/event-7/
CATEGORIES:Downstairs
END:VEVENT
BEGIN:VEVENT
DTSTART;TZID=America/New_York:20260315T170000
DTEND;TZID=America/New_York:20260315T210000
DTSTAMP:20260422T190429
CREATED:20260206T024048Z
LAST-MODIFIED:20260206T024048Z
UID:10001449-1773594000-1773608400@walthamsonsofitaly.com
SUMMARY:15th Birthday
DESCRIPTION:
URL:https://walthamsonsofitaly.com/event/15th-birthday-2/
CATEGORIES:Upstairs
END:VEVENT
BEGIN:VEVENT
DTSTART;TZID=America/New_York:20260312T170000
DTEND;TZID=America/New_York:20260312T210000
DTSTAMP:20260422T190429
CREATED:20260313T010727Z
LAST-MODIFIED:20260313T010727Z
UID:10001464-1773334800-1773349200@walthamsonsofitaly.com
SUMMARY:80th Birthday
DESCRIPTION:
URL:https://walthamsonsofitaly.com/event/80th-birthday/
CATEGORIES:Upstairs
END:VEVENT
BEGIN:VEVENT
DTSTART;VALUE=DATE:20260308
DTEND;VALUE=DATE:20260309
DTSTAMP:20260422T190429
CREATED:20260206T024619Z
LAST-MODIFIED:20260206T024619Z
UID:10001457-1772928000-1773014399@walthamsonsofitaly.com
SUMMARY:Members Party
DESCRIPTION:
URL:https://walthamsonsofitaly.com/event/members-party-4/
CATEGORIES:Upstairs
END:VEVENT
BEGIN:VEVENT
DTSTART;TZID=America/New_York:20260307T130000
DTEND;TZID=America/New_York:20260307T160000
DTSTAMP:20260422T190429
CREATED:20260115T212741Z
LAST-MODIFIED:20260115T212925Z
UID:10001432-1772888400-1772899200@walthamsonsofitaly.com
SUMMARY:Party
DESCRIPTION:
URL:https://walthamsonsofitaly.com/event/superbowl-party/
CATEGORIES:Downstairs
END:VEVENT
BEGIN:VEVENT
DTSTART;TZID=America/New_York:20260228T190000
DTEND;TZID=America/New_York:20260228T230000
DTSTAMP:20260422T190429
CREATED:20260206T023946Z
LAST-MODIFIED:20260206T023946Z
UID:10001447-1772305200-1772319600@walthamsonsofitaly.com
SUMMARY:15th Birthday
DESCRIPTION:
URL:https://walthamsonsofitaly.com/event/15th-birthday/
CATEGORIES:Upstairs
END:VEVENT
BEGIN:VEVENT
DTSTART;TZID=America/New_York:20260215T130000
DTEND;TZID=America/New_York:20260215T170000
DTSTAMP:20260422T190429
CREATED:20260115T213603Z
LAST-MODIFIED:20260115T213603Z
UID:10001438-1771160400-1771174800@walthamsonsofitaly.com
SUMMARY:Event
DESCRIPTION:
URL:https://walthamsonsofitaly.com/event/event-10/
CATEGORIES:Downstairs
END:VEVENT
BEGIN:VEVENT
DTSTART;VALUE=DATE:20260208
DTEND;VALUE=DATE:20260209
DTSTAMP:20260422T190429
CREATED:20260115T213105Z
LAST-MODIFIED:20260115T213105Z
UID:10001433-1770508800-1770595199@walthamsonsofitaly.com
SUMMARY:Superbowl Party
DESCRIPTION:
URL:https://walthamsonsofitaly.com/event/superbowl-party-2/
CATEGORIES:Downstairs
END:VEVENT
BEGIN:VEVENT
DTSTART;TZID=America/New_York:20260207T180000
DTEND;TZID=America/New_York:20260207T220000
DTSTAMP:20260422T190429
CREATED:20260206T023856Z
LAST-MODIFIED:20260206T023856Z
UID:10001446-1770487200-1770501600@walthamsonsofitaly.com
SUMMARY:Fundraiser
DESCRIPTION:
URL:https://walthamsonsofitaly.com/event/fundraiser-3/
CATEGORIES:Upstairs
END:VEVENT
BEGIN:VEVENT
DTSTART;TZID=America/New_York:20260207T180000
DTEND;TZID=America/New_York:20260207T220000
DTSTAMP:20260422T190429
CREATED:20260115T213203Z
LAST-MODIFIED:20260115T213203Z
UID:10001434-1770487200-1770501600@walthamsonsofitaly.com
SUMMARY:Party
DESCRIPTION:
URL:https://walthamsonsofitaly.com/event/party-6/
CATEGORIES:Downstairs
END:VEVENT
BEGIN:VEVENT
DTSTART;TZID=America/New_York:20260207T180000
DTEND;TZID=America/New_York:20260207T220000
DTSTAMP:20260422T190429
CREATED:20251104T025855Z
LAST-MODIFIED:20251104T030030Z
UID:10001431-1770487200-1770501600@walthamsonsofitaly.com
SUMMARY:Members Party
DESCRIPTION:
URL:https://walthamsonsofitaly.com/event/grad-party/
CATEGORIES:Upstairs
END:VEVENT
BEGIN:VEVENT
DTSTART;VALUE=DATE:20260205
DTEND;VALUE=DATE:20260206
DTSTAMP:20260422T190429
CREATED:20260206T024009Z
LAST-MODIFIED:20260206T024009Z
UID:10001448-1770249600-1770335999@walthamsonsofitaly.com
SUMMARY:Baby Shower
DESCRIPTION:
URL:https://walthamsonsofitaly.com/event/baby-shower-12/
CATEGORIES:Upstairs
END:VEVENT
BEGIN:VEVENT
DTSTART;TZID=America/New_York:20260118T130000
DTEND;TZID=America/New_York:20260118T170000
DTSTAMP:20260422T190429
CREATED:20260115T213530Z
LAST-MODIFIED:20260115T213530Z
UID:10001437-1768741200-1768755600@walthamsonsofitaly.com
SUMMARY:Event
DESCRIPTION:
URL:https://walthamsonsofitaly.com/event/event-9/
CATEGORIES:Downstairs
END:VEVENT
BEGIN:VEVENT
DTSTART;TZID=America/New_York:20260118T130000
DTEND;TZID=America/New_York:20260118T170000
DTSTAMP:20260422T190429
CREATED:20251104T023208Z
LAST-MODIFIED:20251104T023208Z
UID:10001427-1768741200-1768755600@walthamsonsofitaly.com
SUMMARY:Family Party
DESCRIPTION:
URL:https://walthamsonsofitaly.com/event/family-party-3/
CATEGORIES:Downstairs
END:VEVENT
BEGIN:VEVENT
DTSTART;TZID=America/New_York:20260117T180000
DTEND;TZID=America/New_York:20260117T220000
DTSTAMP:20260422T190429
CREATED:20251104T023439Z
LAST-MODIFIED:20251104T023439Z
UID:10001429-1768672800-1768687200@walthamsonsofitaly.com
SUMMARY:Party
DESCRIPTION:
URL:https://walthamsonsofitaly.com/event/party-5/
CATEGORIES:Upstairs
END:VEVENT
END:VCALENDAR