BEGIN:VCALENDAR
VERSION:2.0
PRODID:-//Sons of Italy Waltham - ECPv6.15.11//NONSGML v1.0//EN
CALSCALE:GREGORIAN
METHOD:PUBLISH
X-WR-CALNAME:Sons of Italy Waltham
X-ORIGINAL-URL:https://walthamsonsofitaly.com
X-WR-CALDESC:Events for Sons of Italy Waltham
REFRESH-INTERVAL;VALUE=DURATION:PT1H
X-Robots-Tag:noindex
X-PUBLISHED-TTL:PT1H
BEGIN:VTIMEZONE
TZID:America/New_York
BEGIN:DAYLIGHT
TZOFFSETFROM:-0500
TZOFFSETTO:-0400
TZNAME:EDT
DTSTART:20230312T070000
END:DAYLIGHT
BEGIN:STANDARD
TZOFFSETFROM:-0400
TZOFFSETTO:-0500
TZNAME:EST
DTSTART:20231105T060000
END:STANDARD
BEGIN:DAYLIGHT
TZOFFSETFROM:-0500
TZOFFSETTO:-0400
TZNAME:EDT
DTSTART:20240310T070000
END:DAYLIGHT
BEGIN:STANDARD
TZOFFSETFROM:-0400
TZOFFSETTO:-0500
TZNAME:EST
DTSTART:20241103T060000
END:STANDARD
BEGIN:DAYLIGHT
TZOFFSETFROM:-0500
TZOFFSETTO:-0400
TZNAME:EDT
DTSTART:20250309T070000
END:DAYLIGHT
BEGIN:STANDARD
TZOFFSETFROM:-0400
TZOFFSETTO:-0500
TZNAME:EST
DTSTART:20251102T060000
END:STANDARD
END:VTIMEZONE
BEGIN:VEVENT
DTSTART;TZID=America/New_York:20240802T190000
DTEND;TZID=America/New_York:20240802T230000
DTSTAMP:20260424T104950
CREATED:20240724T155632Z
LAST-MODIFIED:20240724T155632Z
UID:10001309-1722625200-1722639600@walthamsonsofitaly.com
SUMMARY:Celebration
DESCRIPTION:90 guests\,  7pm to 11pm\, possibility of extra hour
URL:https://walthamsonsofitaly.com/event/celebration-5/
CATEGORIES:Downstairs
END:VEVENT
BEGIN:VEVENT
DTSTART;TZID=America/New_York:20240727T190000
DTEND;TZID=America/New_York:20240727T230000
DTSTAMP:20260424T104950
CREATED:20240724T155457Z
LAST-MODIFIED:20240724T155457Z
UID:10001308-1722106800-1722121200@walthamsonsofitaly.com
SUMMARY:Babyshower
DESCRIPTION:7pm to 11pm\, 90 guests\, regular set up
URL:https://walthamsonsofitaly.com/event/babyshower-26/
CATEGORIES:Downstairs
END:VEVENT
BEGIN:VEVENT
DTSTART;TZID=America/New_York:20240727T180000
DTEND;TZID=America/New_York:20240727T220000
DTSTAMP:20260424T104950
CREATED:20240712T123815Z
LAST-MODIFIED:20240712T123815Z
UID:10001279-1722103200-1722117600@walthamsonsofitaly.com
SUMMARY:50th B-day
DESCRIPTION:100 guests\, 13 tables\, no chairs\, 6pm to 10pm
URL:https://walthamsonsofitaly.com/event/50th-b-day/
CATEGORIES:Upstairs
END:VEVENT
BEGIN:VEVENT
DTSTART;TZID=America/New_York:20240720T190000
DTEND;TZID=America/New_York:20240720T230000
DTSTAMP:20260424T104950
CREATED:20240712T123509Z
LAST-MODIFIED:20240712T123509Z
UID:10001278-1721502000-1721516400@walthamsonsofitaly.com
SUMMARY:60th Surprise B-day
DESCRIPTION:About 150 guests\, 7pm to 11pm\, possibility of extra hour
URL:https://walthamsonsofitaly.com/event/60th-surprise-b-day/
CATEGORIES:Upstairs
END:VEVENT
BEGIN:VEVENT
DTSTART;TZID=America/New_York:20240720T180000
DTEND;TZID=America/New_York:20240720T220000
DTSTAMP:20260424T104950
CREATED:20240712T123221Z
LAST-MODIFIED:20240712T123221Z
UID:10001277-1721498400-1721512800@walthamsonsofitaly.com
SUMMARY:Babyshower/B-day
DESCRIPTION:About 90 guests\, 6pm to 10pm\, possibility of extra hour
URL:https://walthamsonsofitaly.com/event/babyshower-b-day/
CATEGORIES:Downstairs
END:VEVENT
BEGIN:VEVENT
DTSTART;TZID=America/New_York:20240625T170000
DTEND;TZID=America/New_York:20240625T220000
DTSTAMP:20260424T104950
CREATED:20240625T213749Z
LAST-MODIFIED:20240625T213749Z
UID:10001276-1719334800-1719352800@walthamsonsofitaly.com
SUMMARY:Jess test
DESCRIPTION:100 guests\, regular set up\,
URL:https://walthamsonsofitaly.com/event/jess-test/
CATEGORIES:Downstairs
END:VEVENT
BEGIN:VEVENT
DTSTART;TZID=America/New_York:20240625T080000
DTEND;TZID=America/New_York:20240625T083000
DTSTAMP:20260424T104950
CREATED:20240625T165217Z
LAST-MODIFIED:20240625T165217Z
UID:10001275-1719302400-1719304200@walthamsonsofitaly.com
SUMMARY:This is a test event from Donnie Aucoin
DESCRIPTION:This contains detail
URL:https://walthamsonsofitaly.com/event/this-is-a-test-event-from-donnie-aucoin/
CATEGORIES:Downstairs
END:VEVENT
BEGIN:VEVENT
DTSTART;TZID=America/New_York:20240525T180000
DTEND;TZID=America/New_York:20240525T220000
DTSTAMP:20260424T104950
CREATED:20240113T153051Z
LAST-MODIFIED:20240113T153051Z
UID:10001261-1716660000-1716674400@walthamsonsofitaly.com
SUMMARY:Graduation
DESCRIPTION:100 guests\, 6pm to 10pm
URL:https://walthamsonsofitaly.com/event/graduation-10/
CATEGORIES:Upstairs
END:VEVENT
BEGIN:VEVENT
DTSTART;VALUE=DATE:20240525
DTEND;VALUE=DATE:20240526
DTSTAMP:20260424T104950
CREATED:20240113T152911Z
LAST-MODIFIED:20240113T152911Z
UID:10001260-1716595200-1716681599@walthamsonsofitaly.com
SUMMARY:18th Bday and Graduation Party
DESCRIPTION:90 guests\,  7pm to 11pm\, possibility of extra hour\, employee party
URL:https://walthamsonsofitaly.com/event/18th-bday-and-graduation-party/
CATEGORIES:Downstairs
END:VEVENT
BEGIN:VEVENT
DTSTART;TZID=America/New_York:20240518T180000
DTEND;TZID=America/New_York:20240518T220000
DTSTAMP:20260424T104950
CREATED:20231004T180601Z
LAST-MODIFIED:20231004T180601Z
UID:10001236-1716055200-1716069600@walthamsonsofitaly.com
SUMMARY:Graduation
DESCRIPTION:High School graduation\, police detail
URL:https://walthamsonsofitaly.com/event/graduation-8/
CATEGORIES:Upstairs
END:VEVENT
BEGIN:VEVENT
DTSTART;TZID=America/New_York:20240518T080000
DTEND;TZID=America/New_York:20240518T170000
DTSTAMP:20260424T104950
CREATED:20240113T150421Z
LAST-MODIFIED:20240113T150421Z
UID:10001254-1716019200-1716051600@walthamsonsofitaly.com
SUMMARY:High School Grad
DESCRIPTION:100 guests plus\, police detail required
URL:https://walthamsonsofitaly.com/event/high-school-grad/
CATEGORIES:Upstairs
END:VEVENT
BEGIN:VEVENT
DTSTART;TZID=America/New_York:20240511T190000
DTEND;TZID=America/New_York:20240511T230000
DTSTAMP:20260424T104950
CREATED:20240113T150229Z
LAST-MODIFIED:20240113T150229Z
UID:10001253-1715454000-1715468400@walthamsonsofitaly.com
SUMMARY:Graduation
DESCRIPTION:7pm to 11pm\, 100 guests\,  police detail required
URL:https://walthamsonsofitaly.com/event/graduation-9/
CATEGORIES:Upstairs
END:VEVENT
BEGIN:VEVENT
DTSTART;TZID=America/New_York:20240511T190000
DTEND;TZID=America/New_York:20240511T230000
DTSTAMP:20260424T104950
CREATED:20231004T180423Z
LAST-MODIFIED:20231004T180423Z
UID:10001235-1715454000-1715468400@walthamsonsofitaly.com
SUMMARY:Graduation
DESCRIPTION:100 guests\, 7pm to 11pm\, police detail
URL:https://walthamsonsofitaly.com/event/graduation-7/
CATEGORIES:Upstairs
END:VEVENT
BEGIN:VEVENT
DTSTART;TZID=America/New_York:20240505T080000
DTEND;TZID=America/New_York:20240505T170000
DTSTAMP:20260424T104950
CREATED:20240309T185540Z
LAST-MODIFIED:20240309T185540Z
UID:10001268-1714896000-1714928400@walthamsonsofitaly.com
SUMMARY:Celebration
DESCRIPTION:
URL:https://walthamsonsofitaly.com/event/celebration-4/
CATEGORIES:Downstairs
END:VEVENT
BEGIN:VEVENT
DTSTART;TZID=America/New_York:20240504T180000
DTEND;TZID=America/New_York:20240504T220000
DTSTAMP:20260424T104950
CREATED:20240309T185446Z
LAST-MODIFIED:20240309T185446Z
UID:10001267-1714845600-1714860000@walthamsonsofitaly.com
SUMMARY:Cheers and beers to 40 years
DESCRIPTION:60 guests\,  regular set up\, 6pm to 10pm
URL:https://walthamsonsofitaly.com/event/cheers-and-beers-to-40-years/
CATEGORIES:Downstairs
END:VEVENT
BEGIN:VEVENT
DTSTART;TZID=America/New_York:20240503T190000
DTEND;TZID=America/New_York:20240503T230000
DTSTAMP:20260424T104950
CREATED:20240309T191318Z
LAST-MODIFIED:20240309T191318Z
UID:10001274-1714762800-1714777200@walthamsonsofitaly.com
SUMMARY:Graduation
DESCRIPTION:100 guests\, 6pm to 11pm\, Police Detail
URL:https://walthamsonsofitaly.com/event/graduation-11/
CATEGORIES:Upstairs
END:VEVENT
BEGIN:VEVENT
DTSTART;TZID=America/New_York:20240427T190000
DTEND;TZID=America/New_York:20240427T220000
DTSTAMP:20260424T104950
CREATED:20240113T150035Z
LAST-MODIFIED:20240113T150035Z
UID:10001252-1714244400-1714255200@walthamsonsofitaly.com
SUMMARY:Quincieanera
DESCRIPTION:7pm to 11pm\, 150 guests\, possibility of extra tables
URL:https://walthamsonsofitaly.com/event/quincieanera/
CATEGORIES:Upstairs
END:VEVENT
BEGIN:VEVENT
DTSTART;TZID=America/New_York:20240426T080000
DTEND;TZID=America/New_York:20240426T170000
DTSTAMP:20260424T104950
CREATED:20240309T185215Z
LAST-MODIFIED:20240309T185215Z
UID:10001266-1714118400-1714150800@walthamsonsofitaly.com
SUMMARY:Celebration
DESCRIPTION:90 guests
URL:https://walthamsonsofitaly.com/event/celebration-3/
CATEGORIES:Downstairs
END:VEVENT
BEGIN:VEVENT
DTSTART;TZID=America/New_York:20240413T190000
DTEND;TZID=America/New_York:20240413T230000
DTSTAMP:20260424T104950
CREATED:20240309T191023Z
LAST-MODIFIED:20240309T191023Z
UID:10001273-1713034800-1713049200@walthamsonsofitaly.com
SUMMARY:1st Bday
DESCRIPTION:150 guests\, 7pm to 11pm with possibility of extra hour
URL:https://walthamsonsofitaly.com/event/1st-bday-23/
CATEGORIES:Upstairs
END:VEVENT
BEGIN:VEVENT
DTSTART;TZID=America/New_York:20240406T190000
DTEND;TZID=America/New_York:20240406T230000
DTSTAMP:20260424T104950
CREATED:20240309T190830Z
LAST-MODIFIED:20240309T190830Z
UID:10001272-1712430000-1712444400@walthamsonsofitaly.com
SUMMARY:Babyshower
DESCRIPTION:150 guests\, 7pm to 11pm with possibility of extra hour
URL:https://walthamsonsofitaly.com/event/babyshower-23/
CATEGORIES:Upstairs
END:VEVENT
BEGIN:VEVENT
DTSTART;TZID=America/New_York:20240406T170000
DTEND;TZID=America/New_York:20240406T210000
DTSTAMP:20260424T104950
CREATED:20240309T185006Z
LAST-MODIFIED:20240309T185006Z
UID:10001265-1712422800-1712437200@walthamsonsofitaly.com
SUMMARY:Bday
DESCRIPTION:90 guests\, 5pm to 9pm\, regular set up
URL:https://walthamsonsofitaly.com/event/bday-10/
CATEGORIES:Downstairs
END:VEVENT
BEGIN:VEVENT
DTSTART;TZID=America/New_York:20240330T190000
DTEND;TZID=America/New_York:20240330T230000
DTSTAMP:20260424T104950
CREATED:20240309T190624Z
LAST-MODIFIED:20240309T190624Z
UID:10001271-1711825200-1711839600@walthamsonsofitaly.com
SUMMARY:Babyshower
DESCRIPTION:150 guests\, 7pm to 11pm with possibility of extra hour
URL:https://walthamsonsofitaly.com/event/babyshower-22/
CATEGORIES:Upstairs
END:VEVENT
BEGIN:VEVENT
DTSTART;TZID=America/New_York:20240330T170000
DTEND;TZID=America/New_York:20240330T210000
DTSTAMP:20260424T104950
CREATED:20240309T184819Z
LAST-MODIFIED:20240309T184819Z
UID:10001264-1711818000-1711832400@walthamsonsofitaly.com
SUMMARY:Babyshower
DESCRIPTION:50 guests\, 5pm to 9pm\, regular set up
URL:https://walthamsonsofitaly.com/event/babyshower-20/
CATEGORIES:Downstairs
END:VEVENT
BEGIN:VEVENT
DTSTART;TZID=America/New_York:20240323T190000
DTEND;TZID=America/New_York:20240323T230000
DTSTAMP:20260424T104950
CREATED:20240309T182343Z
LAST-MODIFIED:20240309T182343Z
UID:10001263-1711220400-1711234800@walthamsonsofitaly.com
SUMMARY:1sr Bday
DESCRIPTION:90 guests\, regular set up\, 7pm to 11pm with possibility of extra hour
URL:https://walthamsonsofitaly.com/event/1sr-bday/
CATEGORIES:Downstairs
END:VEVENT
BEGIN:VEVENT
DTSTART;TZID=America/New_York:20240323T180000
DTEND;TZID=America/New_York:20240323T220000
DTSTAMP:20260424T104950
CREATED:20240309T190351Z
LAST-MODIFIED:20240309T190351Z
UID:10001270-1711216800-1711231200@walthamsonsofitaly.com
SUMMARY:Babyshower
DESCRIPTION:150 guests\, 6pm to 10pm possibility of extra hour\, 2 soda pitchers per table
URL:https://walthamsonsofitaly.com/event/babyshower-21/
CATEGORIES:Upstairs
END:VEVENT
BEGIN:VEVENT
DTSTART;TZID=America/New_York:20240317T190000
DTEND;TZID=America/New_York:20240317T233000
DTSTAMP:20260424T104950
CREATED:20240309T190105Z
LAST-MODIFIED:20240309T190105Z
UID:10001269-1710702000-1710718200@walthamsonsofitaly.com
SUMMARY:Soccer Team Celebration
DESCRIPTION:100 guests\, 7pm to 11pm
URL:https://walthamsonsofitaly.com/event/soccer-team-celebration/
CATEGORIES:Upstairs
END:VEVENT
BEGIN:VEVENT
DTSTART;TZID=America/New_York:20240317T160000
DTEND;TZID=America/New_York:20240317T200000
DTSTAMP:20260424T104951
CREATED:20240309T181504Z
LAST-MODIFIED:20240309T181504Z
UID:10001262-1710691200-1710705600@walthamsonsofitaly.com
SUMMARY:Babyshower
DESCRIPTION:40 guests\, 4pm to 8pm with possibility of extra hour\, regular set up
URL:https://walthamsonsofitaly.com/event/babyshower-19/
CATEGORIES:Downstairs
END:VEVENT
BEGIN:VEVENT
DTSTART;TZID=America/New_York:20240316T120000
DTEND;TZID=America/New_York:20240316T150000
DTSTAMP:20260424T104951
CREATED:20240113T145617Z
LAST-MODIFIED:20240113T145617Z
UID:10001250-1710590400-1710601200@walthamsonsofitaly.com
SUMMARY:Mom's 90th Bday
DESCRIPTION:Member party\, 12pm to 3pm\, 70 guests
URL:https://walthamsonsofitaly.com/event/moms-90th-bday/
CATEGORIES:Downstairs
END:VEVENT
BEGIN:VEVENT
DTSTART;TZID=America/New_York:20240309T150000
DTEND;TZID=America/New_York:20240309T190000
DTSTAMP:20260424T104951
CREATED:20240113T145758Z
LAST-MODIFIED:20240113T145758Z
UID:10001251-1709996400-1710010800@walthamsonsofitaly.com
SUMMARY:Retirement Party
DESCRIPTION:3pm to 7pm\, 90 guests
URL:https://walthamsonsofitaly.com/event/retirement-party/
CATEGORIES:Downstairs
END:VEVENT
BEGIN:VEVENT
DTSTART;TZID=America/New_York:20240302T180000
DTEND;TZID=America/New_York:20240302T220000
DTSTAMP:20260424T104951
CREATED:20240113T145423Z
LAST-MODIFIED:20240113T145423Z
UID:10001249-1709402400-1709416800@walthamsonsofitaly.com
SUMMARY:Bday
DESCRIPTION:6pm to 10pm\, 90 guests
URL:https://walthamsonsofitaly.com/event/bday-9/
CATEGORIES:Downstairs
END:VEVENT
END:VCALENDAR