BEGIN:VCALENDAR
VERSION:2.0
PRODID:-//Sons of Italy Waltham - ECPv6.15.11//NONSGML v1.0//EN
CALSCALE:GREGORIAN
METHOD:PUBLISH
X-WR-CALNAME:Sons of Italy Waltham
X-ORIGINAL-URL:https://walthamsonsofitaly.com
X-WR-CALDESC:Events for Sons of Italy Waltham
REFRESH-INTERVAL;VALUE=DURATION:PT1H
X-Robots-Tag:noindex
X-PUBLISHED-TTL:PT1H
BEGIN:VTIMEZONE
TZID:America/New_York
BEGIN:DAYLIGHT
TZOFFSETFROM:-0500
TZOFFSETTO:-0400
TZNAME:EDT
DTSTART:20220313T070000
END:DAYLIGHT
BEGIN:STANDARD
TZOFFSETFROM:-0400
TZOFFSETTO:-0500
TZNAME:EST
DTSTART:20221106T060000
END:STANDARD
BEGIN:DAYLIGHT
TZOFFSETFROM:-0500
TZOFFSETTO:-0400
TZNAME:EDT
DTSTART:20230312T070000
END:DAYLIGHT
BEGIN:STANDARD
TZOFFSETFROM:-0400
TZOFFSETTO:-0500
TZNAME:EST
DTSTART:20231105T060000
END:STANDARD
BEGIN:DAYLIGHT
TZOFFSETFROM:-0500
TZOFFSETTO:-0400
TZNAME:EDT
DTSTART:20240310T070000
END:DAYLIGHT
BEGIN:STANDARD
TZOFFSETFROM:-0400
TZOFFSETTO:-0500
TZNAME:EST
DTSTART:20241103T060000
END:STANDARD
BEGIN:DAYLIGHT
TZOFFSETFROM:-0500
TZOFFSETTO:-0400
TZNAME:EDT
DTSTART:20250309T070000
END:DAYLIGHT
BEGIN:STANDARD
TZOFFSETFROM:-0400
TZOFFSETTO:-0500
TZNAME:EST
DTSTART:20251102T060000
END:STANDARD
END:VTIMEZONE
BEGIN:VEVENT
DTSTART;TZID=America/New_York:20240217T190000
DTEND;TZID=America/New_York:20240217T230000
DTSTAMP:20260424T121723
CREATED:20240113T145125Z
LAST-MODIFIED:20240113T145125Z
UID:10001247-1708196400-1708210800@walthamsonsofitaly.com
SUMMARY:Babyshower
DESCRIPTION:7pm to 11pm\, possibility of extra hour\, set up at 4pm\, 150 guests
URL:https://walthamsonsofitaly.com/event/babyshower-18/
CATEGORIES:Upstairs
END:VEVENT
BEGIN:VEVENT
DTSTART;TZID=America/New_York:20240217T180000
DTEND;TZID=America/New_York:20240217T220000
DTSTAMP:20260424T121723
CREATED:20240113T144919Z
LAST-MODIFIED:20240113T144919Z
UID:10001246-1708192800-1708207200@walthamsonsofitaly.com
SUMMARY:1st Bday
DESCRIPTION:6pm to 10pm\, 90 guests
URL:https://walthamsonsofitaly.com/event/1st-bday-22/
CATEGORIES:Downstairs
END:VEVENT
BEGIN:VEVENT
DTSTART;TZID=America/New_York:20240211T130000
DTEND;TZID=America/New_York:20240211T233000
DTSTAMP:20260424T121723
CREATED:20231004T173137Z
LAST-MODIFIED:20231004T173137Z
UID:10001221-1707656400-1707694200@walthamsonsofitaly.com
SUMMARY:Members Super Bowl Party
DESCRIPTION:70 guests\, 1pm to close\,  regular set up
URL:https://walthamsonsofitaly.com/event/members-super-bowl-party/
CATEGORIES:Downstairs
END:VEVENT
BEGIN:VEVENT
DTSTART;VALUE=DATE:20240211
DTEND;VALUE=DATE:20240212
DTSTAMP:20260424T121723
CREATED:20240113T144729Z
LAST-MODIFIED:20240113T144729Z
UID:10001245-1707609600-1707695999@walthamsonsofitaly.com
SUMMARY:Member's Super Bowl Party
DESCRIPTION:
URL:https://walthamsonsofitaly.com/event/members-super-bowl-party-2/
CATEGORIES:Downstairs
END:VEVENT
BEGIN:VEVENT
DTSTART;TZID=America/New_York:20240210T190000
DTEND;TZID=America/New_York:20240210T230000
DTSTAMP:20260424T121723
CREATED:20240113T144622Z
LAST-MODIFIED:20240113T144622Z
UID:10001244-1707591600-1707606000@walthamsonsofitaly.com
SUMMARY:50th Bday
DESCRIPTION:7pm to 11pm\, possibility of extra hour\, 90 guests
URL:https://walthamsonsofitaly.com/event/50th-bday-4/
CATEGORIES:Downstairs
END:VEVENT
BEGIN:VEVENT
DTSTART;TZID=America/New_York:20240210T170000
DTEND;TZID=America/New_York:20240210T220000
DTSTAMP:20260424T121723
CREATED:20231004T172946Z
LAST-MODIFIED:20231004T172946Z
UID:10001220-1707584400-1707602400@walthamsonsofitaly.com
SUMMARY:Event
DESCRIPTION:70 guests\, regular set up
URL:https://walthamsonsofitaly.com/event/event-2/
CATEGORIES:Downstairs
END:VEVENT
BEGIN:VEVENT
DTSTART;TZID=America/New_York:20240210T120000
DTEND;TZID=America/New_York:20240210T160000
DTSTAMP:20260424T121723
CREATED:20240113T144358Z
LAST-MODIFIED:20240113T144358Z
UID:10001243-1707566400-1707580800@walthamsonsofitaly.com
SUMMARY:1st Bday
DESCRIPTION:12pm to 3pm\, Needs to be picked up by 4pm for next event\, 60 guests
URL:https://walthamsonsofitaly.com/event/1st-bday-21/
CATEGORIES:Downstairs
END:VEVENT
BEGIN:VEVENT
DTSTART;TZID=America/New_York:20240203T170000
DTEND;TZID=America/New_York:20240203T210000
DTSTAMP:20260424T121723
CREATED:20240113T144005Z
LAST-MODIFIED:20240113T144005Z
UID:10001241-1706979600-1706994000@walthamsonsofitaly.com
SUMMARY:Waltham HS Basketball Fundraiser
DESCRIPTION:
URL:https://walthamsonsofitaly.com/event/waltham-hs-basketball-fundraiser/
CATEGORIES:Upstairs
END:VEVENT
BEGIN:VEVENT
DTSTART;TZID=America/New_York:20240127T060000
DTEND;TZID=America/New_York:20240127T220000
DTSTAMP:20260424T121723
CREATED:20240113T143817Z
LAST-MODIFIED:20240113T143817Z
UID:10001240-1706335200-1706392800@walthamsonsofitaly.com
SUMMARY:Party
DESCRIPTION:6pm to 10pm\, possible extra hour\, 150 guests\, soda pitchers for all tables
URL:https://walthamsonsofitaly.com/event/party-4/
CATEGORIES:Upstairs
END:VEVENT
BEGIN:VEVENT
DTSTART;TZID=America/New_York:20240121T080000
DTEND;TZID=America/New_York:20240121T170000
DTSTAMP:20260424T121723
CREATED:20240113T143533Z
LAST-MODIFIED:20240113T143533Z
UID:10001239-1705824000-1705856400@walthamsonsofitaly.com
SUMMARY:Get Together
DESCRIPTION:
URL:https://walthamsonsofitaly.com/event/get-together/
CATEGORIES:Downstairs
END:VEVENT
BEGIN:VEVENT
DTSTART;TZID=America/New_York:20240120T060000
DTEND;TZID=America/New_York:20240120T220000
DTSTAMP:20260424T121723
CREATED:20240113T143351Z
LAST-MODIFIED:20240113T143351Z
UID:10001238-1705730400-1705788000@walthamsonsofitaly.com
SUMMARY:1st Bday
DESCRIPTION:6pm to 10pm\, possible extra hour\, 90 guests\,  decorating at 10 am
URL:https://walthamsonsofitaly.com/event/1st-bday-20/
CATEGORIES:Downstairs
END:VEVENT
BEGIN:VEVENT
DTSTART;TZID=America/New_York:20240113T080000
DTEND;TZID=America/New_York:20240113T170000
DTSTAMP:20260424T121723
CREATED:20240113T144132Z
LAST-MODIFIED:20240113T144132Z
UID:10001242-1705132800-1705165200@walthamsonsofitaly.com
SUMMARY:4th Bday
DESCRIPTION:6pm to 10pm\, 90 guests
URL:https://walthamsonsofitaly.com/event/4th-bday-2/
CATEGORIES:Downstairs
END:VEVENT
BEGIN:VEVENT
DTSTART;TZID=America/New_York:20240106T170000
DTEND;TZID=America/New_York:20240106T220000
DTSTAMP:20260424T121723
CREATED:20231004T180215Z
LAST-MODIFIED:20231004T180215Z
UID:10001234-1704560400-1704578400@walthamsonsofitaly.com
SUMMARY:1st Bday
DESCRIPTION:150 guests\, possibility of extra hour\, 6pm to 10 pm
URL:https://walthamsonsofitaly.com/event/1st-bday-19/
CATEGORIES:Upstairs
END:VEVENT
BEGIN:VEVENT
DTSTART;TZID=America/New_York:20231231T190000
DTEND;TZID=America/New_York:20231231T230000
DTSTAMP:20260424T121723
CREATED:20230120T233453Z
LAST-MODIFIED:20230120T233453Z
UID:10001125-1704049200-1704063600@walthamsonsofitaly.com
SUMMARY:Christmas Party
DESCRIPTION:70 guests\, regular set up\, Christmas decor
URL:https://walthamsonsofitaly.com/event/christmas-party-2/
CATEGORIES:Upstairs
END:VEVENT
BEGIN:VEVENT
DTSTART;TZID=America/New_York:20231231T080000
DTEND;TZID=America/New_York:20231231T210000
DTSTAMP:20260424T121723
CREATED:20230916T170951Z
LAST-MODIFIED:20230916T170951Z
UID:10001212-1704009600-1704056400@walthamsonsofitaly.com
SUMMARY:Christmas Party
DESCRIPTION: 
URL:https://walthamsonsofitaly.com/event/christmas-party-7/
CATEGORIES:Downstairs
END:VEVENT
BEGIN:VEVENT
DTSTART;TZID=America/New_York:20231230T150000
DTEND;TZID=America/New_York:20231230T190000
DTSTAMP:20260424T121723
CREATED:20231004T172735Z
LAST-MODIFIED:20231004T172735Z
UID:10001219-1703948400-1703962800@walthamsonsofitaly.com
SUMMARY:B-day party
DESCRIPTION:70 guests\, 1pm to 8pm\, regular set up
URL:https://walthamsonsofitaly.com/event/b-day-party/
CATEGORIES:Downstairs
END:VEVENT
BEGIN:VEVENT
DTSTART;TZID=America/New_York:20231223T080000
DTEND;TZID=America/New_York:20231223T210000
DTSTAMP:20260424T121723
CREATED:20230916T170853Z
LAST-MODIFIED:20230916T170853Z
UID:10001211-1703318400-1703365200@walthamsonsofitaly.com
SUMMARY:Member's Christmas Party
DESCRIPTION:
URL:https://walthamsonsofitaly.com/event/members-christmas-party-2/
CATEGORIES:Downstairs
END:VEVENT
BEGIN:VEVENT
DTSTART;VALUE=DATE:20231223
DTEND;VALUE=DATE:20231224
DTSTAMP:20260424T121723
CREATED:20231004T180018Z
LAST-MODIFIED:20231004T180018Z
UID:10001233-1703289600-1703375999@walthamsonsofitaly.com
SUMMARY:Event
DESCRIPTION:Member party
URL:https://walthamsonsofitaly.com/event/event-3/
CATEGORIES:Upstairs
END:VEVENT
BEGIN:VEVENT
DTSTART;TZID=America/New_York:20231217T130000
DTEND;TZID=America/New_York:20231217T170000
DTSTAMP:20260424T121723
CREATED:20230916T170605Z
LAST-MODIFIED:20230916T170605Z
UID:10001210-1702818000-1702832400@walthamsonsofitaly.com
SUMMARY:Christmas Party
DESCRIPTION:60 guests\, 1pm to 5pm\, regular set up
URL:https://walthamsonsofitaly.com/event/christmas-party-6/
CATEGORIES:Downstairs
END:VEVENT
BEGIN:VEVENT
DTSTART;TZID=America/New_York:20231216T180000
DTEND;TZID=America/New_York:20231216T220000
DTSTAMP:20260424T121723
CREATED:20231004T175900Z
LAST-MODIFIED:20231004T175900Z
UID:10001232-1702749600-1702764000@walthamsonsofitaly.com
SUMMARY:1st Bday
DESCRIPTION:100 guests\, 6pm to 10pm
URL:https://walthamsonsofitaly.com/event/1st-bday-18/
CATEGORIES:Upstairs
END:VEVENT
BEGIN:VEVENT
DTSTART;TZID=America/New_York:20231216T130000
DTEND;TZID=America/New_York:20231216T200000
DTSTAMP:20260424T121723
CREATED:20231004T171817Z
LAST-MODIFIED:20231004T171817Z
UID:10001218-1702731600-1702756800@walthamsonsofitaly.com
SUMMARY:Family Reunion
DESCRIPTION:70 guests\, regular set up\, 3pm to 7pm
URL:https://walthamsonsofitaly.com/event/family-reunion/
CATEGORIES:Downstairs
END:VEVENT
BEGIN:VEVENT
DTSTART;TZID=America/New_York:20231210T130000
DTEND;TZID=America/New_York:20231210T170000
DTSTAMP:20260424T121723
CREATED:20230318T135220Z
LAST-MODIFIED:20230318T135220Z
UID:10001174-1702213200-1702227600@walthamsonsofitaly.com
SUMMARY:Christmas Party
DESCRIPTION:60 guests\, 1-5pm\, regular set up
URL:https://walthamsonsofitaly.com/event/christmas-party-5/
CATEGORIES:Downstairs
END:VEVENT
BEGIN:VEVENT
DTSTART;TZID=America/New_York:20231209T180000
DTEND;TZID=America/New_York:20231209T220000
DTSTAMP:20260424T121723
CREATED:20231004T175620Z
LAST-MODIFIED:20231004T175620Z
UID:10001231-1702144800-1702159200@walthamsonsofitaly.com
SUMMARY:15th Bday
DESCRIPTION:100 guests\, 6pm to 10pm
URL:https://walthamsonsofitaly.com/event/15th-bday-10/
CATEGORIES:Upstairs
END:VEVENT
BEGIN:VEVENT
DTSTART;TZID=America/New_York:20231209T170000
DTEND;TZID=America/New_York:20231209T210000
DTSTAMP:20260424T121723
CREATED:20230318T134742Z
LAST-MODIFIED:20230318T134742Z
UID:10001173-1702141200-1702155600@walthamsonsofitaly.com
SUMMARY:Christmas Party
DESCRIPTION:70 guests\, have Christmas decorations up
URL:https://walthamsonsofitaly.com/event/christmas-party-4/
CATEGORIES:Downstairs
END:VEVENT
BEGIN:VEVENT
DTSTART;TZID=America/New_York:20231203T130000
DTEND;TZID=America/New_York:20231203T190000
DTSTAMP:20260424T121723
CREATED:20231004T171133Z
LAST-MODIFIED:20231004T171133Z
UID:10001217-1701608400-1701630000@walthamsonsofitaly.com
SUMMARY:Christmas Party
DESCRIPTION:70 guests\, 1pm to 8pm\, regular set up
URL:https://walthamsonsofitaly.com/event/christmas-party-8/
CATEGORIES:Downstairs
END:VEVENT
BEGIN:VEVENT
DTSTART;TZID=America/New_York:20231202T180000
DTEND;TZID=America/New_York:20231202T220000
DTSTAMP:20260424T121723
CREATED:20231004T175357Z
LAST-MODIFIED:20231004T175357Z
UID:10001230-1701540000-1701554400@walthamsonsofitaly.com
SUMMARY:1st Bday
DESCRIPTION:150 guests\, 6pm to 10 pm
URL:https://walthamsonsofitaly.com/event/1st-bday-17/
CATEGORIES:Upstairs
END:VEVENT
BEGIN:VEVENT
DTSTART;TZID=America/New_York:20231202T170000
DTEND;TZID=America/New_York:20231202T210000
DTSTAMP:20260424T121723
CREATED:20230318T134454Z
LAST-MODIFIED:20230318T134454Z
UID:10001172-1701536400-1701550800@walthamsonsofitaly.com
SUMMARY:Christmas Party
DESCRIPTION:70 guests\, have Christmas decorations up
URL:https://walthamsonsofitaly.com/event/christmas-party-3/
CATEGORIES:Downstairs
END:VEVENT
BEGIN:VEVENT
DTSTART;TZID=America/New_York:20231202T160000
DTEND;TZID=America/New_York:20231202T200000
DTSTAMP:20260424T121723
CREATED:20230120T233047Z
LAST-MODIFIED:20230120T233047Z
UID:10001124-1701532800-1701547200@walthamsonsofitaly.com
SUMMARY:Christmas Party
DESCRIPTION:70 guests\, regular set up\, Christmas decor
URL:https://walthamsonsofitaly.com/event/christmas-party/
CATEGORIES:Downstairs
END:VEVENT
BEGIN:VEVENT
DTSTART;TZID=America/New_York:20231125T180000
DTEND;TZID=America/New_York:20231125T220000
DTSTAMP:20260424T121723
CREATED:20231004T180846Z
LAST-MODIFIED:20231004T180846Z
UID:10001237-1700935200-1700949600@walthamsonsofitaly.com
SUMMARY:30th Bday
DESCRIPTION:150 guests\, 6pm to 10pm\, possibility of extra hour
URL:https://walthamsonsofitaly.com/event/30th-bday-2/
CATEGORIES:Upstairs
END:VEVENT
BEGIN:VEVENT
DTSTART;TZID=America/New_York:20231119T080000
DTEND;TZID=America/New_York:20231119T170000
DTSTAMP:20260424T121723
CREATED:20231004T175210Z
LAST-MODIFIED:20231004T175210Z
UID:10001229-1700380800-1700413200@walthamsonsofitaly.com
SUMMARY:Celebration of destination wedding
DESCRIPTION:150 guests\, regular set up
URL:https://walthamsonsofitaly.com/event/celebration-of-destination-wedding/
CATEGORIES:Upstairs
END:VEVENT
END:VCALENDAR