BEGIN:VCALENDAR
VERSION:2.0
PRODID:-//Sons of Italy Waltham - ECPv6.15.11//NONSGML v1.0//EN
CALSCALE:GREGORIAN
METHOD:PUBLISH
X-WR-CALNAME:Sons of Italy Waltham
X-ORIGINAL-URL:https://walthamsonsofitaly.com
X-WR-CALDESC:Events for Sons of Italy Waltham
REFRESH-INTERVAL;VALUE=DURATION:PT1H
X-Robots-Tag:noindex
X-PUBLISHED-TTL:PT1H
BEGIN:VTIMEZONE
TZID:America/New_York
BEGIN:DAYLIGHT
TZOFFSETFROM:-0500
TZOFFSETTO:-0400
TZNAME:EDT
DTSTART:20220313T070000
END:DAYLIGHT
BEGIN:STANDARD
TZOFFSETFROM:-0400
TZOFFSETTO:-0500
TZNAME:EST
DTSTART:20221106T060000
END:STANDARD
BEGIN:DAYLIGHT
TZOFFSETFROM:-0500
TZOFFSETTO:-0400
TZNAME:EDT
DTSTART:20230312T070000
END:DAYLIGHT
BEGIN:STANDARD
TZOFFSETFROM:-0400
TZOFFSETTO:-0500
TZNAME:EST
DTSTART:20231105T060000
END:STANDARD
BEGIN:DAYLIGHT
TZOFFSETFROM:-0500
TZOFFSETTO:-0400
TZNAME:EDT
DTSTART:20240310T070000
END:DAYLIGHT
BEGIN:STANDARD
TZOFFSETFROM:-0400
TZOFFSETTO:-0500
TZNAME:EST
DTSTART:20241103T060000
END:STANDARD
END:VTIMEZONE
BEGIN:VTIMEZONE
TZID:UTC
BEGIN:STANDARD
TZOFFSETFROM:+0000
TZOFFSETTO:+0000
TZNAME:UTC
DTSTART:20220101T000000
END:STANDARD
END:VTIMEZONE
BEGIN:VEVENT
DTSTART;TZID=America/New_York:20230826T190000
DTEND;TZID=America/New_York:20230826T230000
DTSTAMP:20260424T224602
CREATED:20230503T181633Z
LAST-MODIFIED:20230503T181633Z
UID:10001178-1693076400-1693090800@walthamsonsofitaly.com
SUMMARY:70th Bday
DESCRIPTION:Possibily 120 guests or less\, 7pm-11pm\, regular set up
URL:https://walthamsonsofitaly.com/event/70th-bday/
CATEGORIES:Upstairs
END:VEVENT
BEGIN:VEVENT
DTSTART;TZID=America/New_York:20230826T180000
DTEND;TZID=America/New_York:20230826T220000
DTSTAMP:20260424T224602
CREATED:20230729T152629Z
LAST-MODIFIED:20230729T152629Z
UID:10001200-1693072800-1693087200@walthamsonsofitaly.com
SUMMARY:1st Bday
DESCRIPTION:90 guests\, 6-10pm\, possibility of extra hour
URL:https://walthamsonsofitaly.com/event/1st-bday-12/
END:VEVENT
BEGIN:VEVENT
DTSTART;TZID=America/New_York:20230819T190000
DTEND;TZID=America/New_York:20230819T230000
DTSTAMP:20260424T224602
CREATED:20230503T184245Z
LAST-MODIFIED:20230503T184245Z
UID:10001183-1692471600-1692486000@walthamsonsofitaly.com
SUMMARY:60th Bday
DESCRIPTION:70 guests \, 7pm-11pm\, regular set up
URL:https://walthamsonsofitaly.com/event/60th-bday/
CATEGORIES:Downstairs
END:VEVENT
BEGIN:VEVENT
DTSTART;TZID=America/New_York:20230819T150000
DTEND;TZID=America/New_York:20230819T210000
DTSTAMP:20260424T224602
CREATED:20230715T142916Z
LAST-MODIFIED:20230715T142916Z
UID:10001193-1692457200-1692478800@walthamsonsofitaly.com
SUMMARY:Celebration
DESCRIPTION:100 guests\,  member of hall\, 3pm to 9pm approves by bartender
URL:https://walthamsonsofitaly.com/event/celebration/
CATEGORIES:Upstairs
END:VEVENT
BEGIN:VEVENT
DTSTART;TZID=America/New_York:20230812T190000
DTEND;TZID=America/New_York:20230812T230000
DTSTAMP:20260424T224602
CREATED:20230715T142614Z
LAST-MODIFIED:20230715T142614Z
UID:10001192-1691866800-1691881200@walthamsonsofitaly.com
SUMMARY:Babyshower
DESCRIPTION:120 guests\, 7-11 pm\, possibility of extra hour
URL:https://walthamsonsofitaly.com/event/babyshower-12/
CATEGORIES:Upstairs
END:VEVENT
BEGIN:VEVENT
DTSTART;TZID=America/New_York:20230812T180000
DTEND;TZID=America/New_York:20230812T220000
DTSTAMP:20260424T224602
CREATED:20230729T152357Z
LAST-MODIFIED:20230729T152357Z
UID:10001199-1691863200-1691877600@walthamsonsofitaly.com
SUMMARY:3rd Bday
DESCRIPTION:6-10pm\, 90 guests\, possibility of extra hour
URL:https://walthamsonsofitaly.com/event/3rd-bday/
CATEGORIES:Downstairs
END:VEVENT
BEGIN:VEVENT
DTSTART;TZID=America/New_York:20230806T130000
DTEND;TZID=America/New_York:20230806T170000
DTSTAMP:20260424T224602
CREATED:20230729T152029Z
LAST-MODIFIED:20230729T152029Z
UID:10001198-1691326800-1691341200@walthamsonsofitaly.com
SUMMARY:Babyshower
DESCRIPTION:70 guests\, 1-5pm
URL:https://walthamsonsofitaly.com/event/babyshower-14/
CATEGORIES:Downstairs
END:VEVENT
BEGIN:VEVENT
DTSTART;TZID=America/New_York:20230805T180000
DTEND;TZID=America/New_York:20230805T220000
DTSTAMP:20260424T224602
CREATED:20230729T151852Z
LAST-MODIFIED:20230729T151852Z
UID:10001197-1691258400-1691272800@walthamsonsofitaly.com
SUMMARY:Babyshower
DESCRIPTION:90 guests\, 6-10pm
URL:https://walthamsonsofitaly.com/event/babyshower-13/
CATEGORIES:Downstairs
END:VEVENT
BEGIN:VEVENT
DTSTART;TZID=America/New_York:20230805T180000
DTEND;TZID=America/New_York:20230805T220000
DTSTAMP:20260424T224602
CREATED:20230503T181137Z
LAST-MODIFIED:20230503T181137Z
UID:10001177-1691258400-1691272800@walthamsonsofitaly.com
SUMMARY:Reunion
DESCRIPTION:100 guests\, 6pm-10pm\, 10 tables with 10 chairs each.
URL:https://walthamsonsofitaly.com/event/reunion/
CATEGORIES:Upstairs
END:VEVENT
BEGIN:VEVENT
DTSTART;TZID=America/New_York:20230729T170000
DTEND;TZID=America/New_York:20230729T210000
DTSTAMP:20260424T224602
CREATED:20230512T135751Z
LAST-MODIFIED:20230512T135751Z
UID:10001186-1690650000-1690664400@walthamsonsofitaly.com
SUMMARY:15th Bday
DESCRIPTION:90 guests\,  5-9pm\, possibility of extra hour
URL:https://walthamsonsofitaly.com/event/15th-bday-9/
CATEGORIES:Downstairs
END:VEVENT
BEGIN:VEVENT
DTSTART;TZID=America/New_York:20230729T170000
DTEND;TZID=America/New_York:20230729T210000
DTSTAMP:20260424T224602
CREATED:20230318T133944Z
LAST-MODIFIED:20230318T133944Z
UID:10001171-1690650000-1690664400@walthamsonsofitaly.com
SUMMARY:Wedding
DESCRIPTION:200 guests\, bringing in some extra tables and chairs of own\, non-alcoholic\,  5-9pm
URL:https://walthamsonsofitaly.com/event/wedding-4/
CATEGORIES:Upstairs
END:VEVENT
BEGIN:VEVENT
DTSTART;TZID=America/New_York:20230722T180000
DTEND;TZID=America/New_York:20230722T220000
DTSTAMP:20260424T224602
CREATED:20230304T144550Z
LAST-MODIFIED:20230304T144550Z
UID:10001156-1690048800-1690063200@walthamsonsofitaly.com
SUMMARY:15th Bday
DESCRIPTION:120 guests\, 6-10pm\, possibility of extra hour
URL:https://walthamsonsofitaly.com/event/15th-bday-3/
CATEGORIES:Upstairs
END:VEVENT
BEGIN:VEVENT
DTSTART;TZID=America/New_York:20230715T180000
DTEND;TZID=America/New_York:20230715T220000
DTSTAMP:20260424T224602
CREATED:20230503T183928Z
LAST-MODIFIED:20230503T183928Z
UID:10001182-1689444000-1689458400@walthamsonsofitaly.com
SUMMARY:Babyshower
DESCRIPTION:90 guest’s\,  6pm-10pm\, regular set up plus dessert table as seating table for guests.
URL:https://walthamsonsofitaly.com/event/babyshower-10/
CATEGORIES:Downstairs
END:VEVENT
BEGIN:VEVENT
DTSTART;TZID=America/New_York:20230708T190000
DTEND;TZID=America/New_York:20230708T230000
DTSTAMP:20260424T224602
CREATED:20230217T003258Z
LAST-MODIFIED:20230217T003258Z
UID:10001151-1688842800-1688857200@walthamsonsofitaly.com
SUMMARY:Wedding
DESCRIPTION:90 guests\, 7-11pm\, possibility of extra hour and Openbar.
URL:https://walthamsonsofitaly.com/event/wedding-2/
CATEGORIES:Upstairs
END:VEVENT
BEGIN:VEVENT
DTSTART;TZID=America/New_York:20230701T193000
DTEND;TZID=America/New_York:20230701T233000
DTSTAMP:20260424T224602
CREATED:20230318T133423Z
LAST-MODIFIED:20230318T133423Z
UID:10001170-1688239800-1688254200@walthamsonsofitaly.com
SUMMARY:Wedding
DESCRIPTION:80 guests\, 10 tables with 8 chairs each\, 7:30-pm- 11:30pm
URL:https://walthamsonsofitaly.com/event/wedding-3/
CATEGORIES:Upstairs
END:VEVENT
BEGIN:VEVENT
DTSTART;TZID=America/New_York:20230701T180000
DTEND;TZID=America/New_York:20230701T220000
DTSTAMP:20260424T224602
CREATED:20230503T183614Z
LAST-MODIFIED:20230503T183614Z
UID:10001181-1688234400-1688248800@walthamsonsofitaly.com
SUMMARY:Babyshower
DESCRIPTION:90 guests\, regular set up\, 5pm-9pm
URL:https://walthamsonsofitaly.com/event/babyshower-9/
CATEGORIES:Downstairs
END:VEVENT
BEGIN:VEVENT
DTSTART;TZID=America/New_York:20230624T190000
DTEND;TZID=America/New_York:20230624T230000
DTSTAMP:20260424T224602
CREATED:20230121T001042Z
LAST-MODIFIED:20230121T001042Z
UID:10001132-1687633200-1687647600@walthamsonsofitaly.com
SUMMARY:Graduation
DESCRIPTION:100 guests\, 7-11pm
URL:https://walthamsonsofitaly.com/event/graduation-3/
CATEGORIES:Upstairs
END:VEVENT
BEGIN:VEVENT
DTSTART;TZID=America/New_York:20230624T180000
DTEND;TZID=America/New_York:20230624T220000
DTSTAMP:20260424T224602
CREATED:20230304T163838Z
LAST-MODIFIED:20230304T163838Z
UID:10001163-1687629600-1687644000@walthamsonsofitaly.com
SUMMARY:Birthday
DESCRIPTION:40 Guests\, 6-10pm\, regular set up.
URL:https://walthamsonsofitaly.com/event/birthday-3/
CATEGORIES:Downstairs
END:VEVENT
BEGIN:VEVENT
DTSTART;TZID=America/New_York:20230623T190000
DTEND;TZID=America/New_York:20230623T230000
DTSTAMP:20260424T224602
CREATED:20230217T004039Z
LAST-MODIFIED:20230217T004039Z
UID:10001152-1687546800-1687561200@walthamsonsofitaly.com
SUMMARY:Graduation
DESCRIPTION:160-200 guests\, 7-11 pm\, set up for 160 guests
URL:https://walthamsonsofitaly.com/event/graduation-4/
CATEGORIES:Upstairs
END:VEVENT
BEGIN:VEVENT
DTSTART;TZID=America/New_York:20230617T170000
DTEND;TZID=America/New_York:20230617T210000
DTSTAMP:20260424T224602
CREATED:20230318T133029Z
LAST-MODIFIED:20230318T133029Z
UID:10001169-1687021200-1687035600@walthamsonsofitaly.com
SUMMARY:Babyshower
DESCRIPTION:100 guests\, 5-9pm\, regular set up
URL:https://walthamsonsofitaly.com/event/babyshower-8/
CATEGORIES:Upstairs
END:VEVENT
BEGIN:VEVENT
DTSTART;TZID=UTC:20230610T190000
DTEND;TZID=UTC:20230610T230000
DTSTAMP:20260424T224602
CREATED:20221015T052240Z
LAST-MODIFIED:20221015T052240Z
UID:10001083-1686423600-1686438000@walthamsonsofitaly.com
SUMMARY:function
DESCRIPTION:
URL:https://walthamsonsofitaly.com/event/function-154/
CATEGORIES:Upstairs
END:VEVENT
BEGIN:VEVENT
DTSTART;TZID=America/New_York:20230610T180000
DTEND;TZID=America/New_York:20230610T220000
DTSTAMP:20260424T224602
CREATED:20230512T135458Z
LAST-MODIFIED:20230512T135458Z
UID:10001185-1686420000-1686434400@walthamsonsofitaly.com
SUMMARY:Graduation
DESCRIPTION:90 guests\, 7-11pm\, possible small band coming in
URL:https://walthamsonsofitaly.com/event/graduation-6/
CATEGORIES:Downstairs
END:VEVENT
BEGIN:VEVENT
DTSTART;TZID=UTC:20230609T180000
DTEND;TZID=UTC:20230609T220000
DTSTAMP:20260424T224602
CREATED:20221015T052144Z
LAST-MODIFIED:20221015T052144Z
UID:10001082-1686333600-1686348000@walthamsonsofitaly.com
SUMMARY:function
DESCRIPTION:
URL:https://walthamsonsofitaly.com/event/function-153/
CATEGORIES:Upstairs
END:VEVENT
BEGIN:VEVENT
DTSTART;TZID=America/New_York:20230604T190000
DTEND;TZID=America/New_York:20230604T230000
DTSTAMP:20260424T224602
CREATED:20230503T183008Z
LAST-MODIFIED:20230503T183008Z
UID:10001180-1685905200-1685919600@walthamsonsofitaly.com
SUMMARY:1st Bday
DESCRIPTION:90 guests\,  regular set up plus dessert table set up for guests to be seated.
URL:https://walthamsonsofitaly.com/event/1st-bday-9/
CATEGORIES:Downstairs
END:VEVENT
BEGIN:VEVENT
DTSTART;TZID=America/New_York:20230603T190000
DTEND;TZID=America/New_York:20230603T230000
DTSTAMP:20260424T224602
CREATED:20230217T002727Z
LAST-MODIFIED:20230217T002727Z
UID:10001150-1685818800-1685833200@walthamsonsofitaly.com
SUMMARY:10th Bday
DESCRIPTION:160 guests\, 7-11pm\, possibility of extra hour
URL:https://walthamsonsofitaly.com/event/10th-bday-2/
CATEGORIES:Upstairs
END:VEVENT
BEGIN:VEVENT
DTSTART;TZID=America/New_York:20230603T180000
DTEND;TZID=America/New_York:20230603T220000
DTSTAMP:20260424T224602
CREATED:20230217T002442Z
LAST-MODIFIED:20230217T002442Z
UID:10001149-1685815200-1685829600@walthamsonsofitaly.com
SUMMARY:Birthday Party
DESCRIPTION:40 guests\, 6-10pm\, regular set up
URL:https://walthamsonsofitaly.com/event/birthday-party/
CATEGORIES:Downstairs
END:VEVENT
BEGIN:VEVENT
DTSTART;TZID=UTC:20230602T180000
DTEND;TZID=UTC:20230602T220000
DTSTAMP:20260424T224602
CREATED:20221022T170525Z
LAST-MODIFIED:20221022T170525Z
UID:10001087-1685728800-1685743200@walthamsonsofitaly.com
SUMMARY:Function
DESCRIPTION:
URL:https://walthamsonsofitaly.com/event/function-158/
CATEGORIES:Upstairs
END:VEVENT
BEGIN:VEVENT
DTSTART;TZID=America/New_York:20230528T180000
DTEND;TZID=America/New_York:20230528T220000
DTSTAMP:20260424T224602
CREATED:20230304T143507Z
LAST-MODIFIED:20230304T143507Z
UID:10001155-1685296800-1685311200@walthamsonsofitaly.com
SUMMARY:Graduation
DESCRIPTION:150 guests\, 6-10pm
URL:https://walthamsonsofitaly.com/event/graduation-5/
CATEGORIES:Upstairs
END:VEVENT
BEGIN:VEVENT
DTSTART;TZID=America/New_York:20230527T190000
DTEND;TZID=America/New_York:20230527T230000
DTSTAMP:20260424T224602
CREATED:20230121T000607Z
LAST-MODIFIED:20230121T000607Z
UID:10001131-1685214000-1685228400@walthamsonsofitaly.com
SUMMARY:Graduation
DESCRIPTION:100-125 guests\, 7-11pm
URL:https://walthamsonsofitaly.com/event/graduation-2/
CATEGORIES:Upstairs
END:VEVENT
BEGIN:VEVENT
DTSTART;TZID=America/New_York:20230527T190000
DTEND;TZID=America/New_York:20230527T230000
DTSTAMP:20260424T224602
CREATED:20230120T232823Z
LAST-MODIFIED:20230120T232823Z
UID:10001123-1685214000-1685228400@walthamsonsofitaly.com
SUMMARY:2nd Bday
DESCRIPTION:90 guests\, 7-11pm\, regular set up
URL:https://walthamsonsofitaly.com/event/2nd-bday-2/
CATEGORIES:Downstairs
END:VEVENT
END:VCALENDAR