BEGIN:VCALENDAR
VERSION:2.0
PRODID:-//Sons of Italy Waltham - ECPv6.15.11//NONSGML v1.0//EN
CALSCALE:GREGORIAN
METHOD:PUBLISH
X-WR-CALNAME:Sons of Italy Waltham
X-ORIGINAL-URL:https://walthamsonsofitaly.com
X-WR-CALDESC:Events for Sons of Italy Waltham
REFRESH-INTERVAL;VALUE=DURATION:PT1H
X-Robots-Tag:noindex
X-PUBLISHED-TTL:PT1H
BEGIN:VTIMEZONE
TZID:America/New_York
BEGIN:DAYLIGHT
TZOFFSETFROM:-0500
TZOFFSETTO:-0400
TZNAME:EDT
DTSTART:20220313T070000
END:DAYLIGHT
BEGIN:STANDARD
TZOFFSETFROM:-0400
TZOFFSETTO:-0500
TZNAME:EST
DTSTART:20221106T060000
END:STANDARD
BEGIN:DAYLIGHT
TZOFFSETFROM:-0500
TZOFFSETTO:-0400
TZNAME:EDT
DTSTART:20230312T070000
END:DAYLIGHT
BEGIN:STANDARD
TZOFFSETFROM:-0400
TZOFFSETTO:-0500
TZNAME:EST
DTSTART:20231105T060000
END:STANDARD
BEGIN:DAYLIGHT
TZOFFSETFROM:-0500
TZOFFSETTO:-0400
TZNAME:EDT
DTSTART:20240310T070000
END:DAYLIGHT
BEGIN:STANDARD
TZOFFSETFROM:-0400
TZOFFSETTO:-0500
TZNAME:EST
DTSTART:20241103T060000
END:STANDARD
END:VTIMEZONE
BEGIN:VTIMEZONE
TZID:UTC
BEGIN:STANDARD
TZOFFSETFROM:+0000
TZOFFSETTO:+0000
TZNAME:UTC
DTSTART:20220101T000000
END:STANDARD
END:VTIMEZONE
BEGIN:VEVENT
DTSTART;TZID=America/New_York:20230527T190000
DTEND;TZID=America/New_York:20230527T230000
DTSTAMP:20260424T213907
CREATED:20230121T000607Z
LAST-MODIFIED:20230121T000607Z
UID:10001131-1685214000-1685228400@walthamsonsofitaly.com
SUMMARY:Graduation
DESCRIPTION:100-125 guests\, 7-11pm
URL:https://walthamsonsofitaly.com/event/graduation-2/
CATEGORIES:Upstairs
END:VEVENT
BEGIN:VEVENT
DTSTART;TZID=America/New_York:20230527T190000
DTEND;TZID=America/New_York:20230527T230000
DTSTAMP:20260424T213907
CREATED:20230120T232823Z
LAST-MODIFIED:20230120T232823Z
UID:10001123-1685214000-1685228400@walthamsonsofitaly.com
SUMMARY:2nd Bday
DESCRIPTION:90 guests\, 7-11pm\, regular set up
URL:https://walthamsonsofitaly.com/event/2nd-bday-2/
CATEGORIES:Downstairs
END:VEVENT
BEGIN:VEVENT
DTSTART;TZID=America/New_York:20230521T180000
DTEND;TZID=America/New_York:20230521T220000
DTSTAMP:20260424T213907
CREATED:20230318T132609Z
LAST-MODIFIED:20230318T132609Z
UID:10001168-1684692000-1684706400@walthamsonsofitaly.com
SUMMARY:15th Bday
DESCRIPTION:90 guests\, 6-10pm\, set up for 100 guest
URL:https://walthamsonsofitaly.com/event/15th-bday-7/
CATEGORIES:Upstairs
END:VEVENT
BEGIN:VEVENT
DTSTART;TZID=America/New_York:20230520T190000
DTEND;TZID=America/New_York:20230520T230000
DTSTAMP:20260424T213907
CREATED:20230304T163517Z
LAST-MODIFIED:20230304T163517Z
UID:10001162-1684609200-1684623600@walthamsonsofitaly.com
SUMMARY:50th Bday
DESCRIPTION:60 Guests\, 7-11 pm\, regular set up
URL:https://walthamsonsofitaly.com/event/50th-bday-3/
CATEGORIES:Downstairs
END:VEVENT
BEGIN:VEVENT
DTSTART;TZID=America/New_York:20230520T190000
DTEND;TZID=America/New_York:20230520T230000
DTSTAMP:20260424T213907
CREATED:20230121T000256Z
LAST-MODIFIED:20230121T000256Z
UID:10001130-1684609200-1684623600@walthamsonsofitaly.com
SUMMARY:Wedding
DESCRIPTION:80 people\, 7-11pm\, 8 tables with 10 chairs each
URL:https://walthamsonsofitaly.com/event/wedding/
CATEGORIES:Upstairs
END:VEVENT
BEGIN:VEVENT
DTSTART;TZID=America/New_York:20230520T120000
DTEND;TZID=America/New_York:20230520T153000
DTSTAMP:20260424T213907
CREATED:20230121T000033Z
LAST-MODIFIED:20230121T000033Z
UID:10001129-1684584000-1684596600@walthamsonsofitaly.com
SUMMARY:5th Bday
DESCRIPTION:40 people\, 12-3:30pm\, will be done by 4pm
URL:https://walthamsonsofitaly.com/event/5th-bday/
CATEGORIES:Upstairs
END:VEVENT
BEGIN:VEVENT
DTSTART;TZID=America/New_York:20230519T190000
DTEND;TZID=America/New_York:20230519T230000
DTSTAMP:20260424T213907
CREATED:20230512T135205Z
LAST-MODIFIED:20230512T135205Z
UID:10001184-1684522800-1684537200@walthamsonsofitaly.com
SUMMARY:34th Bday
DESCRIPTION:90 guests\, 7-11pm
URL:https://walthamsonsofitaly.com/event/34th-bday/
CATEGORIES:Downstairs
END:VEVENT
BEGIN:VEVENT
DTSTART;TZID=America/New_York:20230513T190000
DTEND;TZID=America/New_York:20230513T230000
DTSTAMP:20260424T213907
CREATED:20230210T005613Z
LAST-MODIFIED:20230210T005613Z
UID:10001147-1684004400-1684018800@walthamsonsofitaly.com
SUMMARY:1st Bday
DESCRIPTION:120 people\,  7-11pm
URL:https://walthamsonsofitaly.com/event/1st-bday-6/
CATEGORIES:Upstairs
END:VEVENT
BEGIN:VEVENT
DTSTART;TZID=America/New_York:20230513T190000
DTEND;TZID=America/New_York:20230513T230000
DTSTAMP:20260424T213907
CREATED:20230127T001402Z
LAST-MODIFIED:20230127T001402Z
UID:10001138-1684004400-1684018800@walthamsonsofitaly.com
SUMMARY:1st Bday
DESCRIPTION:120 guests\, 7-11pm\, possibility of extra hour
URL:https://walthamsonsofitaly.com/event/1st-bday-3/
END:VEVENT
BEGIN:VEVENT
DTSTART;TZID=America/New_York:20230513T180000
DTEND;TZID=America/New_York:20230513T220000
DTSTAMP:20260424T213907
CREATED:20230304T163257Z
LAST-MODIFIED:20230304T163257Z
UID:10001161-1684000800-1684015200@walthamsonsofitaly.com
SUMMARY:50th Bday
DESCRIPTION:
URL:https://walthamsonsofitaly.com/event/50th-bday-2/
CATEGORIES:Downstairs
END:VEVENT
BEGIN:VEVENT
DTSTART;TZID=America/New_York:20230512T190000
DTEND;TZID=America/New_York:20230512T230000
DTSTAMP:20260424T213907
CREATED:20230120T235545Z
LAST-MODIFIED:20230120T235545Z
UID:10001128-1683918000-1683932400@walthamsonsofitaly.com
SUMMARY:Graduation
DESCRIPTION:100 guests\, 7-11pm\, head count might chance
URL:https://walthamsonsofitaly.com/event/graduation/
CATEGORIES:Upstairs
END:VEVENT
BEGIN:VEVENT
DTSTART;TZID=America/New_York:20230507T180000
DTEND;TZID=America/New_York:20230507T220000
DTSTAMP:20260424T213907
CREATED:20230304T161954Z
LAST-MODIFIED:20230304T161954Z
UID:10001160-1683482400-1683496800@walthamsonsofitaly.com
SUMMARY:15th Bday
DESCRIPTION:90 guests\, regular set up\, 6-10pm
URL:https://walthamsonsofitaly.com/event/15th-bday-6/
CATEGORIES:Downstairs
END:VEVENT
BEGIN:VEVENT
DTSTART;TZID=America/New_York:20230506T190000
DTEND;TZID=America/New_York:20230506T230000
DTSTAMP:20260424T213907
CREATED:20230127T000925Z
LAST-MODIFIED:20230127T000925Z
UID:10001137-1683399600-1683414000@walthamsonsofitaly.com
SUMMARY:1st Bday
DESCRIPTION:130 guests\, 7-11pm
URL:https://walthamsonsofitaly.com/event/1st-bday-2/
CATEGORIES:Upstairs
END:VEVENT
BEGIN:VEVENT
DTSTART;TZID=America/New_York:20230506T180000
DTEND;TZID=America/New_York:20230506T220000
DTSTAMP:20260424T213907
CREATED:20230120T232622Z
LAST-MODIFIED:20230120T232622Z
UID:10001122-1683396000-1683410400@walthamsonsofitaly.com
SUMMARY:Friends gathering
DESCRIPTION:70 people\, 6-10pm\, regular set up
URL:https://walthamsonsofitaly.com/event/friends-gathering-2/
CATEGORIES:Downstairs
END:VEVENT
BEGIN:VEVENT
DTSTART;TZID=America/New_York:20230504T180000
DTEND;TZID=America/New_York:20230504T220000
DTSTAMP:20260424T213907
CREATED:20230120T232443Z
LAST-MODIFIED:20230120T232443Z
UID:10001121-1683223200-1683237600@walthamsonsofitaly.com
SUMMARY:Friends gathering
DESCRIPTION:70 guests\, 6-10pm\, regular set up
URL:https://walthamsonsofitaly.com/event/friends-gathering/
CATEGORIES:Downstairs
END:VEVENT
BEGIN:VEVENT
DTSTART;TZID=UTC:20230501T120000
DTEND;TZID=UTC:20230501T170000
DTSTAMP:20260424T213907
CREATED:20221015T052048Z
LAST-MODIFIED:20221015T052048Z
UID:10001081-1682942400-1682960400@walthamsonsofitaly.com
SUMMARY:testing
DESCRIPTION:
URL:https://walthamsonsofitaly.com/event/testing-2/
CATEGORIES:Downstairs
END:VEVENT
BEGIN:VEVENT
DTSTART;TZID=America/New_York:20230430T130000
DTEND;TZID=America/New_York:20230430T160000
DTSTAMP:20260424T213907
CREATED:20230329T181013Z
LAST-MODIFIED:20230329T181013Z
UID:10001175-1682859600-1682870400@walthamsonsofitaly.com
SUMMARY:80th Bday
DESCRIPTION:Regular set up\, 1-4pm
URL:https://walthamsonsofitaly.com/event/80th-bday/
CATEGORIES:Downstairs
END:VEVENT
BEGIN:VEVENT
DTSTART;TZID=America/New_York:20230429T180000
DTEND;TZID=America/New_York:20230429T220000
DTSTAMP:20260424T213907
CREATED:20230304T161724Z
LAST-MODIFIED:20230304T161724Z
UID:10001159-1682791200-1682805600@walthamsonsofitaly.com
SUMMARY:55th Bday
DESCRIPTION:54 guests\, 9 tables with 6 chairs each\, 6-10pm
URL:https://walthamsonsofitaly.com/event/55th-bday/
CATEGORIES:Downstairs
END:VEVENT
BEGIN:VEVENT
DTSTART;TZID=America/New_York:20230429T120000
DTEND;TZID=America/New_York:20230429T170000
DTSTAMP:20260424T213907
CREATED:20221031T102719Z
LAST-MODIFIED:20221031T102719Z
UID:10001095-1682769600-1682787600@walthamsonsofitaly.com
SUMMARY:Function
DESCRIPTION:
URL:https://walthamsonsofitaly.com/event/function-160/
CATEGORIES:Upstairs
END:VEVENT
BEGIN:VEVENT
DTSTART;TZID=America/New_York:20230428T183000
DTEND;TZID=America/New_York:20230428T223000
DTSTAMP:20260424T213907
CREATED:20230304T142251Z
LAST-MODIFIED:20230304T142251Z
UID:10001154-1682706600-1682721000@walthamsonsofitaly.com
SUMMARY:40th Bday
DESCRIPTION:150 Guests\, 6:30-10:30pm\, possibly of extra hour
URL:https://walthamsonsofitaly.com/event/40th-bday/
CATEGORIES:Upstairs
END:VEVENT
BEGIN:VEVENT
DTSTART;TZID=America/New_York:20230423T130000
DTEND;TZID=America/New_York:20230423T170000
DTSTAMP:20260424T213907
CREATED:20230318T132106Z
LAST-MODIFIED:20230318T132106Z
UID:10001167-1682254800-1682269200@walthamsonsofitaly.com
SUMMARY:1st Bday
DESCRIPTION:60 guests\, 7 tables with 8 chairs each\, 1-5pm
URL:https://walthamsonsofitaly.com/event/1st-bday-8/
CATEGORIES:Upstairs
END:VEVENT
BEGIN:VEVENT
DTSTART;TZID=America/New_York:20230422T180000
DTEND;TZID=America/New_York:20230422T220000
DTSTAMP:20260424T213907
CREATED:20230127T000731Z
LAST-MODIFIED:20230127T000731Z
UID:10001136-1682186400-1682200800@walthamsonsofitaly.com
SUMMARY:Babyshower
DESCRIPTION:130 guests\,  6-10pm
URL:https://walthamsonsofitaly.com/event/babyshower-5/
CATEGORIES:Upstairs
END:VEVENT
BEGIN:VEVENT
DTSTART;TZID=America/New_York:20230422T083000
DTEND;TZID=America/New_York:20230422T133000
DTSTAMP:20260424T213907
CREATED:20230329T195442Z
LAST-MODIFIED:20230329T195442Z
UID:10001176-1682152200-1682170200@walthamsonsofitaly.com
SUMMARY:Meeting
DESCRIPTION:Regular set up\, 30-40 guests
URL:https://walthamsonsofitaly.com/event/meeting/
CATEGORIES:Downstairs
END:VEVENT
BEGIN:VEVENT
DTSTART;TZID=America/New_York:20230422T080000
DTEND;TZID=America/New_York:20230422T170000
DTSTAMP:20260424T213907
CREATED:20230318T130634Z
LAST-MODIFIED:20230318T130634Z
UID:10001165-1682150400-1682182800@walthamsonsofitaly.com
SUMMARY:Bday
DESCRIPTION:50 guests\, 6-10pm \, regular set up
URL:https://walthamsonsofitaly.com/event/bday-5/
CATEGORIES:Downstairs
END:VEVENT
BEGIN:VEVENT
DTSTART;TZID=America/New_York:20230415T190000
DTEND;TZID=America/New_York:20230415T230000
DTSTAMP:20260424T213907
CREATED:20230120T231425Z
LAST-MODIFIED:20230120T231425Z
UID:10001120-1681585200-1681599600@walthamsonsofitaly.com
SUMMARY:15th Bday
DESCRIPTION:140 guests\, 14 tables\, 10 chairs each
URL:https://walthamsonsofitaly.com/event/15th-bday/
CATEGORIES:Upstairs
END:VEVENT
BEGIN:VEVENT
DTSTART;TZID=America/New_York:20230415T170000
DTEND;TZID=America/New_York:20230415T210000
DTSTAMP:20260424T213907
CREATED:20230304T161039Z
LAST-MODIFIED:20230304T161039Z
UID:10001158-1681578000-1681592400@walthamsonsofitaly.com
SUMMARY:1st Bday
DESCRIPTION:90 guests\, 5-9pm\, regular set up
URL:https://walthamsonsofitaly.com/event/1st-bday-7/
CATEGORIES:Downstairs
END:VEVENT
BEGIN:VEVENT
DTSTART;TZID=America/New_York:20230408T173000
DTEND;TZID=America/New_York:20230408T213000
DTSTAMP:20260424T213907
CREATED:20230304T160517Z
LAST-MODIFIED:20230304T160517Z
UID:10001157-1680975000-1680989400@walthamsonsofitaly.com
SUMMARY:Waltham High School Scavenger Hunt
DESCRIPTION:5:30 pm – 9:30 pm\, regular set up\, 2 long tables in front of fire place
URL:https://walthamsonsofitaly.com/event/waltham-high-school-scavenger-hunt/
CATEGORIES:Downstairs
END:VEVENT
BEGIN:VEVENT
DTSTART;TZID=America/New_York:20230408T170000
DTEND;TZID=America/New_York:20230408T210000
DTSTAMP:20260424T213907
CREATED:20230203T005907Z
LAST-MODIFIED:20230203T005907Z
UID:10001142-1680973200-1680987600@walthamsonsofitaly.com
SUMMARY:Babyshower
DESCRIPTION:100 guests\, 5-9pm\, might want less chairs per table.
URL:https://walthamsonsofitaly.com/event/babyshower-6/
CATEGORIES:Upstairs
END:VEVENT
BEGIN:VEVENT
DTSTART;TZID=America/New_York:20230408T080000
DTEND;TZID=America/New_York:20230408T170000
DTSTAMP:20260424T213907
CREATED:20230210T000740Z
LAST-MODIFIED:20230210T000740Z
UID:10001144-1680940800-1680973200@walthamsonsofitaly.com
SUMMARY:Right\, Left\, Center Night
DESCRIPTION:Members
URL:https://walthamsonsofitaly.com/event/right-left-center-night/
CATEGORIES:Downstairs
END:VEVENT
BEGIN:VEVENT
DTSTART;TZID=UTC:20230403T120000
DTEND;TZID=UTC:20230403T160000
DTSTAMP:20260424T213907
CREATED:20221015T051948Z
LAST-MODIFIED:20221015T051948Z
UID:10001080-1680523200-1680537600@walthamsonsofitaly.com
SUMMARY:testing
DESCRIPTION:
URL:https://walthamsonsofitaly.com/event/testing/
CATEGORIES:Downstairs
END:VEVENT
END:VCALENDAR